From mboxrd@z Thu Jan  1 00:00:00 1970
Return-Path: <test-report-bounces@dpdk.org>
Received: from mails.dpdk.org (mails.dpdk.org [217.70.189.124])
	by inbox.dpdk.org (Postfix) with ESMTP id 6A15546A07
	for <public@inbox.dpdk.org>; Fri, 20 Jun 2025 06:51:37 +0200 (CEST)
Received: from mails.dpdk.org (localhost [127.0.0.1])
	by mails.dpdk.org (Postfix) with ESMTP id 5FED5400D7;
	Fri, 20 Jun 2025 06:51:37 +0200 (CEST)
Received: from mail-oi1-f225.google.com (mail-oi1-f225.google.com
 [209.85.167.225])
 by mails.dpdk.org (Postfix) with ESMTP id 3643C400D7
 for <test-report@dpdk.org>; Fri, 20 Jun 2025 06:51:36 +0200 (CEST)
Received: by mail-oi1-f225.google.com with SMTP id
 5614622812f47-40a8013d961so348666b6e.0
 for <test-report@dpdk.org>; Thu, 19 Jun 2025 21:51:36 -0700 (PDT)
DKIM-Signature: v=1; a=rsa-sha256; c=relaxed/relaxed;
 d=iol.unh.edu; s=unh-iol; t=1750395095; x=1750999895; darn=dpdk.org;
 h=references:in-reply-to:cc:to:from:subject:message-id:date:from:to
 :cc:subject:date:message-id:reply-to;
 bh=zytHf8iBactipWl4oFuryRsRY26CPwJfafqeYrSrxfE=;
 b=JIdfliZ988fO2CizV+JZZe78GpribI5Uif3ePFlK/o/HyLC9/IpQMz9S+8gO2Qtj1Z
 W01cDTK1CqbO9LMYjUteZkfUl/b6JLlw0qrMOYedQlgGYkIcDx62oDNCVSSWpDacPhlK
 sqzP8+4KuVJd6xDR9p69sp8yacJJH00NClwJc=
X-Google-DKIM-Signature: v=1; a=rsa-sha256; c=relaxed/relaxed;
 d=1e100.net; s=20230601; t=1750395095; x=1750999895;
 h=references:in-reply-to:cc:to:from:subject:message-id:date
 :x-gm-message-state:from:to:cc:subject:date:message-id:reply-to;
 bh=zytHf8iBactipWl4oFuryRsRY26CPwJfafqeYrSrxfE=;
 b=j4f6QpkHEt3wNZgRy0O+ZlosHu1hMfw9m+l8bfcfBmNGXGOKW4zwSQsw1/rEZDKaf/
 q1eLgRlaQHFs8ztjOENACJJWCXwz0XMNgiTCm2BJS++yzvEN9PdxtgNcgH5+Kdr6mwvM
 KDRpohKzDKo655bGvRAT11l54D4dwJjif8bFRGOhS66+o9dms0F7kJwr0URbA81+rF/C
 CIKvN3ngnJ7pW4ATM7/x+Svl586UdP0agvzvEwpEvJVlO3L4XlvlCt1T9xjN7qWeWgu/
 2p6FsfHGHfn3M3yVvdiwuSJuB/CsheGYbZ2vLAWW33LSrgTZAa6HQ2f4or/5lkk0mFfW
 Q/5Q==
X-Gm-Message-State: AOJu0Yy4QgSWuQ1LIuv35MipaSRi3hAPgZMYQdFVu/RBkOxwt8rq2W/m
 8+GwZp+Afb1ZlL5uwmMTSqn6FTMcCf3fsqFEH7ywzO//jpYax1Y8tXquFrKR01VBRJFjfXbjWWE
 z/xCiDB0Q9o/kteVJE76Q9ktBvm1ujSjJsYHCeR8cF4gA
X-Gm-Gg: ASbGncvmdqqsnPIDgSTvFU+2Yjk/igODe3mJ/lLswRSi/Jt5ncmETWNUOC/2J7tmtpA
 Q7D7IsM25TjBc+K+dpnqNG2DHeFFGITcPb23yWub8cm3LefuzymVafqRLNbbO+doYzypYRHj5BG
 sSU5ERf11o5ggJrdVB7YepPRCCiYzO2E8NF/YzUtLmmgL9YPttTjHMpRI8BWmswISBhU2PhhoYF
 BMd9uDtlkvrtw3cuUIAZ9BFlkv5+Vx+tKXRMFsgm7HnuBqpG/efZEeTG3m7YcJj/zM+skzPu5xA
 ThwJn8JNnwhXEHtfgPArzx5sElTN1+S6L8btRH3DrzaMppMLhRNdR6xIHl4feKBF0tEfSA==
X-Google-Smtp-Source: AGHT+IHdKwzzPTHznzZSiqeWgQVW5CAELQMvWLWGSTSx+LP+OGBm56AP/O6WjGDL4bi21odiPp0kJ7XRbKTx
X-Received: by 2002:a05:6870:b421:b0:29e:67cd:1a8f with SMTP id
 586e51a60fabf-2eeee642ec0mr775018fac.37.1750395095367; 
 Thu, 19 Jun 2025 21:51:35 -0700 (PDT)
Received: from postal.iol.unh.edu (postal.iol.unh.edu. [132.177.123.84])
 by smtp-relay.gmail.com with ESMTPS id
 586e51a60fabf-2ee6644f4c6sm74220fac.1.2025.06.19.21.51.35
 (version=TLS1_2 cipher=ECDHE-ECDSA-AES128-GCM-SHA256 bits=128/128);
 Thu, 19 Jun 2025 21:51:35 -0700 (PDT)
X-Relaying-Domain: iol.unh.edu
Date: Thu, 19 Jun 2025 21:51:35 -0700 (PDT)
Message-ID: <6854e8d7.050a0220.28420d.3832SMTPIN_ADDED_MISSING@mx.google.com>
Received: from [172.21.0.5] (unknown [172.18.0.240])
 by postal.iol.unh.edu (Postfix) with ESMTP id D65C66051830;
 Fri, 20 Jun 2025 00:51:34 -0400 (EDT)
Subject: |SUCCESS| pw154607-154608 [PATCH] [v3,2/2] crypto/uadk: use async mo
From: dpdklab@iol.unh.edu
To: Test Report <test-report@dpdk.org>
Cc: dpdk-test-reports@iol.unh.edu
In-Reply-To: <20250620033515.86501-3-zhangfei.gao@linaro.org>
References: <20250620033515.86501-3-zhangfei.gao@linaro.org>
Content-Type: text/plain
X-BeenThere: test-report@dpdk.org
X-Mailman-Version: 2.1.29
Precedence: list
List-Id: automatic DPDK test reports <test-report.dpdk.org>
List-Unsubscribe: <https://mails.dpdk.org/options/test-report>,
 <mailto:test-report-request@dpdk.org?subject=unsubscribe>
List-Archive: <http://mails.dpdk.org/archives/test-report/>
List-Post: <mailto:test-report@dpdk.org>
List-Help: <mailto:test-report-request@dpdk.org?subject=help>
List-Subscribe: <https://mails.dpdk.org/listinfo/test-report>,
 <mailto:test-report-request@dpdk.org?subject=subscribe>
Errors-To: test-report-bounces@dpdk.org

Test-Label: iol-unit-amd64-testing
Test-Status: SUCCESS
http://dpdk.org/patch/154608

_Testing PASS_

Submitter: Zhangfei Gao <zhangfei.gao@linaro.org>
Date: Friday, June 20 2025 03:35:15 
DPDK git baseline: Repo:dpdk
  Branch: master
  CommitID:0c62b5fc83da79ef1ceb9bf75b3e28081cc19b43

154607-154608 --> testing pass

Upstream job id: Generic-Unit-Test-DPDK#347961

Test environment and result as below:

+-------------------------------+----------------+
|          Environment          | dpdk_unit_test |
+===============================+================+
| Fedora Linux 41               | PASS           |
+-------------------------------+----------------+
| CentOS Stream 10              | PASS           |
+-------------------------------+----------------+
| Debian GNU/Linux 12           | PASS           |
+-------------------------------+----------------+
| CentOS Stream 9               | PASS           |
+-------------------------------+----------------+
| Fedora Linux 40               | PASS           |
+-------------------------------+----------------+
| Red Hat Enterprise Linux 8.10 | PASS           |
+-------------------------------+----------------+
| Red Hat Enterprise Linux 9.5  | PASS           |
+-------------------------------+----------------+
| Ubuntu 20.04                  | PASS           |
+-------------------------------+----------------+
| Ubuntu 24.04                  | PASS           |
+-------------------------------+----------------+
| Ubuntu 22.04                  | PASS           |
+-------------------------------+----------------+


Fedora Linux 41
	Kernel: 5.15
	Compiler: gcc gcc (GCC) 14.3.1 20250523 (Red Hat 14.3.1-1)

CentOS Stream 10
	Kernel: 5.15
	Compiler: gcc gcc (GCC) 14.2.1 20250110 (Red Hat 14.2.1-8)

Debian GNU/Linux 12
	Kernel: 5.15
	Compiler: gcc gcc (Debian 12.2.0-14+deb12u1) 12.2.0

CentOS Stream 9
	Kernel: 5.15
	Compiler: gcc gcc (GCC) 11.5.0 20240719 (Red Hat 11.5.0-7)

Fedora Linux 40
	Kernel: 5.15
	Compiler: gcc gcc (GCC) 14.2.1 20240912 (Red Hat 14.2.1-3)

Red Hat Enterprise Linux 8.10
	Kernel: 5.15
	Compiler: gcc gcc (GCC) 8.5.0 20210514 (Red Hat 8.5.0-22)

Red Hat Enterprise Linux 9.5
	Kernel: 5.15
	Compiler: gcc gcc (GCC) 11.5.0 20240719 (Red Hat 11.5.0-2)

Ubuntu 20.04
	Kernel: 5.15
	Compiler: gcc gcc (Ubuntu 9.4.0-1ubuntu1~20.04.2) 9.4.0

Ubuntu 24.04
	Kernel: 5.15
	Compiler: gcc gcc (Ubuntu 13.3.0-6ubuntu2~24.04) 13.3.0

Ubuntu 22.04
	Kernel: 5.15
	Compiler: gcc gcc (Ubuntu 11.4.0-1ubuntu1~22.04) 11.4.0

To view detailed results, visit:
https://lab.dpdk.org/results/dashboard/patchsets/33467/

UNH-IOL DPDK Community Lab

To manage your email subscriptions, visit: 
https://lab.dpdk.org/results/dashboard/preferences/subscriptions/