From mboxrd@z Thu Jan 1 00:00:00 1970 Return-Path: Received: from mails.dpdk.org (mails.dpdk.org [217.70.189.124]) by inbox.dpdk.org (Postfix) with ESMTP id 4323D46C95 for ; Sat, 9 Aug 2025 00:11:34 +0200 (CEST) Received: from mails.dpdk.org (localhost [127.0.0.1]) by mails.dpdk.org (Postfix) with ESMTP id 2427B4026C; Sat, 9 Aug 2025 00:11:34 +0200 (CEST) Received: from mail-pl1-f228.google.com (mail-pl1-f228.google.com [209.85.214.228]) by mails.dpdk.org (Postfix) with ESMTP id 1688C4026C for ; Sat, 9 Aug 2025 00:11:33 +0200 (CEST) Received: by mail-pl1-f228.google.com with SMTP id d9443c01a7336-2403c13cac3so27148235ad.0 for ; Fri, 08 Aug 2025 15:11:32 -0700 (PDT) DKIM-Signature: v=1; a=rsa-sha256; c=relaxed/relaxed; d=iol.unh.edu; s=unh-iol; t=1754691092; x=1755295892; darn=dpdk.org; h=references:in-reply-to:cc:to:from:subject:message-id:date:from:to :cc:subject:date:message-id:reply-to; bh=7IEXfuSATXsz8D8Gl0HPLpbH9ajD8IgE6EJDfY4w/gs=; b=fyd3L29lmX5H0b7UMsYFvMQFVtUr8kFAQQXTVScOipKIAxBTkAPJuPLFds6c6EjO19 7e95HnGE0Z97guvl6Vq8dieVe0PSL1tz2VvWy5QkmQThv6Cf8GkZJfgn6MBXjppGpW4P 0sWY6i5+lB5flKkX9XJsOGy3PsUU10SJMZr3A= X-Google-DKIM-Signature: v=1; a=rsa-sha256; c=relaxed/relaxed; d=1e100.net; s=20230601; t=1754691092; x=1755295892; h=references:in-reply-to:cc:to:from:subject:message-id:date :x-gm-message-state:from:to:cc:subject:date:message-id:reply-to; bh=7IEXfuSATXsz8D8Gl0HPLpbH9ajD8IgE6EJDfY4w/gs=; b=hjengjwybkXrOPMpHs9Ayks9xXNnSXFHJsqlLFkxPrkiRVRI7aZ/YP7W7QX7isVSZk Ixnd0X2rGw8ClXgfoVKP95L/fcLTpdn1CkBc+q4QaTKeLezgLs3w+lC8egwPj05hjepe 2TRjwvOcgXI3j/gieOXTwQ8ij2EowdqAOgmbC0wJMBgu4/6BtfHohDTIOfOmuBLw21z+ VEOTuwpefW8rnIFzDzfS5tTKQL9+B9p+NvuosakM0S4P4I4GRRuCj7M78OAO2q6Dd/xD rL2Nk27qMiHM4lKZp/buv0YaqqAmvSWGGX/FxzmQckt5Xj/wk0Yj89aBfsY3TU/p/eaD cIOw== X-Gm-Message-State: AOJu0YzNb04wxZhD/9dUbAeBaxo1CAJloLNZZQ/lEO4hoFHuUTxbecp/ 5uQWN3QWYrQl8RIDonTXvtUFLKnCyTuCHJFLtXDyMctgjNgMUy1c+6MaPxRlFnNWAH3bISb1CKc eLgrSbeVcjtLTjB8lGo0pbBPh9rebN1c5G9JnLb9l+FstHeekTNe6sdGHSji2 X-Gm-Gg: ASbGnctRe2cx+I9LWjCfmIdmawX+LCNL1yrv9Ibu6oBlaNoPovTU2smxFoRZLNQa/Go fJjbxeVw+WSWyk7xrHVVKQSZKlonMfg7OJxmLItMGiKwCKy2UyWNtMW6L4DHy3hWEEh8V+IRkT6 8axdf1b1+t5eAaJmJNiLkeBiBAhtLCMinRrIp//Ifsh6xVhiwJGwQsVsOzBrE+UWIzWIXk9FJeR nAiuGA/2q2THIXtxIfkD4X7AaCkpf+lTnXLCRbtvLJ+1ZPiTfFgvfCJvhjxIjzz6A4urTx4iYtS WLDxaVD259QQfHQisYYt2Gu8ldJHaIDFhVhN8F5UBxtBUyLwqQ== X-Google-Smtp-Source: AGHT+IGrMU548saexamwVlcFRMRn2kj48AWqW+n04kCfyVHiTC+Mbi76coyhIaTrg2LzRFFNmL3Mh2oRlY4C X-Received: by 2002:a17:903:8c8:b0:240:4683:90a0 with SMTP id d9443c01a7336-242b060b8b3mr126205055ad.6.1754691092120; Fri, 08 Aug 2025 15:11:32 -0700 (PDT) Received: from postal.iol.unh.edu (postal.iol.unh.edu. [2606:4100:3880:1234::84]) by smtp-relay.gmail.com with ESMTPS id d9443c01a7336-241e8976e32sm15097995ad.56.2025.08.08.15.11.32 (version=TLS1_2 cipher=ECDHE-ECDSA-AES128-GCM-SHA256 bits=128/128); Fri, 08 Aug 2025 15:11:32 -0700 (PDT) X-Relaying-Domain: iol.unh.edu Date: Fri, 08 Aug 2025 15:11:32 -0700 (PDT) Message-ID: <68967614.170a0220.e9faa.2f4bSMTPIN_ADDED_MISSING@mx.google.com> Received: from [172.21.0.3] (unknown [172.18.0.240]) by postal.iol.unh.edu (Postfix) with ESMTP id 6605C604D420; Fri, 8 Aug 2025 18:11:31 -0400 (EDT) Subject: |SUCCESS| pw155742-155743 [PATCH] [2/2] mailmap: sort mailmap From: dpdklab@iol.unh.edu To: Test Report Cc: dpdk-test-reports@iol.unh.edu In-Reply-To: <20250808142721.408998-3-bruce.richardson@intel.com> References: <20250808142721.408998-3-bruce.richardson@intel.com> Content-Type: text/plain X-BeenThere: test-report@dpdk.org X-Mailman-Version: 2.1.29 Precedence: list List-Id: automatic DPDK test reports List-Unsubscribe: , List-Archive: List-Post: List-Help: List-Subscribe: , Errors-To: test-report-bounces@dpdk.org Test-Label: iol-compile-arm64-testing Test-Status: SUCCESS http://dpdk.org/patch/155743 _Testing PASS_ Submitter: Bruce Richardson Date: Friday, August 08 2025 14:27:20 DPDK git baseline: Repo:dpdk Branch: master CommitID:38543d33bd47fc0ee21f59db80a8763620741879 155742-155743 --> testing pass Upstream job id: Generic-DPDK-Compile-Meson#416127 Test environment and result as below: +------------------------------+--------------------+ | Environment | dpdk_meson_compile | +==============================+====================+ | Red Hat Enterprise Linux 9.5 | PASS | +------------------------------+--------------------+ | Ubuntu 20.04 | PASS | +------------------------------+--------------------+ | Debian GNU/Linux 12 | PASS | +------------------------------+--------------------+ | Fedora Linux 40 | PASS | +------------------------------+--------------------+ | Fedora Linux 41 | PASS | +------------------------------+--------------------+ | Ubuntu 22.04 | PASS | +------------------------------+--------------------+ | Ubuntu 24.04 | PASS | +------------------------------+--------------------+ | CentOS Stream 9 | PASS | +------------------------------+--------------------+ | CentOS Stream 10 | PASS | +------------------------------+--------------------+ Red Hat Enterprise Linux 9.5 Kernel: 5.4 Compiler: gcc gcc (GCC) 11.5.0 20240719 (Red Hat 11.5.0-2) Ubuntu 20.04 Kernel: 5.15 Compiler: aarch64-linux-gnu-gcc gcc (Ubuntu 9.4.0-1ubuntu1~20.04.2) 9.4.0 Debian GNU/Linux 12 Kernel: 5.4 Compiler: gcc gcc (Debian 12.2.0-14+deb12u1) 12.2.0 Fedora Linux 40 Kernel: 5.4 Compiler: gcc gcc (GCC) 14.2.1 20240912 (Red Hat 14.2.1-3) Fedora Linux 41 Kernel: 5.4 Compiler: gcc gcc (GCC) 14.3.1 20250523 (Red Hat 14.3.1-1) Ubuntu 22.04 Kernel: 5.4 Compiler: gcc gcc (Ubuntu 11.4.0-1ubuntu1~22.04) 11.4.0 Ubuntu 24.04 Kernel: 5.4 Compiler: gcc gcc (Ubuntu 13.3.0-6ubuntu2~24.04) 13.3.0 CentOS Stream 9 Kernel: 5.4 Compiler: gcc gcc (GCC) 11.5.0 20240719 (Red Hat 11.5.0-7) CentOS Stream 10 Kernel: 5.4 Compiler: gcc gcc (GCC) 14.2.1 20250110 (Red Hat 14.2.1-8) To view detailed results, visit: https://lab.dpdk.org/results/dashboard/patchsets/33843/ UNH-IOL DPDK Community Lab To manage your email subscriptions, visit: https://lab.dpdk.org/results/dashboard/preferences/subscriptions/