From mboxrd@z Thu Jan 1 00:00:00 1970 Return-Path: Received: from mails.dpdk.org (mails.dpdk.org [217.70.189.124]) by inbox.dpdk.org (Postfix) with ESMTP id 385E146C95 for ; Sat, 9 Aug 2025 00:11:50 +0200 (CEST) Received: from mails.dpdk.org (localhost [127.0.0.1]) by mails.dpdk.org (Postfix) with ESMTP id 348294026C; Sat, 9 Aug 2025 00:11:50 +0200 (CEST) Received: from mail-pf1-f225.google.com (mail-pf1-f225.google.com [209.85.210.225]) by mails.dpdk.org (Postfix) with ESMTP id 5E4B74026C for ; Sat, 9 Aug 2025 00:11:49 +0200 (CEST) Received: by mail-pf1-f225.google.com with SMTP id d2e1a72fcca58-76bd041c431so2554313b3a.2 for ; Fri, 08 Aug 2025 15:11:49 -0700 (PDT) DKIM-Signature: v=1; a=rsa-sha256; c=relaxed/relaxed; d=iol.unh.edu; s=unh-iol; t=1754691108; x=1755295908; darn=dpdk.org; h=references:in-reply-to:cc:to:from:subject:message-id:date:from:to :cc:subject:date:message-id:reply-to; bh=IKmjR/3zf7046j7eEXeqRJlKBqW/R8LArLApHu3j9EE=; b=X8qjmT67TjGm1WQMKXoYARlaEWfZZ1ZOf758yGsADkFCuJxdNSDxaUF3mBIUfMVI0e POJUa2YVVUbIoQNwb1vD+QOvhQvSjRZz50YuqDytPySv7xGD2NtQl95wT4F4nh0nCVU9 GJNZJyo/pkAPS8GhXj6TL9Yb9LTL0RZaSr+EY= X-Google-DKIM-Signature: v=1; a=rsa-sha256; c=relaxed/relaxed; d=1e100.net; s=20230601; t=1754691108; x=1755295908; h=references:in-reply-to:cc:to:from:subject:message-id:date :x-gm-message-state:from:to:cc:subject:date:message-id:reply-to; bh=IKmjR/3zf7046j7eEXeqRJlKBqW/R8LArLApHu3j9EE=; b=hpEyLELy6+/Fp+rXR7LMmZepufh+/cgR441fYRxmu7RysRuSbEHRtVn6/ukLGJs95I JYWGsDeBHsNFMZKgL3xRzY8uRoO5v2piv2NafswJPUbBjhhlkn9m4dJipVzRQRo28OCH FBZP+WfKhYXly5dy4Re90ABp1qW83aRN27izmE4BpGpgre4yYsvI3YztUFQQ5lGATUmv gzOZyCJLLgxWqKGfKF6Yo2qp5+OzGqK38yesZVhAEkF8JtDKfsgjyBDiMqp+J3kHv5PD 3dPHKG6rTeJ03ZXV4kkrZMlLMAyE3drYLivq/h9eLlaEgNYvDyyr+n7MTDDSAMHxgRWs pd4A== X-Gm-Message-State: AOJu0YyBvGWZz9C4Kirpa5qJtvzpIEdOi5wJ/0NjOxjG3T8Dk18hLWCX KLJfqPry4OQJzrurpfAO12ErdA2rXE6UpuNucgFqPAVz6W5aF+X5R2hHE5I99m9Z+9tD9D4zuAO Y3qEBNsh9ASV3yq66NTrr3O//JtkGJRQVDD8RubeaNoSr6ZxM47pK2Ts/efcV X-Gm-Gg: ASbGncsfaP51YRETEv0mtV8y00x4bTej3cuk5GGhqGxY9ljf4PSAxCrJcTHNecS42ZJ SM7ecvfX+Rj+gE1kP+65lsn/qKsMklAI9HmvrrffX3f5stavbIUHxnHeDpRaGFDemv3rJpJo/0g Vfpb2MYHnHfApAqfq4NzRE2IJneYkDFGy8eUjrY+/++eX79L1kbO1psmwKyR8VuxqbLLfR53ZOO zOmwBGBZF93rXtUWf83dxsKP98yn0VSGqwlPwqDMCHFEqAYEB8EtFvMWdAgb9njwRxATIoO3ei9 RKunMF348HA3R+/6wjdfe5ET2dFmEgPoFGtLYR3u9ALw7Rpk5w== X-Google-Smtp-Source: AGHT+IHpskmDmYyenPUFgbGe672a/Fw0nHTRhoEi4Bvc1oBR/y36uz3w1M5v9PFJUCj5NByHomA3fyMAG5AI X-Received: by 2002:a05:6300:218c:b0:235:3eaf:8979 with SMTP id adf61e73a8af0-2405505106fmr8379665637.15.1754691108572; Fri, 08 Aug 2025 15:11:48 -0700 (PDT) Received: from postal.iol.unh.edu (postal.iol.unh.edu. [2606:4100:3880:1234::84]) by smtp-relay.gmail.com with ESMTPS id 41be03b00d2f7-b422b848a48sm1057025a12.7.2025.08.08.15.11.48 (version=TLS1_2 cipher=ECDHE-ECDSA-AES128-GCM-SHA256 bits=128/128); Fri, 08 Aug 2025 15:11:48 -0700 (PDT) X-Relaying-Domain: iol.unh.edu Date: Fri, 08 Aug 2025 15:11:48 -0700 (PDT) Message-ID: <68967624.630a0220.3383e3.99c8SMTPIN_ADDED_MISSING@mx.google.com> Received: from [172.21.0.4] (unknown [172.18.0.240]) by postal.iol.unh.edu (Postfix) with ESMTP id D4984604D420; Fri, 8 Aug 2025 18:11:47 -0400 (EDT) Subject: |SUCCESS| pw155742-155743 [PATCH] [2/2] mailmap: sort mailmap From: dpdklab@iol.unh.edu To: Test Report Cc: dpdk-test-reports@iol.unh.edu In-Reply-To: <20250808142721.408998-3-bruce.richardson@intel.com> References: <20250808142721.408998-3-bruce.richardson@intel.com> Content-Type: text/plain X-BeenThere: test-report@dpdk.org X-Mailman-Version: 2.1.29 Precedence: list List-Id: automatic DPDK test reports List-Unsubscribe: , List-Archive: List-Post: List-Help: List-Subscribe: , Errors-To: test-report-bounces@dpdk.org Test-Label: iol-compile-arm64-testing Test-Status: SUCCESS http://dpdk.org/patch/155743 _Testing PASS_ Submitter: Bruce Richardson Date: Friday, August 08 2025 14:27:20 DPDK git baseline: Repo:dpdk Branch: master CommitID:38543d33bd47fc0ee21f59db80a8763620741879 155742-155743 --> testing pass Upstream job id: Generic-DPDK-Compile-Meson#416129 Test environment and result as below: +------------------------------+--------------------+ | Environment | dpdk_meson_compile | +==============================+====================+ | Red Hat Enterprise Linux 9.5 | PASS | +------------------------------+--------------------+ | Ubuntu 20.04 | PASS | +------------------------------+--------------------+ | Debian GNU/Linux 12 | PASS | +------------------------------+--------------------+ | Fedora Linux 40 | PASS | +------------------------------+--------------------+ | Fedora Linux 41 | PASS | +------------------------------+--------------------+ | Ubuntu 22.04 | PASS | +------------------------------+--------------------+ | Ubuntu 24.04 | PASS | +------------------------------+--------------------+ | CentOS Stream 9 | PASS | +------------------------------+--------------------+ | CentOS Stream 10 | PASS | +------------------------------+--------------------+ Red Hat Enterprise Linux 9.5 Kernel: 5.4 Compiler: gcc gcc (GCC) 11.5.0 20240719 (Red Hat 11.5.0-2) Ubuntu 20.04 Kernel: 5.15 Compiler: aarch64-linux-gnu-gcc gcc (Ubuntu 9.4.0-1ubuntu1~20.04.2) 9.4.0 Debian GNU/Linux 12 Kernel: 5.4 Compiler: gcc gcc (Debian 12.2.0-14+deb12u1) 12.2.0 Fedora Linux 40 Kernel: 5.4 Compiler: gcc gcc (GCC) 14.2.1 20240912 (Red Hat 14.2.1-3) Fedora Linux 41 Kernel: 5.4 Compiler: gcc gcc (GCC) 14.3.1 20250523 (Red Hat 14.3.1-1) Ubuntu 22.04 Kernel: 5.4 Compiler: gcc gcc (Ubuntu 11.4.0-1ubuntu1~22.04) 11.4.0 Ubuntu 24.04 Kernel: 5.4 Compiler: gcc gcc (Ubuntu 13.3.0-6ubuntu2~24.04) 13.3.0 CentOS Stream 9 Kernel: 5.4 Compiler: gcc gcc (GCC) 11.5.0 20240719 (Red Hat 11.5.0-7) CentOS Stream 10 Kernel: 5.4 Compiler: gcc gcc (GCC) 14.2.1 20250110 (Red Hat 14.2.1-8) To view detailed results, visit: https://lab.dpdk.org/results/dashboard/patchsets/33843/ UNH-IOL DPDK Community Lab To manage your email subscriptions, visit: https://lab.dpdk.org/results/dashboard/preferences/subscriptions/