From mboxrd@z Thu Jan 1 00:00:00 1970 Return-Path: Received: from mails.dpdk.org (mails.dpdk.org [217.70.189.124]) by inbox.dpdk.org (Postfix) with ESMTP id 99E4C46C95 for ; Sat, 9 Aug 2025 02:19:04 +0200 (CEST) Received: from mails.dpdk.org (localhost [127.0.0.1]) by mails.dpdk.org (Postfix) with ESMTP id 6C25E4026C; Sat, 9 Aug 2025 02:19:04 +0200 (CEST) Received: from mail-io1-f99.google.com (mail-io1-f99.google.com [209.85.166.99]) by mails.dpdk.org (Postfix) with ESMTP id A62064026C for ; Sat, 9 Aug 2025 02:19:03 +0200 (CEST) Received: by mail-io1-f99.google.com with SMTP id ca18e2360f4ac-8819826f5d8so78716939f.1 for ; Fri, 08 Aug 2025 17:19:03 -0700 (PDT) DKIM-Signature: v=1; a=rsa-sha256; c=relaxed/relaxed; d=iol.unh.edu; s=unh-iol; t=1754698743; x=1755303543; darn=dpdk.org; h=references:in-reply-to:cc:to:from:subject:message-id:date:from:to :cc:subject:date:message-id:reply-to; bh=q6Gqrs3c3yTUw7UkWuSVshDbtTLU76akbrjge7uToCk=; b=PAyplNtsCKAIcX656CsJTaUGeDoxUTFY+YoLk9IF1SZw8T5uPxG3M+8vWXl4ewqHhP lLE2lhFjlzf3Bh7hnfoUR8v4jHjvQhqipUU3OCW9J+4pLn5fOYsoVamYS1HtRbOusNbN JO3lfb0zQMsmQNy7zbI4BF324zQLvGgQcjqGk= X-Google-DKIM-Signature: v=1; a=rsa-sha256; c=relaxed/relaxed; d=1e100.net; s=20230601; t=1754698743; x=1755303543; h=references:in-reply-to:cc:to:from:subject:message-id:date :x-gm-message-state:from:to:cc:subject:date:message-id:reply-to; bh=q6Gqrs3c3yTUw7UkWuSVshDbtTLU76akbrjge7uToCk=; b=or2oWHaddWLI+LIPOHSedDxfigq8g1ECCU+dC+7DWnbdwELo1aHwFCQj3+bonyz1f7 0A1TPbfP25ozd2dh28iUMQQjKwImgtbtpX9acFwyUyfMgbAWJWiPjxxBTnmOX8xK3xW7 PM6CfRbGaNPhLLCbC8PGAa007lapCjghYKD9qqPqgxdaSAwU0P2mmTAMYpFROKjpy04C /HK9B82w8qJew7SAHRx2iQW6TWjg4jCpgyDg+TCnLJLaoCFsaGbYPKAxEgiUjtraTMdu b0p4vPFj2LGfB6Eh+cbwiwThaTbpSBWqUi9my+e1GH0K6DbGj+Mp4Kjwt8mmQUwKKAV8 /Gyg== X-Gm-Message-State: AOJu0Yzc8ovOF9HVSJ5Iuu9OSlO8hmnHvahcoF06IDoMgW0T8HbU/4bP QQdIxXw1VZaXKd8Rc62ZU5eApp04hAtqDh77hqV5d9cq0kSpTVYHkOF19Fk24QZ5Hm1J8Su4GKL VK2HJgLG7GFHUKP6K2RE6uFU8oeqLdjSGC1vDnckLLkeW X-Gm-Gg: ASbGncshxjHkuhSKfqrKU17DTbFrZhOAN4nF0RYtLGK9xr4L4ieh/ZmY7ddPPrgV7av JYJDXKbPk8qRMMPcTadHoKS47PgYTnpy9Gu4ukIbhFzx8Q0Mkq6RgoY7FIIjV4fPnjQAecCaqJx FbFs2lSkFFEE6LcjmbP0H6kHbtis3MOt0taCiGOojK2jARipP78TafaxJp4iZ7QPyq14tqGvpfi Hbf9X8QLemIvC84yiwuN514znNw/hP3n1QpYamiaRXYAiGZ4tvGT2wyWcb8PZXvYbW6GlC3FkMT Y2kErihSq/bStSeb91j1PloovCcCr5Gvt+Uufd6V95hJMFFog+jCxhg4Lgdi6pz6IzLUswhp X-Google-Smtp-Source: AGHT+IHZ141I7ICzfGiiGhCfc1KivSFt1uqyhNTyz6oV829qdIl3rlaib7axJBJOGj6gMHM1sEIkB6aTcKnc X-Received: by 2002:a05:6602:164a:b0:881:34a:c4f5 with SMTP id ca18e2360f4ac-883e4b1c583mr1624539339f.4.1754698742864; Fri, 08 Aug 2025 17:19:02 -0700 (PDT) Received: from postal.iol.unh.edu (postal.iol.unh.edu. [132.177.123.84]) by smtp-relay.gmail.com with ESMTPS id 8926c6da1cb9f-50ae99ff37asm195054173.23.2025.08.08.17.19.02 (version=TLS1_2 cipher=ECDHE-ECDSA-AES128-GCM-SHA256 bits=128/128); Fri, 08 Aug 2025 17:19:02 -0700 (PDT) X-Relaying-Domain: iol.unh.edu Date: Fri, 08 Aug 2025 17:19:02 -0700 (PDT) Message-ID: <689693f6.050a0220.36882e.b8d4SMTPIN_ADDED_MISSING@mx.google.com> Received: from [172.21.0.2] (unknown [172.18.0.240]) by postal.iol.unh.edu (Postfix) with ESMTP id 1B4426051830; Fri, 8 Aug 2025 20:19:02 -0400 (EDT) Subject: |SUCCESS| pw155745-155758 [PATCH] [v11,14/14] doc: add documentation From: dpdklab@iol.unh.edu To: Test Report Cc: dpdk-test-reports@iol.unh.edu In-Reply-To: <20250808165843.39075-15-stephen@networkplumber.org> References: <20250808165843.39075-15-stephen@networkplumber.org> Content-Type: text/plain X-BeenThere: test-report@dpdk.org X-Mailman-Version: 2.1.29 Precedence: list List-Id: automatic DPDK test reports List-Unsubscribe: , List-Archive: List-Post: List-Help: List-Subscribe: , Errors-To: test-report-bounces@dpdk.org Test-Label: iol-compile-arm64-testing Test-Status: SUCCESS http://dpdk.org/patch/155758 _Testing PASS_ Submitter: Stephen Hemminger Date: Friday, August 08 2025 16:55:52 DPDK git baseline: Repo:dpdk Branch: master CommitID:38543d33bd47fc0ee21f59db80a8763620741879 155745-155758 --> testing pass Upstream job id: Generic-DPDK-Compile-Meson#416210 Test environment and result as below: +------------------------------+--------------------+ | Environment | dpdk_meson_compile | +==============================+====================+ | Red Hat Enterprise Linux 9.5 | PASS | +------------------------------+--------------------+ | Ubuntu 20.04 | PASS | +------------------------------+--------------------+ | Debian GNU/Linux 12 | PASS | +------------------------------+--------------------+ | Fedora Linux 40 | PASS | +------------------------------+--------------------+ | Fedora Linux 41 | PASS | +------------------------------+--------------------+ | Ubuntu 24.04 | PASS | +------------------------------+--------------------+ | CentOS Stream 9 | PASS | +------------------------------+--------------------+ | Ubuntu 22.04 | PASS | +------------------------------+--------------------+ | CentOS Stream 10 | PASS | +------------------------------+--------------------+ Red Hat Enterprise Linux 9.5 Kernel: 5.4 Compiler: gcc gcc (GCC) 11.5.0 20240719 (Red Hat 11.5.0-2) Ubuntu 20.04 Kernel: 5.4 Compiler: gcc gcc (Ubuntu 9.4.0-1ubuntu1~20.04.2) 9.4.0 Debian GNU/Linux 12 Kernel: 5.4 Compiler: gcc gcc (Debian 12.2.0-14+deb12u1) 12.2.0 Fedora Linux 40 Kernel: 5.4 Compiler: clang gcc (GCC) 14.2.1 20240912 (Red Hat 14.2.1-3) Fedora Linux 41 Kernel: 5.4 Compiler: gcc gcc (GCC) 14.3.1 20250523 (Red Hat 14.3.1-1) Ubuntu 24.04 Kernel: 5.4 Compiler: gcc gcc (Ubuntu 13.3.0-6ubuntu2~24.04) 13.3.0 CentOS Stream 9 Kernel: 5.4 Compiler: gcc gcc (GCC) 11.5.0 20240719 (Red Hat 11.5.0-7) Ubuntu 22.04 Kernel: 5.4 Compiler: gcc gcc (Ubuntu 11.4.0-1ubuntu1~22.04) 11.4.0 CentOS Stream 10 Kernel: 5.4 Compiler: gcc gcc (GCC) 14.2.1 20250110 (Red Hat 14.2.1-8) To view detailed results, visit: https://lab.dpdk.org/results/dashboard/patchsets/33845/ UNH-IOL DPDK Community Lab To manage your email subscriptions, visit: https://lab.dpdk.org/results/dashboard/preferences/subscriptions/