From mboxrd@z Thu Jan 1 00:00:00 1970 Return-Path: Received: from mails.dpdk.org (mails.dpdk.org [217.70.189.124]) by inbox.dpdk.org (Postfix) with ESMTP id 14A3E46C98 for ; Sat, 9 Aug 2025 04:04:33 +0200 (CEST) Received: from mails.dpdk.org (localhost [127.0.0.1]) by mails.dpdk.org (Postfix) with ESMTP id 0FBCE4026C; Sat, 9 Aug 2025 04:04:33 +0200 (CEST) Received: from mail-qv1-f99.google.com (mail-qv1-f99.google.com [209.85.219.99]) by mails.dpdk.org (Postfix) with ESMTP id ACDF84026C for ; Sat, 9 Aug 2025 04:04:31 +0200 (CEST) Received: by mail-qv1-f99.google.com with SMTP id 6a1803df08f44-70744318bb3so23553796d6.3 for ; Fri, 08 Aug 2025 19:04:31 -0700 (PDT) DKIM-Signature: v=1; a=rsa-sha256; c=relaxed/relaxed; d=iol.unh.edu; s=unh-iol; t=1754705071; x=1755309871; darn=dpdk.org; h=references:in-reply-to:cc:to:from:subject:message-id:date:from:to :cc:subject:date:message-id:reply-to; bh=HXwb+eeNP5f32HRUYDl5/+BHcYT1JiRniMaq2OzYxxA=; b=g27R9K+bPkQ9RyA5ppCZrIQogXVJiQ2+SwiplDD8NIhsOMFSjquJI8zRrktAeMgBHE GX6qQID/YaoxVDBIKZzLYj4rVha47GbfCUmIHHB/dyLMaUpJRn5reImyqZLZRgPkRzwi qs87UGgXRPgcZKXVQr0Zyn+HnheAXA1fXWark= X-Google-DKIM-Signature: v=1; a=rsa-sha256; c=relaxed/relaxed; d=1e100.net; s=20230601; t=1754705071; x=1755309871; h=references:in-reply-to:cc:to:from:subject:message-id:date :x-gm-message-state:from:to:cc:subject:date:message-id:reply-to; bh=HXwb+eeNP5f32HRUYDl5/+BHcYT1JiRniMaq2OzYxxA=; b=TuiUcFFqoiwCC1BwBBoIDLodQ2zsoGmSMJL6VAwWu2jf60nQjPZxeNl+IqGuobBdpX jUrTmBUtuNIxej5vJ5GAGfOJpUqFg/FhvVtnd0w413eIo9INuD+c/nPv5hIui+iIxrkp bq6y/IjrFhdZ4oChvgwI9gmRPKx8pe4zyF0id4OeKse0WiOeyY3JENd8SySC8yetKYpK bAQuHm7o7s41vU0GsLSUFGUHcRBS2w5FwTEJWSwomSV+aISPRwa1yCZhUgJBot00WSqh C5lYhHKUD7v2Y2Fr/9SGtZUgKwcCvu56ilR9/r0urjVAT/iQvpNgI/7VbFrY6CPgjfVC 5DzA== X-Gm-Message-State: AOJu0YyMHk5isf1pM4L7i8lJNupvt2rs3vRY40tagc+QmK6QQm7h0Apn 4N88ykKp6TXiRq+PUXHYkZK0DPip2lCesec7c8KBszoktwpGJ+MOyj+D/oH0sxd+bDA5MVG63H9 u4YB2yh+y0822vYVrUrDe9NqdyzHFuOj7Otqs8LUaJnr5/SpyRFbMPmZUVuQB X-Gm-Gg: ASbGncvoa7zddttNRciSn8kXye3BClgxqPB50rEotbtAINV9qx8de3u5mncN3Og4Fcm uFhBF3Tq+TEdR+N9pEq0jRXaoCJ8jqqLUZbZejqukwcPlZOmiNb676PpiBGRP6kojRBz/jXJNzz n3yRJHF9hx0UUohfU4G69eFLVv3RJOXJzxiI+cQL2zFx2CPQd4/RviSR13DCWt3tPBaGFuqNdJ9 c8kde0IW4OaLgZjxgzcR5zgFnjdS2A4aZsf3czPOCtzBDhRpNy04GzYQH8SWDLt9Oca0UVNu/nk mSWhcFTd1VleCQGSEPKCpMW8EYammE6aw+VgXghO6x2Oyi45rg== X-Google-Smtp-Source: AGHT+IF9/HDoErTRppuYV75z4C6udyTv5FA2DeJF3VH+UQJOkroml+8AY7HErvFtRruR2WwLNWt4dvNHdBpe X-Received: by 2002:a05:6214:48d:b0:707:b2f:5b8b with SMTP id 6a1803df08f44-7099a208b14mr66223796d6.14.1754705071011; Fri, 08 Aug 2025 19:04:31 -0700 (PDT) Received: from postal.iol.unh.edu (postal.iol.unh.edu. [2606:4100:3880:1234::84]) by smtp-relay.gmail.com with ESMTPS id 6a1803df08f44-7077c63aa6bsm13495836d6.9.2025.08.08.19.04.30 (version=TLS1_2 cipher=ECDHE-ECDSA-AES128-GCM-SHA256 bits=128/128); Fri, 08 Aug 2025 19:04:31 -0700 (PDT) X-Relaying-Domain: iol.unh.edu Date: Fri, 08 Aug 2025 19:04:31 -0700 (PDT) Message-ID: <6896acaf.d40a0220.382630.9779SMTPIN_ADDED_MISSING@mx.google.com> Received: from [172.21.0.2] (unknown [172.18.0.240]) by postal.iol.unh.edu (Postfix) with ESMTP id AAAD66051830; Fri, 8 Aug 2025 22:04:30 -0400 (EDT) Subject: |SUCCESS| pw155759-155760 [PATCH] [2/2] dts: enable port binding on From: dpdklab@iol.unh.edu To: Test Report Cc: dpdk-test-reports@iol.unh.edu In-Reply-To: <20250808182152.356879-2-abailey@iol.unh.edu> References: <20250808182152.356879-2-abailey@iol.unh.edu> Content-Type: text/plain X-BeenThere: test-report@dpdk.org X-Mailman-Version: 2.1.29 Precedence: list List-Id: automatic DPDK test reports List-Unsubscribe: , List-Archive: List-Post: List-Help: List-Subscribe: , Errors-To: test-report-bounces@dpdk.org Test-Label: iol-compile-arm64-testing Test-Status: SUCCESS http://dpdk.org/patch/155760 _Testing PASS_ Submitter: Andrew Bailey Date: Friday, August 08 2025 18:21:09 DPDK git baseline: Repo:dpdk Branch: master CommitID:2ccad8066e9d12baf7c4c1a7a0c6f7ccb6cf8b1f 155759-155760 --> testing pass Upstream job id: Generic-DPDK-Compile-Meson#416222 Test environment and result as below: +------------------------------+--------------------+ | Environment | dpdk_meson_compile | +==============================+====================+ | Red Hat Enterprise Linux 9.5 | PASS | +------------------------------+--------------------+ | Ubuntu 20.04 | PASS | +------------------------------+--------------------+ | Debian GNU/Linux 12 | PASS | +------------------------------+--------------------+ | Fedora Linux 40 | PASS | +------------------------------+--------------------+ | Fedora Linux 41 | PASS | +------------------------------+--------------------+ | CentOS Stream 9 | PASS | +------------------------------+--------------------+ | Ubuntu 24.04 | PASS | +------------------------------+--------------------+ | Ubuntu 22.04 | PASS | +------------------------------+--------------------+ | CentOS Stream 10 | PASS | +------------------------------+--------------------+ Red Hat Enterprise Linux 9.5 Kernel: 5.4 Compiler: gcc gcc (GCC) 11.5.0 20240719 (Red Hat 11.5.0-2) Ubuntu 20.04 Kernel: 5.15 Compiler: aarch64-linux-gnu-gcc gcc (Ubuntu 9.4.0-1ubuntu1~20.04.2) 9.4.0 Debian GNU/Linux 12 Kernel: 5.4 Compiler: gcc gcc (Debian 12.2.0-14+deb12u1) 12.2.0 Fedora Linux 40 Kernel: 5.4 Compiler: gcc gcc (GCC) 14.2.1 20240912 (Red Hat 14.2.1-3) Fedora Linux 41 Kernel: 5.4 Compiler: gcc gcc (GCC) 14.3.1 20250523 (Red Hat 14.3.1-1) CentOS Stream 9 Kernel: 5.4 Compiler: gcc gcc (GCC) 11.5.0 20240719 (Red Hat 11.5.0-7) Ubuntu 24.04 Kernel: 5.4 Compiler: gcc gcc (Ubuntu 13.3.0-6ubuntu2~24.04) 13.3.0 Ubuntu 22.04 Kernel: 5.4 Compiler: gcc gcc (Ubuntu 11.4.0-1ubuntu1~22.04) 11.4.0 CentOS Stream 10 Kernel: 5.4 Compiler: gcc gcc (GCC) 14.2.1 20250110 (Red Hat 14.2.1-8) To view detailed results, visit: https://lab.dpdk.org/results/dashboard/patchsets/33846/ UNH-IOL DPDK Community Lab To manage your email subscriptions, visit: https://lab.dpdk.org/results/dashboard/preferences/subscriptions/