From mboxrd@z Thu Jan 1 00:00:00 1970 Return-Path: Received: from mails.dpdk.org (mails.dpdk.org [217.70.189.124]) by inbox.dpdk.org (Postfix) with ESMTP id 4675C46D5D for ; Mon, 18 Aug 2025 19:26:10 +0200 (CEST) Received: from mails.dpdk.org (localhost [127.0.0.1]) by mails.dpdk.org (Postfix) with ESMTP id 42AA740262; Mon, 18 Aug 2025 19:26:10 +0200 (CEST) Received: from mail-pl1-f225.google.com (mail-pl1-f225.google.com [209.85.214.225]) by mails.dpdk.org (Postfix) with ESMTP id 5E08F40262 for ; Mon, 18 Aug 2025 19:26:09 +0200 (CEST) Received: by mail-pl1-f225.google.com with SMTP id d9443c01a7336-24457f3edd4so31204105ad.0 for ; Mon, 18 Aug 2025 10:26:09 -0700 (PDT) DKIM-Signature: v=1; a=rsa-sha256; c=relaxed/relaxed; d=iol.unh.edu; s=unh-iol; t=1755537968; x=1756142768; darn=dpdk.org; h=references:in-reply-to:cc:to:from:subject:message-id:date:from:to :cc:subject:date:message-id:reply-to; bh=KJ4dLJVncinsykhwG8TCjR9Z6EeUZ7h44QEwSi+TxnE=; b=idigzbm/akmMOJVeE4v9QBAUH9lVtV5pAcmcAH9baGU+a0ZN+G40/YFh5xqck4mpzI OihyTn752Ek7Dri9Lb+sZdQlZqSElvBatjEwZ63HdRT1BYrilNOZPITgT658iN7d3Xh7 ma8d5vqzfDzsgOZM/vW1N0CdyiNbVT/0hV9R8= X-Google-DKIM-Signature: v=1; a=rsa-sha256; c=relaxed/relaxed; d=1e100.net; s=20230601; t=1755537968; x=1756142768; h=references:in-reply-to:cc:to:from:subject:message-id:date :x-gm-message-state:from:to:cc:subject:date:message-id:reply-to; bh=KJ4dLJVncinsykhwG8TCjR9Z6EeUZ7h44QEwSi+TxnE=; b=Y+4LhkE+H3H0tRjMGOUzuMYp+JiJiMCbtbcZkk9DyzkRVvNOZwBazTI/MJfM2MYj9O D1oyjiAheYoxYIIcEFqPpLAI51Zkxa9+2AQpiVotkMxl00okKQxdm5Ryyibcq/9RbWBE RmzZm9cY1dFQ8SWn3tcLNAic8Z+oHA3LEbZdhMHZnBk0Huu2DUjLQU/LLAa3pOE8s+WG ZsXyekUE6ogGpxdoSdBUIwHc5SCS6MaIW1d2QLZ9wHsuTjNojYvTs2RgODh7SF2zIlwd 0ccXQzowHWM7Rctgdn934WUCLagmwB5NKLThOr1NYI5sJF61QFr30nkNSbZqyGI3Y4FL lk7g== X-Gm-Message-State: AOJu0Yz95MeOG95I+FLwz+rBS2S4W4AOG3GNhMmU5g7btz6F/JbcT9Ru 7s2r0TKeNHePi8SujlAu6rB2c7PJ/kXo0P6T2oTpjimpUsTYJ+DfSycLts2D5oNVgRD4fTAM8tL 7R2eFnNeDLdzwqpdVfkiHcePWx3zEH4rhffwaqgqWqcM8 X-Gm-Gg: ASbGncsqL1hAXY4MN47bwPGpsdyaDCemQxJ/mjZiy+0sT68eSjZp8fWKZ/FrrufVuQ6 pZPv3DApP+nI8Eoc3Oz8Wl+ZatljmSkr3cK5qZOgDvl5o0w1QRzD0OJArVwt0GpQHVeNvvN0a95 Do+tiqouSYiVU0oNICXU0speQucREX+I+ohMLDarMEHt1uPbOz3mSpCnLgOc+FRuHgyxDIpMe5I t8VWY3uTWJ5svzmq2dsTctPi1uM/sKGvWxJjPcpG45BxepKXRlmIh3VMqzi8XUqgJAZwup76Dw/ s5qlFW7FfFSI3UeouagWJAg+hZi2ZX7DjGoDjVr+V8rrashyitNUdrJI4z3hZsfVpI1NvYet X-Google-Smtp-Source: AGHT+IGTZgU4Uc7/W0NyjzQ5E+tAp9U2m/xP/wlJRlSCZWKiuGfTWF5o91FJldK3dt5eB/yydgvmY7RA4hBA X-Received: by 2002:a17:902:f78a:b0:243:43a:fa2b with SMTP id d9443c01a7336-2446d9f30e2mr188486295ad.56.1755537968447; Mon, 18 Aug 2025 10:26:08 -0700 (PDT) Received: from postal.iol.unh.edu (postal.iol.unh.edu. [132.177.123.84]) by smtp-relay.gmail.com with ESMTPS id d9443c01a7336-2446caaf5bbsm7631535ad.4.2025.08.18.10.26.08 (version=TLS1_2 cipher=ECDHE-ECDSA-AES128-GCM-SHA256 bits=128/128); Mon, 18 Aug 2025 10:26:08 -0700 (PDT) X-Relaying-Domain: iol.unh.edu Date: Mon, 18 Aug 2025 10:26:08 -0700 (PDT) Message-ID: <68a36230.170a0220.3d1023.6f4fSMTPIN_ADDED_MISSING@mx.google.com> Received: from [172.21.0.3] (unknown [172.18.0.240]) by postal.iol.unh.edu (Postfix) with ESMTP id A9A4B6050A61; Mon, 18 Aug 2025 13:26:07 -0400 (EDT) Subject: |SUCCESS| pw155922-155930 [PATCH] [v4,9/9] config: enable comma warn From: dpdklab@iol.unh.edu To: Test Report Cc: dpdk-test-reports@iol.unh.edu In-Reply-To: <20250818161815.23611-10-stephen@networkplumber.org> References: <20250818161815.23611-10-stephen@networkplumber.org> Content-Type: text/plain X-BeenThere: test-report@dpdk.org X-Mailman-Version: 2.1.29 Precedence: list List-Id: automatic DPDK test reports List-Unsubscribe: , List-Archive: List-Post: List-Help: List-Subscribe: , Errors-To: test-report-bounces@dpdk.org Test-Label: iol-unit-amd64-testing Test-Status: SUCCESS http://dpdk.org/patch/155930 _Testing PASS_ Submitter: Stephen Hemminger Date: Monday, August 18 2025 16:18:14 DPDK git baseline: Repo:dpdk Branch: master CommitID:38543d33bd47fc0ee21f59db80a8763620741879 155922-155930 --> testing pass Upstream job id: Generic-VM-Unit-Test-DPDK#30589 Test environment and result as below: +-------------------------------+----------------+ | Environment | dpdk_unit_test | +===============================+================+ | Debian GNU/Linux 12 | PASS | +-------------------------------+----------------+ | Fedora Linux 40 | PASS | +-------------------------------+----------------+ | CentOS Stream 9 | PASS | +-------------------------------+----------------+ | CentOS Stream 10 | PASS | +-------------------------------+----------------+ | Fedora Linux 41 | PASS | +-------------------------------+----------------+ | Fedora Linux 42 | PASS | +-------------------------------+----------------+ | Red Hat Enterprise Linux 9.5 | PASS | +-------------------------------+----------------+ | Red Hat Enterprise Linux 8.10 | PASS | +-------------------------------+----------------+ | Ubuntu 20.04 | PASS | +-------------------------------+----------------+ | Ubuntu 22.04 | PASS | +-------------------------------+----------------+ | Ubuntu 24.04 | PASS | +-------------------------------+----------------+ | Windows Server 2022 | PASS | +-------------------------------+----------------+ Debian GNU/Linux 12 Kernel: 5.15 Compiler: gcc gcc (Debian 12.2.0-14+deb12u1) 12.2.0 Fedora Linux 40 Kernel: 5.15 Compiler: clang gcc (GCC) 14.2.1 20240912 (Red Hat 14.2.1-3) CentOS Stream 9 Kernel: 5.15 Compiler: gcc gcc (GCC) 11.5.0 20240719 (Red Hat 11.5.0-7) CentOS Stream 10 Kernel: 5.15 Compiler: gcc gcc (GCC) 14.2.1 20250110 (Red Hat 14.2.1-8) Fedora Linux 41 Kernel: 5.15 Compiler: gcc gcc (GCC) 14.3.1 20250523 (Red Hat 14.3.1-1) Fedora Linux 42 Kernel: 5.15 Compiler: clang gcc (GCC) 15.1.1 20250521 (Red Hat 15.1.1-2) Red Hat Enterprise Linux 9.5 Kernel: 5.15 Compiler: gcc gcc (GCC) 11.5.0 20240719 (Red Hat 11.5.0-2) Red Hat Enterprise Linux 8.10 Kernel: 5.15 Compiler: gcc gcc (GCC) 8.5.0 20210514 (Red Hat 8.5.0-22) Ubuntu 20.04 Kernel: 5.15 Compiler: gcc gcc (Ubuntu 9.4.0-1ubuntu1~20.04.2) 9.4.0 Ubuntu 22.04 Kernel: 5.15 Compiler: gcc gcc (Ubuntu 11.4.0-1ubuntu1~22.04) 11.4.0 Ubuntu 24.04 Kernel: 5.15 Compiler: gcc gcc (Ubuntu 13.3.0-6ubuntu2~24.04) 13.3.0 Windows Server 2022 Kernel: 10.0.20348.2031 Compiler: clang 15.0.7, gcc 14.1.0 (MinGW), and MSVC VS 19.39.33521 To view detailed results, visit: https://lab.dpdk.org/results/dashboard/patchsets/33896/ UNH-IOL DPDK Community Lab To manage your email subscriptions, visit: https://lab.dpdk.org/results/dashboard/preferences/subscriptions/