From mboxrd@z Thu Jan 1 00:00:00 1970 Return-Path: Received: from mails.dpdk.org (mails.dpdk.org [217.70.189.124]) by inbox.dpdk.org (Postfix) with ESMTP id ABD2E46D5D for ; Mon, 18 Aug 2025 19:39:14 +0200 (CEST) Received: from mails.dpdk.org (localhost [127.0.0.1]) by mails.dpdk.org (Postfix) with ESMTP id 8BEC440262; Mon, 18 Aug 2025 19:39:14 +0200 (CEST) Received: from mail-pl1-f226.google.com (mail-pl1-f226.google.com [209.85.214.226]) by mails.dpdk.org (Postfix) with ESMTP id 6291A40262 for ; Mon, 18 Aug 2025 19:39:13 +0200 (CEST) Received: by mail-pl1-f226.google.com with SMTP id d9443c01a7336-24456ce0b96so43272585ad.0 for ; Mon, 18 Aug 2025 10:39:13 -0700 (PDT) DKIM-Signature: v=1; a=rsa-sha256; c=relaxed/relaxed; d=iol.unh.edu; s=unh-iol; t=1755538752; x=1756143552; darn=dpdk.org; h=references:in-reply-to:cc:to:from:subject:message-id:date:from:to :cc:subject:date:message-id:reply-to; bh=nFY9D56buEszLj/K5jbfUnDLN6UvcJR8+YDmVziwd3s=; b=icNUHegAuUow+xSXzgQsZEWBsiiS/SrsJjOuIfMlA1XuZV+K9jx7D2xNjTvzZJLrTf uot0KGY3twwbUY+FFYCQZx3K6L/DqI8EmPjTzqDY2UIDkCei/EGcLCok/EVcrdOLOss+ UtxvjszUG+lcVqu+YudJGe30lRilmWBf12L4Y= X-Google-DKIM-Signature: v=1; a=rsa-sha256; c=relaxed/relaxed; d=1e100.net; s=20230601; t=1755538752; x=1756143552; h=references:in-reply-to:cc:to:from:subject:message-id:date :x-gm-message-state:from:to:cc:subject:date:message-id:reply-to; bh=nFY9D56buEszLj/K5jbfUnDLN6UvcJR8+YDmVziwd3s=; b=cTodUJ8yv+c88pfFy+lKff0tflu+zT9GMtNeTXqU5f3iNhthAFFXwYj8lX1127ojgt g50LPCtbXk8jxW0AIhCDkfOpkgUUo2Lto2TgSco49Bzvj97KZwezlCZpnSW4I5fHYWeJ /qHNj2pkHHTrjTKbZXRgsHKeBpx/RdaxzPjyla5B1PSlOIwG2yLm7AO5fc0UnhhjJv9P 9BYaHANQXiaSQ06PRetx1QtPEOyuvDNXvwtVEBBGwLGfcCRp4rd/JrOZwxVIK0KGVtzf PNagtgOcIHSSKpTxBAtoxFfeouKV9rX8KIg3Qmyyfn07r6KWL7Vjaqdw2rhJ8rCgF1HK FMbg== X-Gm-Message-State: AOJu0YzOxZgaqS/5zXT/voJ8u5crubxMXy9st/zLYwK+WNyP36D88hXo Ix04ZH8o1eG9nm9hGGvi6SAoYp3d6nyeJfV9yLcxvqTVlfiSM5Fs9OZ4BwcL/DsFDlejhUBQOV6 kpoOWCj3IyD55J02G85uJkQzrj7jsl3JzSbHvRH3sS8BE X-Gm-Gg: ASbGncuAdU9JRKGZiek6B5v2ro4yiVLi+1xN1hHQLx3jpCs5kiG8cOpoMdAk6Ms/XzF 5ubpqrZ6KImPe+B2F1kEZ0zwcfMtKJtWTwrGB2Qmcfez5F7KdF/hCvolR4LDo+rRqqLEGAYmJ6/ uhfpaCyhd+JEX8rFnv3sf8Jd3LVsxkbxhY1nQq23eCdW3gJ7H4wzAaEDg24N9uMdI16uv8CX3qj omdGesABpxwEc2w1xAkEFEUqBV/9Na67djdu3/RjmODyRleO+ehdUH0Wzf1ChG0fAmhTMuaCYQV 4P26iBYZtS4Z0YQUL9AKwIVCK7DGsRBN/MF4HWXGa+WPir2i9QRaYrimm6Tp2XhVK5PU2IT0 X-Google-Smtp-Source: AGHT+IE9QS7fDsMx2BU3EZa8nNS9ZgPPiPq1I1u+z1YzKqDomniEdmiRyyYZpNtTa3Z2OVmO0akmRHUtrxYp X-Received: by 2002:a17:902:f68a:b0:240:417d:8166 with SMTP id d9443c01a7336-2449c994181mr4375285ad.19.1755538752405; Mon, 18 Aug 2025 10:39:12 -0700 (PDT) Received: from postal.iol.unh.edu (postal.iol.unh.edu. [132.177.123.84]) by smtp-relay.gmail.com with ESMTPS id d9443c01a7336-2446d4a7fb6sm7816355ad.69.2025.08.18.10.39.12 (version=TLS1_2 cipher=ECDHE-ECDSA-AES128-GCM-SHA256 bits=128/128); Mon, 18 Aug 2025 10:39:12 -0700 (PDT) X-Relaying-Domain: iol.unh.edu Date: Mon, 18 Aug 2025 10:39:12 -0700 (PDT) Message-ID: <68a36540.170a0220.2eb87f.748cSMTPIN_ADDED_MISSING@mx.google.com> Received: from [172.21.0.4] (unknown [172.18.0.240]) by postal.iol.unh.edu (Postfix) with ESMTP id A379C604D420; Mon, 18 Aug 2025 13:39:11 -0400 (EDT) Subject: |SUCCESS| pw155922-155930 [PATCH] [v4,9/9] config: enable comma warn From: dpdklab@iol.unh.edu To: Test Report Cc: dpdk-test-reports@iol.unh.edu In-Reply-To: <20250818161815.23611-10-stephen@networkplumber.org> References: <20250818161815.23611-10-stephen@networkplumber.org> Content-Type: text/plain X-BeenThere: test-report@dpdk.org X-Mailman-Version: 2.1.29 Precedence: list List-Id: automatic DPDK test reports List-Unsubscribe: , List-Archive: List-Post: List-Help: List-Subscribe: , Errors-To: test-report-bounces@dpdk.org Test-Label: iol-unit-amd64-testing Test-Status: SUCCESS http://dpdk.org/patch/155930 _Testing PASS_ Submitter: Stephen Hemminger Date: Monday, August 18 2025 16:18:14 DPDK git baseline: Repo:dpdk Branch: master CommitID:38543d33bd47fc0ee21f59db80a8763620741879 155922-155930 --> testing pass Upstream job id: Generic-VM-Unit-Test-DPDK#30590 Test environment and result as below: +-------------------------------+----------------+ | Environment | dpdk_unit_test | +===============================+================+ | Debian GNU/Linux 12 | PASS | +-------------------------------+----------------+ | Fedora Linux 40 | PASS | +-------------------------------+----------------+ | CentOS Stream 9 | PASS | +-------------------------------+----------------+ | CentOS Stream 10 | PASS | +-------------------------------+----------------+ | Fedora Linux 41 | PASS | +-------------------------------+----------------+ | Fedora Linux 42 | PASS | +-------------------------------+----------------+ | Red Hat Enterprise Linux 9.5 | PASS | +-------------------------------+----------------+ | Red Hat Enterprise Linux 8.10 | PASS | +-------------------------------+----------------+ | Ubuntu 20.04 | PASS | +-------------------------------+----------------+ | Ubuntu 22.04 | PASS | +-------------------------------+----------------+ | Ubuntu 24.04 | PASS | +-------------------------------+----------------+ | Windows Server 2022 | PASS | +-------------------------------+----------------+ Debian GNU/Linux 12 Kernel: 5.15 Compiler: gcc gcc (Debian 12.2.0-14+deb12u1) 12.2.0 Fedora Linux 40 Kernel: 5.15 Compiler: clang gcc (GCC) 14.2.1 20240912 (Red Hat 14.2.1-3) CentOS Stream 9 Kernel: 5.15 Compiler: gcc gcc (GCC) 11.5.0 20240719 (Red Hat 11.5.0-7) CentOS Stream 10 Kernel: 5.15 Compiler: gcc gcc (GCC) 14.2.1 20250110 (Red Hat 14.2.1-8) Fedora Linux 41 Kernel: 5.15 Compiler: gcc gcc (GCC) 14.3.1 20250523 (Red Hat 14.3.1-1) Fedora Linux 42 Kernel: 5.15 Compiler: clang gcc (GCC) 15.1.1 20250521 (Red Hat 15.1.1-2) Red Hat Enterprise Linux 9.5 Kernel: 5.15 Compiler: gcc gcc (GCC) 11.5.0 20240719 (Red Hat 11.5.0-2) Red Hat Enterprise Linux 8.10 Kernel: 5.15 Compiler: gcc gcc (GCC) 8.5.0 20210514 (Red Hat 8.5.0-22) Ubuntu 20.04 Kernel: 5.15 Compiler: gcc gcc (Ubuntu 9.4.0-1ubuntu1~20.04.2) 9.4.0 Ubuntu 22.04 Kernel: 5.15 Compiler: gcc gcc (Ubuntu 11.4.0-1ubuntu1~22.04) 11.4.0 Ubuntu 24.04 Kernel: 5.15 Compiler: gcc gcc (Ubuntu 13.3.0-6ubuntu2~24.04) 13.3.0 Windows Server 2022 Kernel: 10.0.20348.2031 Compiler: clang 15.0.7, gcc 14.1.0 (MinGW), and MSVC VS 19.39.33521 To view detailed results, visit: https://lab.dpdk.org/results/dashboard/patchsets/33896/ UNH-IOL DPDK Community Lab To manage your email subscriptions, visit: https://lab.dpdk.org/results/dashboard/preferences/subscriptions/