From mboxrd@z Thu Jan 1 00:00:00 1970 Return-Path: Received: from mails.dpdk.org (mails.dpdk.org [217.70.189.124]) by inbox.dpdk.org (Postfix) with ESMTP id BCF4646D5E for ; Mon, 18 Aug 2025 20:21:52 +0200 (CEST) Received: from mails.dpdk.org (localhost [127.0.0.1]) by mails.dpdk.org (Postfix) with ESMTP id B4F8940262; Mon, 18 Aug 2025 20:21:52 +0200 (CEST) Received: from mail-pg1-f228.google.com (mail-pg1-f228.google.com [209.85.215.228]) by mails.dpdk.org (Postfix) with ESMTP id A795C40262 for ; Mon, 18 Aug 2025 20:21:49 +0200 (CEST) Received: by mail-pg1-f228.google.com with SMTP id 41be03b00d2f7-b4717543ed9so3049000a12.3 for ; Mon, 18 Aug 2025 11:21:49 -0700 (PDT) DKIM-Signature: v=1; a=rsa-sha256; c=relaxed/relaxed; d=iol.unh.edu; s=unh-iol; t=1755541309; x=1756146109; darn=dpdk.org; h=references:in-reply-to:cc:to:from:subject:message-id:date:from:to :cc:subject:date:message-id:reply-to; bh=qAjODRU9LWfrbCEdnguRXWBEenAEc24eUJSHJkkHB8c=; b=GnUioOc8Xa5BMjErqTx71I3E5tck3u5MgYNIRDicUwJh/uo8u3sCNnS4YTnc/IyrBp IUbSi/BQACIdmVIrOCWVhuZyibbFjvrV/XNA9CYJ8oRHAGZjbh4kDqFO6xinfLztEpd1 k9fSvydAhc/Gy/lNhatMJXMcoVBj4WAp//hlY= X-Google-DKIM-Signature: v=1; a=rsa-sha256; c=relaxed/relaxed; d=1e100.net; s=20230601; t=1755541309; x=1756146109; h=references:in-reply-to:cc:to:from:subject:message-id:date :x-gm-message-state:from:to:cc:subject:date:message-id:reply-to; bh=qAjODRU9LWfrbCEdnguRXWBEenAEc24eUJSHJkkHB8c=; b=BuXixxLuMTzfqBvxVuXxDjiIP4DUnVU/z7Th/OIfvMG+RR6w0kbr/XU7jCInqW89hb /7uRuC18sQRXlsKz1/GE5HO156nhAFl/KgLAGJpPHBLxwDUCi2HTO97hKL09YR62ASC9 6FHrtBvKeoVStJqGxTZn2vEF3K0UjgxPK0m/nNRYegY1bLBzrVnLuOrN/ShJThTOKsrD PygoW7Dz10NfkTFDedp1OjldU4ODlDkEBn+ILIwRvnvcIIJS2fcouRducfOveNbFyIJe x8NH5kY31p4ILRBXRnBTt8uf0QLc+jsD3IsXdZDr83sh0UFbMtKEBXRC5F68X7vmisMe 954A== X-Gm-Message-State: AOJu0Yxdpfy0M/vMHYpSLFaI9+S2vEZl6b6cAjuIjVM4jcNnSw2Iz64j iBk8PwbXiAKFP/61y79tu/0EX4gsu6p4PNLsKyuYZPdxUeLFUZQ9WOGerAAqYv9nrN2nmMgQ/Ag l0n2iOSnpvCxysvdTR407PiEabyGqRTIXX2n/jcpwNoSngB3JzX7s7iRnTVs+ X-Gm-Gg: ASbGncup/mWZ68hFOCuRNLBUq5QUqo/rVLadZLBkYg/KbA+binMNVN0GTmM7o56dzrE k5VwlIJSxSrR6OrXkkYwH9zYoARee0LSG56ddzL82BsINEyWt84/HzArbNev2ZbIUSjiu9/+JOU BOANwuIAEG5o8QvQ43hctiluASxKntWMx7zbZtncc9NviWeNTjlWMFr0YuLclssa7/jE31FLECb YFtQ+wWExPBV2/YTs+rYmrPm2b0o6F4U1w9FgnJIzyFyO0x9rChP2qSqvTd4Qwz5hJgqgbIve7P kRtJ71mGGMkMWOA4qpan+ftu4XNYF7SSxjCak6BHuG5lgk9f9Q== X-Google-Smtp-Source: AGHT+IHZSuTMxf554ZUrrq5ExTcbNswXdEL+IcC81fFr7noTgNYREd9G9/Ri0QSp5kufPoyRRsQ/wvHN5TXT X-Received: by 2002:a17:903:3848:b0:242:a3fc:5900 with SMTP id d9443c01a7336-2449cf0a5fdmr4743395ad.8.1755541308661; Mon, 18 Aug 2025 11:21:48 -0700 (PDT) Received: from postal.iol.unh.edu (postal.iol.unh.edu. [2606:4100:3880:1234::84]) by smtp-relay.gmail.com with ESMTPS id d9443c01a7336-2446d4a89d9sm7712825ad.71.2025.08.18.11.21.48 (version=TLS1_2 cipher=ECDHE-ECDSA-AES128-GCM-SHA256 bits=128/128); Mon, 18 Aug 2025 11:21:48 -0700 (PDT) X-Relaying-Domain: iol.unh.edu Date: Mon, 18 Aug 2025 11:21:48 -0700 (PDT) Message-ID: <68a36f3c.170a0220.13fa21.67c0SMTPIN_ADDED_MISSING@mx.google.com> Received: from [172.21.0.2] (unknown [172.18.0.240]) by postal.iol.unh.edu (Postfix) with ESMTP id 258AD6051830; Mon, 18 Aug 2025 14:21:48 -0400 (EDT) Subject: |SUCCESS| pw155922-155930 [PATCH] [v4,9/9] config: enable comma warn From: dpdklab@iol.unh.edu To: Test Report Cc: dpdk-test-reports@iol.unh.edu In-Reply-To: <20250818161815.23611-10-stephen@networkplumber.org> References: <20250818161815.23611-10-stephen@networkplumber.org> Content-Type: text/plain X-BeenThere: test-report@dpdk.org X-Mailman-Version: 2.1.29 Precedence: list List-Id: automatic DPDK test reports List-Unsubscribe: , List-Archive: List-Post: List-Help: List-Subscribe: , Errors-To: test-report-bounces@dpdk.org Test-Label: iol-unit-arm64-testing Test-Status: SUCCESS http://dpdk.org/patch/155930 _Testing PASS_ Submitter: Stephen Hemminger Date: Monday, August 18 2025 16:18:14 DPDK git baseline: Repo:dpdk Branch: master CommitID:38543d33bd47fc0ee21f59db80a8763620741879 155922-155930 --> testing pass Upstream job id: Generic-Unit-Test-DPDK#363636 Test environment and result as below: +------------------------------+--------------+------------------------------+---------------------------+----------------+ | Environment | lpm_autotest | cryptodev_sw_snow3g_autotest | cryptodev_sw_zuc_autotest | dpdk_unit_test | +==============================+==============+==============================+===========================+================+ | Ubuntu 20.04 | PASS | SKIPPED | SKIPPED | PASS | +------------------------------+--------------+------------------------------+---------------------------+----------------+ | Debian 12 (arm) | SKIPPED | PASS | PASS | SKIPPED | +------------------------------+--------------+------------------------------+---------------------------+----------------+ | CentOS Stream 9 | SKIPPED | SKIPPED | SKIPPED | PASS | +------------------------------+--------------+------------------------------+---------------------------+----------------+ | CentOS Stream 10 | SKIPPED | SKIPPED | SKIPPED | PASS | +------------------------------+--------------+------------------------------+---------------------------+----------------+ | Fedora Linux 41 | SKIPPED | SKIPPED | SKIPPED | PASS | +------------------------------+--------------+------------------------------+---------------------------+----------------+ | Debian GNU/Linux 12 | SKIPPED | SKIPPED | SKIPPED | PASS | +------------------------------+--------------+------------------------------+---------------------------+----------------+ | Fedora Linux 40 | SKIPPED | SKIPPED | SKIPPED | PASS | +------------------------------+--------------+------------------------------+---------------------------+----------------+ | Red Hat Enterprise Linux 9.5 | SKIPPED | SKIPPED | SKIPPED | PASS | +------------------------------+--------------+------------------------------+---------------------------+----------------+ | Fedora Linux 42 | SKIPPED | SKIPPED | SKIPPED | PASS | +------------------------------+--------------+------------------------------+---------------------------+----------------+ | Ubuntu 24.04 | SKIPPED | SKIPPED | SKIPPED | PASS | +------------------------------+--------------+------------------------------+---------------------------+----------------+ | Ubuntu 22.04 | SKIPPED | SKIPPED | SKIPPED | PASS | +------------------------------+--------------+------------------------------+---------------------------+----------------+ Ubuntu 20.04 Kernel: 5.4 Compiler: gcc gcc (Ubuntu 9.4.0-1ubuntu1~20.04.2) 9.4.0 Debian 12 (arm) Kernel: Depends on container host Compiler: gcc (Debian 12.2.0-14) 12.2.0 CentOS Stream 9 Kernel: 5.4 Compiler: gcc gcc (GCC) 11.5.0 20240719 (Red Hat 11.5.0-7) CentOS Stream 10 Kernel: 5.4 Compiler: gcc gcc (GCC) 14.2.1 20250110 (Red Hat 14.2.1-8) Fedora Linux 41 Kernel: 5.4 Compiler: gcc gcc (GCC) 14.3.1 20250523 (Red Hat 14.3.1-1) Debian GNU/Linux 12 Kernel: 5.4 Compiler: gcc gcc (Debian 12.2.0-14+deb12u1) 12.2.0 Fedora Linux 40 Kernel: 5.4 Compiler: clang gcc (GCC) 14.2.1 20240912 (Red Hat 14.2.1-3) Red Hat Enterprise Linux 9.5 Kernel: 5.4 Compiler: gcc gcc (GCC) 11.5.0 20240719 (Red Hat 11.5.0-2) Fedora Linux 42 Kernel: 5.4 Compiler: gcc gcc (GCC) 15.1.1 20250521 (Red Hat 15.1.1-2) Ubuntu 24.04 Kernel: 5.4 Compiler: gcc gcc (Ubuntu 13.3.0-6ubuntu2~24.04) 13.3.0 Ubuntu 22.04 Kernel: 5.4 Compiler: gcc gcc (Ubuntu 11.4.0-1ubuntu1~22.04) 11.4.0 To view detailed results, visit: https://lab.dpdk.org/results/dashboard/patchsets/33896/ UNH-IOL DPDK Community Lab To manage your email subscriptions, visit: https://lab.dpdk.org/results/dashboard/preferences/subscriptions/