From mboxrd@z Thu Jan 1 00:00:00 1970 Return-Path: Received: from mails.dpdk.org (mails.dpdk.org [217.70.189.124]) by inbox.dpdk.org (Postfix) with ESMTP id E014446D60 for ; Mon, 18 Aug 2025 22:02:30 +0200 (CEST) Received: from mails.dpdk.org (localhost [127.0.0.1]) by mails.dpdk.org (Postfix) with ESMTP id BCFE040262; Mon, 18 Aug 2025 22:02:30 +0200 (CEST) Received: from mail-yw1-f226.google.com (mail-yw1-f226.google.com [209.85.128.226]) by mails.dpdk.org (Postfix) with ESMTP id 8859F40262 for ; Mon, 18 Aug 2025 22:02:29 +0200 (CEST) Received: by mail-yw1-f226.google.com with SMTP id 00721157ae682-71d60528734so36139317b3.2 for ; Mon, 18 Aug 2025 13:02:29 -0700 (PDT) DKIM-Signature: v=1; a=rsa-sha256; c=relaxed/relaxed; d=iol.unh.edu; s=unh-iol; t=1755547349; x=1756152149; darn=dpdk.org; h=references:in-reply-to:cc:to:from:subject:message-id:date:from:to :cc:subject:date:message-id:reply-to; bh=xylDAZvjZI44HiZ+fxk2B7Ga0v1VhvKFSChD/S5QExI=; b=hyXLUkN6azfZwzKa6HnrePuboxlNY8qqlixmyt5brjjlHYty+WN4MWS+iyhichaz7A W68uJyMi1tM5dDercyPkQbIVHdsZIvD1jCWreY8+krbeJ/gx+YK0+YXbl32ha7jKUIus 498/rTRcRvsu25lAVqvIe8LOHMBkW5PSAfIqE= X-Google-DKIM-Signature: v=1; a=rsa-sha256; c=relaxed/relaxed; d=1e100.net; s=20230601; t=1755547349; x=1756152149; h=references:in-reply-to:cc:to:from:subject:message-id:date :x-gm-message-state:from:to:cc:subject:date:message-id:reply-to; bh=xylDAZvjZI44HiZ+fxk2B7Ga0v1VhvKFSChD/S5QExI=; b=aZiAJ8/x+S4QF+sCPiiu0Wl6XC46/B60R/No2jwtsiO1/CBiw99G5XghOQmDfTbLh4 PWp2XcHpCy6HNaJRcOLTbhFsonUSqqWTNFAs2zbgblUYt0ggHMmbHZ/P2DD6zwZIRsDs JQrIXn8hBE6f1GhxRirdBLSTEuw1zaRDPJxGVT98N5vs+jiiAIMD5qHJWxtRL4/OwX9q /bHkaLJgV+cIGzNvNsSG01yojPyMq6amngg+Qab2Jg/LxV+xIdIotbpX5s8pSniDx3Iv iOEL4X/qKwM5MmDUaavnYtjD73qKFHfAufg7hcmR8AsM81XvSiSlRNE21F+FLPtQmmEA hgyw== X-Gm-Message-State: AOJu0YyIKAS95om/S1zNySscMACpJ9ljNGu1dpLMYC9koTzQvEkE3gbz 2N+FJAWA6G1ZfleVzAp0wF5ghIwjNHsRlKw4Um0Is3Y2/EQQB3yUX5lcbbmqhwACg/KAAQVPkyi 0SNsTgy0RU3tHKY5WnA3iXdF9WXY1w6K6AGnMStdMDpwe X-Gm-Gg: ASbGncushdBoO/jQ+aea93QvVPBa4D2EpQnhFKsbeX8TRvLtkdbki1maaYCk2mfiNFV 0P8GaLoIugGqkl1o6rpBgizMn9IKuXKBCsAEba3YEEDb6FuWajixLRHuq57ZQdVwoFNtoQSkS4/ VlduEY+/Zq25DYQbnAHAxvqYv5sbP8Bs2JoGwEGTPLDGThKz/8ohMubsBFWDIU/HFzQ7YrZe9kb u8HkfyhyKnP9uu1qv7f5+nh8Lv2Y7byV3tg+MWT3Wd+qkeQ7H50FOoK7Q+JDJbIk9Os/SSA6mv3 LPdOcYCtW57WqdkS5VVmE33Rd9LlBVroWK4v62AOFSfFIatQFrRRb2iPhmP9D1V9cpcemd94 X-Google-Smtp-Source: AGHT+IF2L5jQPlBRAjDlRG9V9L/Uf68M8ewnOUhtNpP9SPDbXLV5HUHtlMwtKW5MIlwRhMUxhOQuGh09koon X-Received: by 2002:a05:690c:7485:b0:71e:7ee9:839a with SMTP id 00721157ae682-71f9d4dd78fmr728367b3.2.1755547348872; Mon, 18 Aug 2025 13:02:28 -0700 (PDT) Received: from postal.iol.unh.edu (postal.iol.unh.edu. [132.177.123.84]) by smtp-relay.gmail.com with ESMTPS id 00721157ae682-71e796ec4f4sm5246957b3.49.2025.08.18.13.02.28 (version=TLS1_2 cipher=ECDHE-ECDSA-AES128-GCM-SHA256 bits=128/128); Mon, 18 Aug 2025 13:02:28 -0700 (PDT) X-Relaying-Domain: iol.unh.edu Date: Mon, 18 Aug 2025 13:02:28 -0700 (PDT) Message-ID: <68a386d4.050a0220.1023a2.9b47SMTPIN_ADDED_MISSING@mx.google.com> Received: from [172.21.0.2] (unknown [172.18.0.240]) by postal.iol.unh.edu (Postfix) with ESMTP id 86B68604D420; Mon, 18 Aug 2025 16:02:28 -0400 (EDT) Subject: |SUCCESS| pw155922-155930 [PATCH] [v4,9/9] config: enable comma warn From: dpdklab@iol.unh.edu To: Test Report Cc: dpdk-test-reports@iol.unh.edu In-Reply-To: <20250818161815.23611-10-stephen@networkplumber.org> References: <20250818161815.23611-10-stephen@networkplumber.org> Content-Type: text/plain X-BeenThere: test-report@dpdk.org X-Mailman-Version: 2.1.29 Precedence: list List-Id: automatic DPDK test reports List-Unsubscribe: , List-Archive: List-Post: List-Help: List-Subscribe: , Errors-To: test-report-bounces@dpdk.org Test-Label: iol-compile-arm64-testing Test-Status: SUCCESS http://dpdk.org/patch/155930 _Testing PASS_ Submitter: Stephen Hemminger Date: Monday, August 18 2025 16:18:14 DPDK git baseline: Repo:dpdk Branch: master CommitID:38543d33bd47fc0ee21f59db80a8763620741879 155922-155930 --> testing pass Upstream job id: Generic-DPDK-Compile-Meson#418286 Test environment and result as below: +------------------------------+--------------------+ | Environment | dpdk_meson_compile | +==============================+====================+ | Red Hat Enterprise Linux 9.5 | PASS | +------------------------------+--------------------+ | Ubuntu 20.04 | PASS | +------------------------------+--------------------+ | Fedora Linux 42 | PASS | +------------------------------+--------------------+ | CentOS Stream 9 | PASS | +------------------------------+--------------------+ | Ubuntu 22.04 | PASS | +------------------------------+--------------------+ | CentOS Stream 10 | PASS | +------------------------------+--------------------+ | Debian GNU/Linux 12 | PASS | +------------------------------+--------------------+ | Ubuntu 24.04 | PASS | +------------------------------+--------------------+ Red Hat Enterprise Linux 9.5 Kernel: 5.4 Compiler: gcc gcc (GCC) 11.5.0 20240719 (Red Hat 11.5.0-2) Ubuntu 20.04 Kernel: 5.15 Compiler: aarch64-linux-gnu-gcc gcc (Ubuntu 9.4.0-1ubuntu1~20.04.2) 9.4.0 Fedora Linux 42 Kernel: 5.4 Compiler: gcc gcc (GCC) 15.1.1 20250521 (Red Hat 15.1.1-2) CentOS Stream 9 Kernel: 5.4 Compiler: gcc gcc (GCC) 11.5.0 20240719 (Red Hat 11.5.0-7) Ubuntu 22.04 Kernel: 5.4 Compiler: gcc gcc (Ubuntu 11.4.0-1ubuntu1~22.04) 11.4.0 CentOS Stream 10 Kernel: 5.4 Compiler: gcc gcc (GCC) 14.2.1 20250110 (Red Hat 14.2.1-8) Debian GNU/Linux 12 Kernel: 5.4 Compiler: gcc gcc (Debian 12.2.0-14+deb12u1) 12.2.0 Ubuntu 24.04 Kernel: 5.4 Compiler: gcc gcc (Ubuntu 13.3.0-6ubuntu2~24.04) 13.3.0 To view detailed results, visit: https://lab.dpdk.org/results/dashboard/patchsets/33896/ UNH-IOL DPDK Community Lab To manage your email subscriptions, visit: https://lab.dpdk.org/results/dashboard/preferences/subscriptions/