From mboxrd@z Thu Jan 1 00:00:00 1970 Return-Path: Received: from mails.dpdk.org (mails.dpdk.org [217.70.189.124]) by inbox.dpdk.org (Postfix) with ESMTP id 795E346D62 for ; Tue, 19 Aug 2025 07:22:44 +0200 (CEST) Received: from mails.dpdk.org (localhost [127.0.0.1]) by mails.dpdk.org (Postfix) with ESMTP id 5210B402E4; Tue, 19 Aug 2025 07:22:44 +0200 (CEST) Received: from mail-pl1-f228.google.com (mail-pl1-f228.google.com [209.85.214.228]) by mails.dpdk.org (Postfix) with ESMTP id AE925402E4 for ; Tue, 19 Aug 2025 07:22:42 +0200 (CEST) Received: by mail-pl1-f228.google.com with SMTP id d9443c01a7336-24458263458so38740175ad.3 for ; Mon, 18 Aug 2025 22:22:42 -0700 (PDT) DKIM-Signature: v=1; a=rsa-sha256; c=relaxed/relaxed; d=iol.unh.edu; s=unh-iol; t=1755580962; x=1756185762; darn=dpdk.org; h=references:in-reply-to:cc:to:from:subject:message-id:date:from:to :cc:subject:date:message-id:reply-to; bh=0Oi6/iP+zas0a1XRlRDR/B5E9M6YgVEjdYpey4qgh+8=; b=GsVTg8L/OOb8vMgah55FBPwrSZF9bTPA2CRaV6xjP6GYkk0+sg9Y833k5Ho9QzoYSJ 8mHV3gZpftju5KbesU3TT82o/Ctzl51nNrZIL2+WqUVKGYx3XolPkPPua2wfDpBKGESG f4z3BdNfOsWo1GqLzxXGIlszfZQ5CqILt0uxg= X-Google-DKIM-Signature: v=1; a=rsa-sha256; c=relaxed/relaxed; d=1e100.net; s=20230601; t=1755580962; x=1756185762; h=references:in-reply-to:cc:to:from:subject:message-id:date :x-gm-message-state:from:to:cc:subject:date:message-id:reply-to; bh=0Oi6/iP+zas0a1XRlRDR/B5E9M6YgVEjdYpey4qgh+8=; b=TA8LYP+C1nUbVRLmGDrDP5JEoI6Cv2jXP/CEoqo3FpKmesqqfhQIfTPW9SmfB+g3Xv 614/dd4d00y0BSbEIwPRLNQy53sjHrxjNMdlQnv53WLATrysM9NzgkSvbr5kBs+0Ci+V CkfoyZZ/DtZLZmCaAxpPE5OjgfCMnAXUI8quOseLMsxSrefEJbJWQvNWXSytiOSlGxlH GbW4Ug2WYhnlv/dpZMwCpqLIcJBE7A5ie/plGSRUzjKdlSHPOaB46MCLD4+FPtiBHilD 6vHNUI3M/Iv27E4fIR+RowApntkZQfSkTZNyCWVEs2W+HxBxbzVPBQBxux0EueM5b1jA T+Rg== X-Gm-Message-State: AOJu0Yypk9wZiyKA5GFkd44YS0Elg144EOTx6QuJPGoFkNPZ+lbSdfdz YSnSY+a6Wqe01tcorF564mDVmAQwyl3izIlEymo7pIG+0voj5RH6a7RhpDoXYWQUCjZZeTCpX44 xAPUziTa8flCT8jYOxmf2zaDc9aeC0N47mz5UfSeWHxaaL32d6AxrPkOhnolr X-Gm-Gg: ASbGncsFL4Do/QNf40zrd4tu7K75NgKlQo2NR07ich0tqF3/Zm9sWiarINrSr0TrGkW bK3jc0525uqYt/iVisvGU38qQS2aHxTXQgnFsPTBLhMX9xeTaSsO1Ibc2wzK7Jwxs8tXhnVVwhk /5zY6n8CSBS59o7gOsgUBIkMseamUG+lyJaQ2aFxn0AjvO5BjE5BWL4fzWXO2HTXJ47wwWLvyWy U4fTycLQ3vdo2vEQeYVh5x44D5RpEa2+bnVVo+ao/f/y3q+xKPUX7vTxEufh5cFXRfhW6hvFsSW Lv4gJLWy5KTHcx2W+GZJwVQMcCQ1gyZ6rUEM7UvfZb4IxlaNew== X-Google-Smtp-Source: AGHT+IEb/yZ+jawvFXQYwhd58a85OfgPCAgV4/7C2Ij8NVCMUCwm34gcJr8rfTBFkxDTihQ65MqLE+uhDGwx X-Received: by 2002:a17:902:e549:b0:240:a889:5563 with SMTP id d9443c01a7336-245e030f249mr20860565ad.24.1755580961695; Mon, 18 Aug 2025 22:22:41 -0700 (PDT) Received: from postal.iol.unh.edu (postal.iol.unh.edu. [2606:4100:3880:1234::84]) by smtp-relay.gmail.com with ESMTPS id d9443c01a7336-2446caf1889sm9338415ad.23.2025.08.18.22.22.41 (version=TLS1_2 cipher=ECDHE-ECDSA-AES128-GCM-SHA256 bits=128/128); Mon, 18 Aug 2025 22:22:41 -0700 (PDT) X-Relaying-Domain: iol.unh.edu Date: Mon, 18 Aug 2025 22:22:41 -0700 (PDT) Message-ID: <68a40a21.170a0220.1261bf.f560SMTPIN_ADDED_MISSING@mx.google.com> Received: from [172.21.0.2] (unknown [172.18.0.240]) by postal.iol.unh.edu (Postfix) with ESMTP id 21BD96051830; Tue, 19 Aug 2025 01:22:41 -0400 (EDT) Subject: |SUCCESS| pw155980 [PATCH] app/crypto-perf: add ECDSA P384 support From: dpdklab@iol.unh.edu To: Test Report Cc: dpdk-test-reports@iol.unh.edu In-Reply-To: <20250819041517.1638717-1-rchiluka@marvell.com> References: <20250819041517.1638717-1-rchiluka@marvell.com> Content-Type: text/plain X-BeenThere: test-report@dpdk.org X-Mailman-Version: 2.1.29 Precedence: list List-Id: automatic DPDK test reports List-Unsubscribe: , List-Archive: List-Post: List-Help: List-Subscribe: , Errors-To: test-report-bounces@dpdk.org Test-Label: iol-unit-amd64-testing Test-Status: SUCCESS http://dpdk.org/patch/155980 _Testing PASS_ Submitter: Rupesh Chiluka Date: Tuesday, August 19 2025 04:15:17 DPDK git baseline: Repo:dpdk Branch: master CommitID:390cb3d4ea2f9139e18c7541ec68d269bfe3dc37 155980 --> testing pass Upstream job id: Generic-Unit-Test-DPDK#363687 Test environment and result as below: +-------------------------------+----------------+ | Environment | dpdk_unit_test | +===============================+================+ | Fedora Linux 40 | PASS | +-------------------------------+----------------+ | CentOS Stream 10 | PASS | +-------------------------------+----------------+ | CentOS Stream 9 | PASS | +-------------------------------+----------------+ | Debian GNU/Linux 12 | PASS | +-------------------------------+----------------+ | Fedora Linux 41 | PASS | +-------------------------------+----------------+ | Red Hat Enterprise Linux 8.10 | PASS | +-------------------------------+----------------+ | Fedora Linux 42 | PASS | +-------------------------------+----------------+ | Red Hat Enterprise Linux 9.5 | PASS | +-------------------------------+----------------+ | Ubuntu 22.04 | PASS | +-------------------------------+----------------+ | Ubuntu 20.04 | PASS | +-------------------------------+----------------+ | Ubuntu 24.04 | PASS | +-------------------------------+----------------+ Fedora Linux 40 Kernel: 5.15 Compiler: gcc gcc (GCC) 14.2.1 20240912 (Red Hat 14.2.1-3) CentOS Stream 10 Kernel: 5.15 Compiler: gcc gcc (GCC) 14.2.1 20250110 (Red Hat 14.2.1-8) CentOS Stream 9 Kernel: 5.15 Compiler: gcc gcc (GCC) 11.5.0 20240719 (Red Hat 11.5.0-7) Debian GNU/Linux 12 Kernel: 5.15 Compiler: gcc gcc (Debian 12.2.0-14+deb12u1) 12.2.0 Fedora Linux 41 Kernel: 5.15 Compiler: gcc gcc (GCC) 14.3.1 20250523 (Red Hat 14.3.1-1) Red Hat Enterprise Linux 8.10 Kernel: 5.15 Compiler: gcc gcc (GCC) 8.5.0 20210514 (Red Hat 8.5.0-22) Fedora Linux 42 Kernel: 5.15 Compiler: gcc gcc (GCC) 15.1.1 20250521 (Red Hat 15.1.1-2) Red Hat Enterprise Linux 9.5 Kernel: 5.15 Compiler: gcc gcc (GCC) 11.5.0 20240719 (Red Hat 11.5.0-2) Ubuntu 22.04 Kernel: 5.15 Compiler: gcc gcc (Ubuntu 11.4.0-1ubuntu1~22.04) 11.4.0 Ubuntu 20.04 Kernel: 5.15 Compiler: gcc gcc (Ubuntu 9.4.0-1ubuntu1~20.04.2) 9.4.0 Ubuntu 24.04 Kernel: 5.15 Compiler: gcc gcc (Ubuntu 13.3.0-6ubuntu2~24.04) 13.3.0 To view detailed results, visit: https://lab.dpdk.org/results/dashboard/patchsets/33898/ UNH-IOL DPDK Community Lab To manage your email subscriptions, visit: https://lab.dpdk.org/results/dashboard/preferences/subscriptions/