From mboxrd@z Thu Jan 1 00:00:00 1970 Return-Path: Received: from mails.dpdk.org (mails.dpdk.org [217.70.189.124]) by inbox.dpdk.org (Postfix) with ESMTP id 3A1B046CAE for ; Tue, 19 Aug 2025 07:39:41 +0200 (CEST) Received: from mails.dpdk.org (localhost [127.0.0.1]) by mails.dpdk.org (Postfix) with ESMTP id 34F5D402E4; Tue, 19 Aug 2025 07:39:41 +0200 (CEST) Received: from mail-pf1-f225.google.com (mail-pf1-f225.google.com [209.85.210.225]) by mails.dpdk.org (Postfix) with ESMTP id 9158B402E4 for ; Tue, 19 Aug 2025 07:39:40 +0200 (CEST) Received: by mail-pf1-f225.google.com with SMTP id d2e1a72fcca58-76e563b25c4so1486867b3a.0 for ; Mon, 18 Aug 2025 22:39:40 -0700 (PDT) DKIM-Signature: v=1; a=rsa-sha256; c=relaxed/relaxed; d=iol.unh.edu; s=unh-iol; t=1755581980; x=1756186780; darn=dpdk.org; h=references:in-reply-to:cc:to:from:subject:message-id:date:from:to :cc:subject:date:message-id:reply-to; bh=F0qD1qdQvpTpXShLdJho8D5CIvQfhzCwDwVliCfIzlY=; b=iZq4SN/zn2/MaAvMkcxu1VIjwxhaBBkd/w5mvMG56bUXPWs4WL1LO6Y6lWm6N5iQJF pBuST1bmKop0rd+5Db3CB8I31cOasaGtr5zzpn/HxAZ5Sog6vmIftd32ARv22fijd6EZ 47TzTraWaI2x84PMVsJKFSKR+A6Q8Ml8iZeLs= X-Google-DKIM-Signature: v=1; a=rsa-sha256; c=relaxed/relaxed; d=1e100.net; s=20230601; t=1755581980; x=1756186780; h=references:in-reply-to:cc:to:from:subject:message-id:date :x-gm-message-state:from:to:cc:subject:date:message-id:reply-to; bh=F0qD1qdQvpTpXShLdJho8D5CIvQfhzCwDwVliCfIzlY=; b=ItVh5g1qjEcZexyHVtgV4jz3L3MnHeGSwgXJ4agRA32w5uwgkGpobLQBwZEqni8sMu s3MWmo8CU6gbVOEwELj8i3fSN4ueJVsa7BJDU8wuXbS8KLpEBx4Kf7I2EjVX80BqH5HJ b9u+MC/w+rB/m00JUAolrA7Do4qYfcnoyAZtNok9thF65EtrYan/u/lDcbO7qLtqB1yv exL1jWeees7ES/QFVDMP6auXoUMl1ReQ530w7Qgw5zpnXRXLmwHrv4sEM+TRHqO9p6tR Ei+HawvjZHGqReQ5pu54UKXxSpYPZES0TnCkL7KSJRjAr0vznnYN3iTQlXr4wNV4Yiti o0qA== X-Gm-Message-State: AOJu0YyKVLo7n+lFIM8i/LlQ4R2LMeZ0/bYZd3xr1YHGcJAll0aUDNt2 c8O+uDge3a9jue0qY2fbqhorXRY8zT1e3aekmH71S3wvlWkwNcRqPklbzepgWydvJZmNgpJsE/5 QKt/NwzjZtpZRWOSjeB3+N+9QqJCTz5j9oJ0FSFGRC1KkOx18Wg0DTrXYIZ0W X-Gm-Gg: ASbGncu4RU68R3p44cwmSCBV+BDXu1TG9NKSvlFWDR4eF/+CpRl4xAuPlqeDEQkTEIW PXOlFzZMVsAsJG1tPDORVyPfTMrvZ0FgGfobdmCbgazsp6EGeeSvbZsHGyj2fyoHLcsdTae3O27 9j6k6QKKBuqs+8KGUL+4a2XdchILhhyYNqEWBUjES+tQBECng+uwNOz26gvUtDPaX5+EFjTfQCi T4nqBD28SfOrn0F1NFiT6y2SCiS0Ze6BIzgZZhlhyy7pJQrMpJlGIF6EjagNlDS5dVKN9y5LD/z uRHJx1wPeYHCdeLDnNPjp+AJQTP5tiAnEx/nRjWrQIup0h2F0w== X-Google-Smtp-Source: AGHT+IFrKZRP7Rm25Er4VqFtHaFuMcSNwg35Ew0Qk/ww1shK6p/0Xo8Gm/phKskZjbqOedPoNT+1sLx9RDOA X-Received: by 2002:a05:6a00:1406:b0:76b:f0ac:e7b7 with SMTP id d2e1a72fcca58-76e81109366mr1612248b3a.22.1755581979699; Mon, 18 Aug 2025 22:39:39 -0700 (PDT) Received: from postal.iol.unh.edu (postal.iol.unh.edu. [2606:4100:3880:1234::84]) by smtp-relay.gmail.com with ESMTPS id d2e1a72fcca58-76e7d29ec5dsm128278b3a.16.2025.08.18.22.39.39 (version=TLS1_2 cipher=ECDHE-ECDSA-AES128-GCM-SHA256 bits=128/128); Mon, 18 Aug 2025 22:39:39 -0700 (PDT) X-Relaying-Domain: iol.unh.edu Date: Mon, 18 Aug 2025 22:39:39 -0700 (PDT) Message-ID: <68a40e1b.a70a0220.162248.6bdeSMTPIN_ADDED_MISSING@mx.google.com> Received: from [172.21.0.3] (unknown [172.18.0.240]) by postal.iol.unh.edu (Postfix) with ESMTP id DF9426051830; Tue, 19 Aug 2025 01:39:38 -0400 (EDT) Subject: |SUCCESS| pw155980 [PATCH] app/crypto-perf: add ECDSA P384 support From: dpdklab@iol.unh.edu To: Test Report Cc: dpdk-test-reports@iol.unh.edu In-Reply-To: <20250819041517.1638717-1-rchiluka@marvell.com> References: <20250819041517.1638717-1-rchiluka@marvell.com> Content-Type: text/plain X-BeenThere: test-report@dpdk.org X-Mailman-Version: 2.1.29 Precedence: list List-Id: automatic DPDK test reports List-Unsubscribe: , List-Archive: List-Post: List-Help: List-Subscribe: , Errors-To: test-report-bounces@dpdk.org Test-Label: iol-compile-amd64-testing Test-Status: SUCCESS http://dpdk.org/patch/155980 _Testing PASS_ Submitter: Rupesh Chiluka Date: Tuesday, August 19 2025 04:15:17 DPDK git baseline: Repo:dpdk Branch: master CommitID:390cb3d4ea2f9139e18c7541ec68d269bfe3dc37 155980 --> testing pass Upstream job id: Generic-DPDK-Compile-Meson#418338 Test environment and result as below: +-------------------------------+--------------------+-------------------+------------------+ | Environment | dpdk_meson_compile | dpdk_compile_spdk | dpdk_compile_ovs | +===============================+====================+===================+==================+ | CentOS Stream 10 | PASS | SKIPPED | SKIPPED | +-------------------------------+--------------------+-------------------+------------------+ | Debian GNU/Linux 12 | PASS | PASS | SKIPPED | +-------------------------------+--------------------+-------------------+------------------+ | Fedora Linux 42 | PASS | PASS | PASS | +-------------------------------+--------------------+-------------------+------------------+ | openSUSE Leap 15.6 | PASS | SKIPPED | SKIPPED | +-------------------------------+--------------------+-------------------+------------------+ | Red Hat Enterprise Linux 8.10 | PASS | SKIPPED | SKIPPED | +-------------------------------+--------------------+-------------------+------------------+ | Red Hat Enterprise Linux 9.5 | PASS | SKIPPED | SKIPPED | +-------------------------------+--------------------+-------------------+------------------+ | Ubuntu 22.04 | PASS | PASS | SKIPPED | +-------------------------------+--------------------+-------------------+------------------+ | Ubuntu 20.04 | PASS | SKIPPED | SKIPPED | +-------------------------------+--------------------+-------------------+------------------+ | Alpine Linux 3.22.0 | PASS | SKIPPED | SKIPPED | +-------------------------------+--------------------+-------------------+------------------+ | Ubuntu 24.04 | PASS | PASS | PASS | +-------------------------------+--------------------+-------------------+------------------+ | FreeBSD 14.2 | PASS | SKIPPED | SKIPPED | +-------------------------------+--------------------+-------------------+------------------+ | CentOS Stream 9 | PASS | PASS | SKIPPED | +-------------------------------+--------------------+-------------------+------------------+ CentOS Stream 10 Kernel: 5.15 Compiler: gcc gcc (GCC) 14.2.1 20250110 (Red Hat 14.2.1-8) Debian GNU/Linux 12 Kernel: 5.15 Compiler: gcc gcc (Debian 12.2.0-14+deb12u1) 12.2.0 Fedora Linux 42 Kernel: 5.15 Compiler: clang gcc (GCC) 15.1.1 20250521 (Red Hat 15.1.1-2) openSUSE Leap 15.6 Kernel: 5.15 Compiler: gcc gcc (SUSE Linux) 7.5.0 Red Hat Enterprise Linux 8.10 Kernel: 5.15 Compiler: gcc gcc (GCC) 8.5.0 20210514 (Red Hat 8.5.0-22) Red Hat Enterprise Linux 9.5 Kernel: 5.15 Compiler: gcc gcc (GCC) 11.5.0 20240719 (Red Hat 11.5.0-2) Ubuntu 22.04 Kernel: 5.15 Compiler: gcc gcc (Ubuntu 11.4.0-1ubuntu1~22.04) 11.4.0 Ubuntu 20.04 Kernel: 5.15 Compiler: gcc gcc (Ubuntu 9.4.0-1ubuntu1~20.04.2) 9.4.0 Alpine Linux 3.22.0 Kernel: 5.15 Compiler: gcc gcc (Alpine 14.2.0) 14.2.0 Ubuntu 24.04 Kernel: 5.15 Compiler: gcc gcc (Ubuntu 13.3.0-6ubuntu2~24.04) 13.3.0 FreeBSD 14.2 Kernel: 14.2-RELEASE Compiler: clang 18.1.6 CentOS Stream 9 Kernel: 5.15 Compiler: gcc gcc (GCC) 11.5.0 20240719 (Red Hat 11.5.0-7) To view detailed results, visit: https://lab.dpdk.org/results/dashboard/patchsets/33898/ UNH-IOL DPDK Community Lab To manage your email subscriptions, visit: https://lab.dpdk.org/results/dashboard/preferences/subscriptions/