From mboxrd@z Thu Jan 1 00:00:00 1970 Return-Path: Received: from mails.dpdk.org (mails.dpdk.org [217.70.189.124]) by inbox.dpdk.org (Postfix) with ESMTP id 69BCA46D62 for ; Tue, 19 Aug 2025 08:23:18 +0200 (CEST) Received: from mails.dpdk.org (localhost [127.0.0.1]) by mails.dpdk.org (Postfix) with ESMTP id 64937402E4; Tue, 19 Aug 2025 08:23:18 +0200 (CEST) Received: from mail-yw1-f228.google.com (mail-yw1-f228.google.com [209.85.128.228]) by mails.dpdk.org (Postfix) with ESMTP id 29408402E4 for ; Tue, 19 Aug 2025 08:23:17 +0200 (CEST) Received: by mail-yw1-f228.google.com with SMTP id 00721157ae682-71d603f13abso43305437b3.0 for ; Mon, 18 Aug 2025 23:23:17 -0700 (PDT) DKIM-Signature: v=1; a=rsa-sha256; c=relaxed/relaxed; d=iol.unh.edu; s=unh-iol; t=1755584596; x=1756189396; darn=dpdk.org; h=references:in-reply-to:cc:to:from:subject:message-id:date:from:to :cc:subject:date:message-id:reply-to; bh=TYKtboL1yDDc9Qtu/t6A845jb3TVhlNIpMtxU+AHq/0=; b=RfZb1GqgcU7WNVXG/pIEIUsUi5ndQofLxxjiCi/IAbmwYNAkkcSmnaPUcT5Siyb2ic /QaSoiGzAFeJh6DmO30SS5OPnBTMHV8H28MjpLas2UWNVMgoWhIHF4Hz+YLpD6aenZeZ bCf+D7uJqrNqI/0pKvTPRGULne+HdLqParQN8= X-Google-DKIM-Signature: v=1; a=rsa-sha256; c=relaxed/relaxed; d=1e100.net; s=20230601; t=1755584596; x=1756189396; h=references:in-reply-to:cc:to:from:subject:message-id:date :x-gm-message-state:from:to:cc:subject:date:message-id:reply-to; bh=TYKtboL1yDDc9Qtu/t6A845jb3TVhlNIpMtxU+AHq/0=; b=OBHbymZcovgeRrd7vNIAI/THoGF98wpcH6g6IjNIXWTmyu4kdYVDWp2cV0FawQ+nxs vqbRQCSZ2SESsu7INWkWM8woAoGwcXQU5BBoiWv9RR6b9Vmx7h2kyie+xCjh7j46gj8O Kdey/6E01sOUMj1+VUwld2jRbLtI+CO/rTCHkiouOQZ/2HgaNZg73G6CdKsjzY3Nk/g6 RCTzv8rPuhbsEPdwbfYQ3bptGrvM7XsV19dWNgmUaKWFRdUCDb2nKE10cuGYeAT6D+vn BOyL2A7cYt/g5UE8SbLTfFvdFuyYHtGOjY/PX1/pe9s/nEUqDUnI/Kddj1fIkBRlpECf v3Zw== X-Gm-Message-State: AOJu0YwOjxLRyXNEpIwjkJsITEM8wVMpia1cOAsINBq6TgQmehUO8CFm KbWA6TB64DGre2ttstUgPCWUkBVUEQ2nHjVdizvn6ZGhO34pB8VpAAOG4d+Xgf/KuVdXRin5RN2 V3AUCD7aB/1uyyorwEoUesjK5yHZGEQQnaeFS/0g/G3j8 X-Gm-Gg: ASbGncuIx4DI87gdkVeUQHHWHAwMa2ad5h6SmBG5JKgKrK4VADKmmTjOKEUxf5Ylk4Q 6f8yhsQzXFB+3+7f3GHZfkmZRxj/FlihRnR22Q0twpMmgZMY+9XwZE0+oOWMsCO17t6BxDYXgvS jfB7PMXJRsP/uks6/XP7IPPa+s1r+KM36NUN8VVcdTAPTGTXhaUg3n47HGaKQGyNt8K5r/EjhqO T4+X2joJcRYBTQT6aUUU1Fc6EqOK46wsgxkM09tSx7El4wTu0fbqGuMuHjqEzGiFSJtPMCPynnF 5ApW7+Xdxh5P9KKG7gGSeTlKsANhtwntAbwlQ51zdxKEic41tBlHEyO4vUUYxBW1IOcuUj3J X-Google-Smtp-Source: AGHT+IECTbZ3YGWAPZrSU9B3ARGZp64XtRkTTkkFtexCQ7IxhO3SgF3yTwme9jr07iIDeLZlTQ+gpv8+EaNB X-Received: by 2002:a05:690c:55c2:10b0:71f:a817:1de6 with SMTP id 00721157ae682-71fa8172acamr208637b3.41.1755584596452; Mon, 18 Aug 2025 23:23:16 -0700 (PDT) Received: from postal.iol.unh.edu (postal.iol.unh.edu. [132.177.123.84]) by smtp-relay.gmail.com with ESMTPS id 00721157ae682-71e6e22eff2sm8204427b3.50.2025.08.18.23.23.16 (version=TLS1_2 cipher=ECDHE-ECDSA-AES128-GCM-SHA256 bits=128/128); Mon, 18 Aug 2025 23:23:16 -0700 (PDT) X-Relaying-Domain: iol.unh.edu Date: Mon, 18 Aug 2025 23:23:16 -0700 (PDT) Message-ID: <68a41854.050a0220.3cc2b1.97acSMTPIN_ADDED_MISSING@mx.google.com> Received: from [172.21.0.9] (unknown [172.18.0.240]) by postal.iol.unh.edu (Postfix) with ESMTP id 21E146051830; Tue, 19 Aug 2025 02:23:16 -0400 (EDT) Subject: |SUCCESS| pw155979 [PATCH] [v2] bus/vmbus: add device argument to co From: dpdklab@iol.unh.edu To: Test Report Cc: dpdk-test-reports@iol.unh.edu In-Reply-To: <1755563066-2592-1-git-send-email-longli@linuxonhyperv.com> References: <1755563066-2592-1-git-send-email-longli@linuxonhyperv.com> Content-Type: text/plain X-BeenThere: test-report@dpdk.org X-Mailman-Version: 2.1.29 Precedence: list List-Id: automatic DPDK test reports List-Unsubscribe: , List-Archive: List-Post: List-Help: List-Subscribe: , Errors-To: test-report-bounces@dpdk.org Test-Label: iol-unit-amd64-testing Test-Status: SUCCESS http://dpdk.org/patch/155979 _Testing PASS_ Submitter: Long Li Date: Tuesday, August 19 2025 00:24:26 DPDK git baseline: Repo:dpdk Branch: master CommitID:38543d33bd47fc0ee21f59db80a8763620741879 155979 --> testing pass Upstream job id: Generic-Unit-Test-DPDK#363720 Test environment and result as below: +-------------------------------+----------------+ | Environment | dpdk_unit_test | +===============================+================+ | Debian GNU/Linux 12 | PASS | +-------------------------------+----------------+ | CentOS Stream 9 | PASS | +-------------------------------+----------------+ | CentOS Stream 10 | PASS | +-------------------------------+----------------+ | Fedora Linux 40 | PASS | +-------------------------------+----------------+ | Fedora Linux 41 | PASS | +-------------------------------+----------------+ | Red Hat Enterprise Linux 8.10 | PASS | +-------------------------------+----------------+ | Fedora Linux 42 | PASS | +-------------------------------+----------------+ | Ubuntu 20.04 | PASS | +-------------------------------+----------------+ | Ubuntu 22.04 | PASS | +-------------------------------+----------------+ | Red Hat Enterprise Linux 9.5 | PASS | +-------------------------------+----------------+ | Ubuntu 24.04 | PASS | +-------------------------------+----------------+ Debian GNU/Linux 12 Kernel: 5.15 Compiler: gcc gcc (Debian 12.2.0-14+deb12u1) 12.2.0 CentOS Stream 9 Kernel: 5.15 Compiler: gcc gcc (GCC) 11.5.0 20240719 (Red Hat 11.5.0-7) CentOS Stream 10 Kernel: 5.15 Compiler: gcc gcc (GCC) 14.2.1 20250110 (Red Hat 14.2.1-8) Fedora Linux 40 Kernel: 5.15 Compiler: gcc gcc (GCC) 14.2.1 20240912 (Red Hat 14.2.1-3) Fedora Linux 41 Kernel: 5.15 Compiler: clang gcc (GCC) 14.3.1 20250523 (Red Hat 14.3.1-1) Red Hat Enterprise Linux 8.10 Kernel: 5.15 Compiler: gcc gcc (GCC) 8.5.0 20210514 (Red Hat 8.5.0-22) Fedora Linux 42 Kernel: 5.15 Compiler: clang gcc (GCC) 15.1.1 20250521 (Red Hat 15.1.1-2) Ubuntu 20.04 Kernel: 5.15 Compiler: gcc gcc (Ubuntu 9.4.0-1ubuntu1~20.04.2) 9.4.0 Ubuntu 22.04 Kernel: 5.15 Compiler: gcc gcc (Ubuntu 11.4.0-1ubuntu1~22.04) 11.4.0 Red Hat Enterprise Linux 9.5 Kernel: 5.15 Compiler: gcc gcc (GCC) 11.5.0 20240719 (Red Hat 11.5.0-2) Ubuntu 24.04 Kernel: 5.15 Compiler: gcc gcc (Ubuntu 13.3.0-6ubuntu2~24.04) 13.3.0 To view detailed results, visit: https://lab.dpdk.org/results/dashboard/patchsets/33899/ UNH-IOL DPDK Community Lab To manage your email subscriptions, visit: https://lab.dpdk.org/results/dashboard/preferences/subscriptions/