From mboxrd@z Thu Jan 1 00:00:00 1970 Return-Path: Received: from mails.dpdk.org (mails.dpdk.org [217.70.189.124]) by inbox.dpdk.org (Postfix) with ESMTP id F28C746D62 for ; Tue, 19 Aug 2025 08:27:21 +0200 (CEST) Received: from mails.dpdk.org (localhost [127.0.0.1]) by mails.dpdk.org (Postfix) with ESMTP id D11B6402E4; Tue, 19 Aug 2025 08:27:21 +0200 (CEST) Received: from mail-io1-f98.google.com (mail-io1-f98.google.com [209.85.166.98]) by mails.dpdk.org (Postfix) with ESMTP id D81A0402E4 for ; Tue, 19 Aug 2025 08:27:20 +0200 (CEST) Received: by mail-io1-f98.google.com with SMTP id ca18e2360f4ac-88435b9e8abso78460039f.3 for ; Mon, 18 Aug 2025 23:27:20 -0700 (PDT) DKIM-Signature: v=1; a=rsa-sha256; c=relaxed/relaxed; d=iol.unh.edu; s=unh-iol; t=1755584840; x=1756189640; darn=dpdk.org; h=references:in-reply-to:cc:to:from:subject:message-id:date:from:to :cc:subject:date:message-id:reply-to; bh=kc/bY3ICQW76AlRSUc1qWtaNxtpllmySQiLloB3eIXY=; b=hKZM+SwCYWzg9V/iVTpg8n85uox+0hEk2Ogq4UVKsdj2clXF1LAfgxcTKyrjHrWIvo giIWP/i0L1rqDzf/vPdqlUSc92RzMI6to9tYfAB/2raV6rXJ3Y/QnzvOEd5hOVPWiG5R dNK/Y/A/iKFnRxmFGrfYbv/7crGtwuTYSNL/g= X-Google-DKIM-Signature: v=1; a=rsa-sha256; c=relaxed/relaxed; d=1e100.net; s=20230601; t=1755584840; x=1756189640; h=references:in-reply-to:cc:to:from:subject:message-id:date :x-gm-message-state:from:to:cc:subject:date:message-id:reply-to; bh=kc/bY3ICQW76AlRSUc1qWtaNxtpllmySQiLloB3eIXY=; b=r2Hf2AaSS1trHOjoSpf5856PJPDokiqqWi1LdoJiP5cfRjqqg124tDWo00rrbIcUMl NkJERtSeZQwOq2nz9QgbR/nfcMoPjnFk/s3+K8xIHu7orDMUpGQP7hrzAFWewButo2en OuHL3bc62X7LKmjCaOhlJVSKPI+RbMQF+zPmKd+PUG4qM4G2ItX7+wZaECU10LLJkUrr 5fF1PCNnNC3jHPWuZB/Ovfry5i05drd/zJfx2flkv9c0Qjbx5svZZS1UUZokXAyQm71K rd2j8me4z7j7h5KEiJ+KUq3r9ZL7bFVPoCj9Jj7SkjovLUxZc2Jh+SZ6PENc6bHceG4D QfMA== X-Gm-Message-State: AOJu0Yz+c0H2HTstZ0xdBrs8P+Kt0F2626EFK5na+VjCp69qOBZDFnQZ 9+SSXgnjZkdvOpAkvPPu9GtqiOSnYpJ1sxXPJnO7pyeXPe+JtDnhK0zLjluTxRm75ix6yb7qtrH WK6GuaLGSL5V0faexospgQke8NWCa09X8JCMiD4D6qN8a X-Gm-Gg: ASbGncueGuVhqmOMMWR9a9sUbz/KHihJWmy8UXG9n6K7ZSEThBzYhEk7dO9rEwuQG0m 1xEhxkq42z92ut7D+kNpJvlAvuVl6xOG+MtFisHsnK4hZVFf+9ql3OuZ8+TFvvW+al7e3C26fYd MkK05cYNBjDkAgYfbtu9pcmZDNDoh6B8mCm913NXwSQPwEScIHK4mZCGqxGni+ohNMRE8JPwwNV q5zQlPBoVRSPplES6QqABqn/hyUdv2xGWIXk2dgynm1HkLT4xYNS92jt7A/vQTP5eDiwtc70hp3 tF4jAN+7Loqs580d7RGGvnIaef95Diua2TVMqdl+uXV9wTf+znc06HWGo6lhQ7xdYfr7eDPk X-Google-Smtp-Source: AGHT+IEIXqMKbaiQF1gf2G7K6q0BnYWNF8X73VYvvd33hpFE4S0EH3M930gvvxcRXm/EAm0ZJlMh1ChqBVKk X-Received: by 2002:a05:6602:168e:b0:867:6680:cfd with SMTP id ca18e2360f4ac-88467e8e2b9mr230092639f.1.1755584839994; Mon, 18 Aug 2025 23:27:19 -0700 (PDT) Received: from postal.iol.unh.edu (postal.iol.unh.edu. [132.177.123.84]) by smtp-relay.gmail.com with ESMTPS id 8926c6da1cb9f-50c94b0f2adsm570593173.47.2025.08.18.23.27.19 (version=TLS1_2 cipher=ECDHE-ECDSA-AES128-GCM-SHA256 bits=128/128); Mon, 18 Aug 2025 23:27:19 -0700 (PDT) X-Relaying-Domain: iol.unh.edu Date: Mon, 18 Aug 2025 23:27:19 -0700 (PDT) Message-ID: <68a41947.050a0220.3cf4c3.b62dSMTPIN_ADDED_MISSING@mx.google.com> Received: from [172.21.0.3] (unknown [172.18.0.240]) by postal.iol.unh.edu (Postfix) with ESMTP id 863816051830; Tue, 19 Aug 2025 02:27:19 -0400 (EDT) Subject: |SUCCESS| pw155979 [PATCH] [v2] bus/vmbus: add device argument to co From: dpdklab@iol.unh.edu To: Test Report Cc: dpdk-test-reports@iol.unh.edu In-Reply-To: <1755563066-2592-1-git-send-email-longli@linuxonhyperv.com> References: <1755563066-2592-1-git-send-email-longli@linuxonhyperv.com> Content-Type: text/plain X-BeenThere: test-report@dpdk.org X-Mailman-Version: 2.1.29 Precedence: list List-Id: automatic DPDK test reports List-Unsubscribe: , List-Archive: List-Post: List-Help: List-Subscribe: , Errors-To: test-report-bounces@dpdk.org Test-Label: iol-compile-amd64-testing Test-Status: SUCCESS http://dpdk.org/patch/155979 _Testing PASS_ Submitter: Long Li Date: Tuesday, August 19 2025 00:24:26 DPDK git baseline: Repo:dpdk Branch: master CommitID:38543d33bd47fc0ee21f59db80a8763620741879 155979 --> testing pass Upstream job id: Generic-DPDK-Compile-Meson#418372 Test environment and result as below: +-------------------------------+--------------------+-------------------+------------------+ | Environment | dpdk_meson_compile | dpdk_compile_spdk | dpdk_compile_ovs | +===============================+====================+===================+==================+ | CentOS Stream 10 | PASS | SKIPPED | SKIPPED | +-------------------------------+--------------------+-------------------+------------------+ | CentOS Stream 9 | PASS | PASS | SKIPPED | +-------------------------------+--------------------+-------------------+------------------+ | Fedora Linux 42 | PASS | PASS | PASS | +-------------------------------+--------------------+-------------------+------------------+ | Alpine Linux 3.22.0 | PASS | SKIPPED | SKIPPED | +-------------------------------+--------------------+-------------------+------------------+ | Ubuntu 20.04 | PASS | SKIPPED | SKIPPED | +-------------------------------+--------------------+-------------------+------------------+ | Red Hat Enterprise Linux 9.5 | PASS | SKIPPED | SKIPPED | +-------------------------------+--------------------+-------------------+------------------+ | Ubuntu 22.04 | PASS | PASS | SKIPPED | +-------------------------------+--------------------+-------------------+------------------+ | openSUSE Leap 15.6 | PASS | SKIPPED | SKIPPED | +-------------------------------+--------------------+-------------------+------------------+ | FreeBSD 14.2 | PASS | SKIPPED | SKIPPED | +-------------------------------+--------------------+-------------------+------------------+ | Ubuntu 24.04 | PASS | PASS | PASS | +-------------------------------+--------------------+-------------------+------------------+ | Debian GNU/Linux 12 | PASS | PASS | SKIPPED | +-------------------------------+--------------------+-------------------+------------------+ | Red Hat Enterprise Linux 8.10 | PASS | SKIPPED | SKIPPED | +-------------------------------+--------------------+-------------------+------------------+ CentOS Stream 10 Kernel: 5.15 Compiler: gcc gcc (GCC) 14.2.1 20250110 (Red Hat 14.2.1-8) CentOS Stream 9 Kernel: 5.15 Compiler: gcc gcc (GCC) 11.5.0 20240719 (Red Hat 11.5.0-7) Fedora Linux 42 Kernel: 5.15 Compiler: gcc gcc (GCC) 15.1.1 20250521 (Red Hat 15.1.1-2) Alpine Linux 3.22.0 Kernel: 5.15 Compiler: gcc gcc (Alpine 14.2.0) 14.2.0 Ubuntu 20.04 Kernel: 5.15 Compiler: gcc gcc (Ubuntu 9.4.0-1ubuntu1~20.04.2) 9.4.0 Red Hat Enterprise Linux 9.5 Kernel: 5.15 Compiler: gcc gcc (GCC) 11.5.0 20240719 (Red Hat 11.5.0-2) Ubuntu 22.04 Kernel: 5.15 Compiler: gcc gcc (Ubuntu 11.4.0-1ubuntu1~22.04) 11.4.0 openSUSE Leap 15.6 Kernel: 5.15 Compiler: gcc gcc (SUSE Linux) 7.5.0 FreeBSD 14.2 Kernel: 14.2-RELEASE Compiler: clang 18.1.6 Ubuntu 24.04 Kernel: 5.15 Compiler: gcc gcc (Ubuntu 13.3.0-6ubuntu2~24.04) 13.3.0 Debian GNU/Linux 12 Kernel: 5.15 Compiler: gcc gcc (Debian 12.2.0-14+deb12u1) 12.2.0 Red Hat Enterprise Linux 8.10 Kernel: 5.15 Compiler: gcc gcc (GCC) 8.5.0 20210514 (Red Hat 8.5.0-22) To view detailed results, visit: https://lab.dpdk.org/results/dashboard/patchsets/33899/ UNH-IOL DPDK Community Lab To manage your email subscriptions, visit: https://lab.dpdk.org/results/dashboard/preferences/subscriptions/