From mboxrd@z Thu Jan 1 00:00:00 1970 Return-Path: Received: from mails.dpdk.org (mails.dpdk.org [217.70.189.124]) by inbox.dpdk.org (Postfix) with ESMTP id DDB9246D62 for ; Tue, 19 Aug 2025 08:55:44 +0200 (CEST) Received: from mails.dpdk.org (localhost [127.0.0.1]) by mails.dpdk.org (Postfix) with ESMTP id C0E3A40262; Tue, 19 Aug 2025 08:55:44 +0200 (CEST) Received: from mail-il1-f227.google.com (mail-il1-f227.google.com [209.85.166.227]) by mails.dpdk.org (Postfix) with ESMTP id 7D13240262 for ; Tue, 19 Aug 2025 08:55:43 +0200 (CEST) Received: by mail-il1-f227.google.com with SMTP id e9e14a558f8ab-3e56fe95d83so27195495ab.0 for ; Mon, 18 Aug 2025 23:55:43 -0700 (PDT) DKIM-Signature: v=1; a=rsa-sha256; c=relaxed/relaxed; d=iol.unh.edu; s=unh-iol; t=1755586543; x=1756191343; darn=dpdk.org; h=references:in-reply-to:cc:to:from:subject:message-id:date:from:to :cc:subject:date:message-id:reply-to; bh=fdj8LvP2ndCTE2lo0wwzDevbyBg+OZ6lt5uWbLOcXIk=; b=QkMOXvyl8TmznH/fNCgx8O5ENvvXtU0UeMgBp+4B60DaM7YD5dPkadXTZUTHzTx+7a furxDqcJeSoMWY/jKKcFeTV59jIh09RkcEwOat5Vimrbn4WzQlI/2paIEDMsxsH9TVnL xPoa8JSh56Z1c+un557bvBURyuySdz4ANlk3s= X-Google-DKIM-Signature: v=1; a=rsa-sha256; c=relaxed/relaxed; d=1e100.net; s=20230601; t=1755586543; x=1756191343; h=references:in-reply-to:cc:to:from:subject:message-id:date :x-gm-message-state:from:to:cc:subject:date:message-id:reply-to; bh=fdj8LvP2ndCTE2lo0wwzDevbyBg+OZ6lt5uWbLOcXIk=; b=ch882CHRnRZqehO5EkfzZYs2lfQex63j3KbmErSClinWcTLgq3TEudPGiXnv8WRPzs FXtQcOKCmehdIAcO/+UF/2MKE03H1Iwar/5AWicDGINttZVY0c+imGkqMohgEBzdaW39 PWB+vVdiVEo5q6pm+CuU4KssrgNfXjd46RaPuPjLXB9tzUu4ZT1vagaYo2bKlMYD+sku 7+uaxOdj5mUV1pX7f6+VTT0PTbuUZfIQfgMzmbPAU5+Ig7eiT7HIuK5WKXMz4qmrpblN nrpiCyK3mpfKQhcgguzjVNgoYmuSTXjS38gLUUVpgSzP2EYHzOfV8SkQwn0cZHrexWFq As3w== X-Gm-Message-State: AOJu0YyT//axCQ4EiVDIWylvMH5SsaDjiWjf5VMJRc02AlwTp9amADLe MtIFWV7AR8mWmUw2DIwsGRIWPvPo9osP7ZE/4zB/4SGqOtbhuuWAAFpkNq9Gp4QUH+mRDQFOmtM Gc0dNSPe/gb2HZa12myHGZzDfgbS8mlRaTECJodPJUe+tJm79KDhW5PY7SGkx X-Gm-Gg: ASbGncs9QOyhzw2xRzzLIZTryACApRgWdgu1Bk/91xpTKP3d1kQe+WaBG527IAVuOhG wanyunCdoEYq9qHSshu6zixpf6OYPQ4yArvdeVhSMtFI6Jw0QaS2Se9zRzG/caEOzdxZaWZYSHB 1qO20WMRcv7QGtt0VfICtzW8Ane0HIIiqpbwaerE682F7P5RZoQnhVf+YHWP88MCkIDGAn36Ong at/SXOC0nJPVKKRgXXvFW3fJhbVRksMoXzZl4Wmfm6KIsRqPGwLqscYDJGmTRfQYNXY0nNLb7GD 6Z/cDtxh28/6hUTuowYYZd7RcPht8zboAt4sEvSjWiuUAJjnAA== X-Google-Smtp-Source: AGHT+IEZfaTiwiknaOSMqbzoWrlDKLYes1gxUbXjP/MjhGblQZmUn9dvASKcZuucMR1HSSn5My867NOOnycN X-Received: by 2002:a05:6e02:1706:b0:3e5:66a6:a46a with SMTP id e9e14a558f8ab-3e6766555c6mr20123805ab.17.1755586542707; Mon, 18 Aug 2025 23:55:42 -0700 (PDT) Received: from postal.iol.unh.edu (postal.iol.unh.edu. [2606:4100:3880:1234::84]) by smtp-relay.gmail.com with ESMTPS id e9e14a558f8ab-3e57e63be7csm8029395ab.7.2025.08.18.23.55.42 (version=TLS1_2 cipher=ECDHE-ECDSA-AES128-GCM-SHA256 bits=128/128); Mon, 18 Aug 2025 23:55:42 -0700 (PDT) X-Relaying-Domain: iol.unh.edu Date: Mon, 18 Aug 2025 23:55:42 -0700 (PDT) Message-ID: <68a41fee.050a0220.1cf4a3.9e7aSMTPIN_ADDED_MISSING@mx.google.com> Received: from [172.21.0.2] (unknown [172.18.0.240]) by postal.iol.unh.edu (Postfix) with ESMTP id 42DFE6051830; Tue, 19 Aug 2025 02:55:42 -0400 (EDT) Subject: |SUCCESS| pw155980 [PATCH] app/crypto-perf: add ECDSA P384 support From: dpdklab@iol.unh.edu To: Test Report Cc: dpdk-test-reports@iol.unh.edu In-Reply-To: <20250819041517.1638717-1-rchiluka@marvell.com> References: <20250819041517.1638717-1-rchiluka@marvell.com> Content-Type: text/plain X-BeenThere: test-report@dpdk.org X-Mailman-Version: 2.1.29 Precedence: list List-Id: automatic DPDK test reports List-Unsubscribe: , List-Archive: List-Post: List-Help: List-Subscribe: , Errors-To: test-report-bounces@dpdk.org Test-Label: iol-unit-arm64-testing Test-Status: SUCCESS http://dpdk.org/patch/155980 _Testing PASS_ Submitter: Rupesh Chiluka Date: Tuesday, August 19 2025 04:15:17 DPDK git baseline: Repo:dpdk Branch: master CommitID:390cb3d4ea2f9139e18c7541ec68d269bfe3dc37 155980 --> testing pass Upstream job id: Generic-Unit-Test-DPDK#363700 Test environment and result as below: +------------------------------+----------------+--------------+---------------------------+------------------------------+ | Environment | dpdk_unit_test | lpm_autotest | cryptodev_sw_zuc_autotest | cryptodev_sw_snow3g_autotest | +==============================+================+==============+===========================+==============================+ | CentOS Stream 9 | PASS | SKIPPED | SKIPPED | SKIPPED | +------------------------------+----------------+--------------+---------------------------+------------------------------+ | CentOS Stream 10 | PASS | SKIPPED | SKIPPED | SKIPPED | +------------------------------+----------------+--------------+---------------------------+------------------------------+ | Debian GNU/Linux 12 | PASS | SKIPPED | SKIPPED | SKIPPED | +------------------------------+----------------+--------------+---------------------------+------------------------------+ | Fedora Linux 40 | PASS | SKIPPED | SKIPPED | SKIPPED | +------------------------------+----------------+--------------+---------------------------+------------------------------+ | Fedora Linux 41 | PASS | SKIPPED | SKIPPED | SKIPPED | +------------------------------+----------------+--------------+---------------------------+------------------------------+ | Fedora Linux 42 | PASS | SKIPPED | SKIPPED | SKIPPED | +------------------------------+----------------+--------------+---------------------------+------------------------------+ | Red Hat Enterprise Linux 9.5 | PASS | SKIPPED | SKIPPED | SKIPPED | +------------------------------+----------------+--------------+---------------------------+------------------------------+ | Ubuntu 20.04 | PASS | PASS | SKIPPED | SKIPPED | +------------------------------+----------------+--------------+---------------------------+------------------------------+ | Ubuntu 22.04 | PASS | SKIPPED | SKIPPED | SKIPPED | +------------------------------+----------------+--------------+---------------------------+------------------------------+ | Ubuntu 24.04 | PASS | SKIPPED | SKIPPED | SKIPPED | +------------------------------+----------------+--------------+---------------------------+------------------------------+ | Debian 12 (arm) | SKIPPED | SKIPPED | PASS | PASS | +------------------------------+----------------+--------------+---------------------------+------------------------------+ CentOS Stream 9 Kernel: 5.4 Compiler: gcc gcc (GCC) 11.5.0 20240719 (Red Hat 11.5.0-7) CentOS Stream 10 Kernel: 5.4 Compiler: gcc gcc (GCC) 14.2.1 20250110 (Red Hat 14.2.1-8) Debian GNU/Linux 12 Kernel: 5.4 Compiler: gcc gcc (Debian 12.2.0-14+deb12u1) 12.2.0 Fedora Linux 40 Kernel: 5.4 Compiler: gcc gcc (GCC) 14.2.1 20240912 (Red Hat 14.2.1-3) Fedora Linux 41 Kernel: 5.4 Compiler: gcc gcc (GCC) 14.3.1 20250523 (Red Hat 14.3.1-1) Fedora Linux 42 Kernel: 5.4 Compiler: gcc gcc (GCC) 15.1.1 20250521 (Red Hat 15.1.1-2) Red Hat Enterprise Linux 9.5 Kernel: 5.4 Compiler: gcc gcc (GCC) 11.5.0 20240719 (Red Hat 11.5.0-2) Ubuntu 20.04 Kernel: 5.4 Compiler: gcc gcc (Ubuntu 9.4.0-1ubuntu1~20.04.2) 9.4.0 Ubuntu 22.04 Kernel: 5.4 Compiler: gcc gcc (Ubuntu 11.4.0-1ubuntu1~22.04) 11.4.0 Ubuntu 24.04 Kernel: 5.4 Compiler: gcc gcc (Ubuntu 13.3.0-6ubuntu2~24.04) 13.3.0 Debian 12 (arm) Kernel: Depends on container host Compiler: gcc (Debian 12.2.0-14) 12.2.0 To view detailed results, visit: https://lab.dpdk.org/results/dashboard/patchsets/33898/ UNH-IOL DPDK Community Lab To manage your email subscriptions, visit: https://lab.dpdk.org/results/dashboard/preferences/subscriptions/