From mboxrd@z Thu Jan 1 00:00:00 1970 Return-Path: Received: from mails.dpdk.org (mails.dpdk.org [217.70.189.124]) by inbox.dpdk.org (Postfix) with ESMTP id 41A6B46D62 for ; Tue, 19 Aug 2025 09:17:31 +0200 (CEST) Received: from mails.dpdk.org (localhost [127.0.0.1]) by mails.dpdk.org (Postfix) with ESMTP id 3D3CC40262; Tue, 19 Aug 2025 09:17:31 +0200 (CEST) Received: from mail-qv1-f99.google.com (mail-qv1-f99.google.com [209.85.219.99]) by mails.dpdk.org (Postfix) with ESMTP id 3F09D40262 for ; Tue, 19 Aug 2025 09:17:29 +0200 (CEST) Received: by mail-qv1-f99.google.com with SMTP id 6a1803df08f44-70a9f556d65so39819446d6.2 for ; Tue, 19 Aug 2025 00:17:29 -0700 (PDT) DKIM-Signature: v=1; a=rsa-sha256; c=relaxed/relaxed; d=iol.unh.edu; s=unh-iol; t=1755587848; x=1756192648; darn=dpdk.org; h=references:in-reply-to:cc:to:from:subject:message-id:date:from:to :cc:subject:date:message-id:reply-to; bh=fzp2Uvi2By9C/HyESXWEonWTK8EGL5cyjQ/r94f45I8=; b=IH62E7bHLhm3Nj5AFoAuY1R5jb4LVEVa1Ftl4P+DVCQkKRTV1jk80csJBwgU8geYVP j9cIS5024lCIoTD//Ns5s3iHZItr1lDyS4yHMUYnBBUperb7dHRszMUtREzSpz+uPMKA HksJWY7l5bSx+euUVaf76GgFAwqfzPU8CvAGU= X-Google-DKIM-Signature: v=1; a=rsa-sha256; c=relaxed/relaxed; d=1e100.net; s=20230601; t=1755587848; x=1756192648; h=references:in-reply-to:cc:to:from:subject:message-id:date :x-gm-message-state:from:to:cc:subject:date:message-id:reply-to; bh=fzp2Uvi2By9C/HyESXWEonWTK8EGL5cyjQ/r94f45I8=; b=srmxpGEARjaOByk/x6lSA6OdxfUlMClnAZuDsz84f4IJuS7xS0EXsCjvqi/yz7qx99 pC4WsHeh5DXDs0fFAFGp94fsZWLqDJFQvTDuaa81Kz5VUXT9L4/XyIX4pOh12ljM43vX iDu9YQ2bINGE5q/hZ8CFzRTH3HFrZqXnkQs8PCC1iQo3SCsAugqLYTm0PbHxtXTx3WOi gyz1xf0NG7lG75Dxdbkh/nsZ0ZiZwipYlOtoJI6j9h+fhLICqMEXben7510LGvVnK+V4 iBUGcmekVSkN73phdPnpxye5580lBgj/KXBS1Mb7Kkmugzx/74DfN8NyvpzI45Jw1+pl ruHw== X-Gm-Message-State: AOJu0Yz/7ERXkJkFZe5avBTZt5B6Kr2PNbneEP1dCg7P/xaWQV5TmC6y 9vz5B/iIHLRjdl9uFhCNaxS7EdQzc791dbFt3NSdOCYwdN0el/dJyH/Yz1daz5FkR39cUYDrhib qbLEg79ESWyofa46/4g4uyEu396ycS5cP2fleuLlUjdaX X-Gm-Gg: ASbGncvgvtbRxk0GEmEhD7YGTN/l23H/1EzIqBk2jdnbwu75pjMp3njvx1QDHA71T0Y szIJ58b/uYCzF9p/h9asBNk9W8itl2AAlpSIiAl8sJMRQzbQD88uqDDhZJq+OMJkxwmelMiBUs8 Sb04zsrqpOWC6yQjGWZCtRLsed4Ie+Hd/QcEeEn8T2iHSpz7P+RQ94TCUSTkaWgi9cDOMG8eS5r NcHpJL+ylV0X9GOtCHoxelcE0nXb50/l76j0GCd3+sdsxcld3dKjkGL2gWtKAiACzMwo/baMDVF 9ZFBsl+hhOJL8pTchF23RBR2flsryd2UfBYj602JgXiei33hA51fk5dllkxqylB+KH6XArnt X-Google-Smtp-Source: AGHT+IFww1Ga+RNlpddjYsXtHh1TOm7QEC44T19E5Nj4RyuLPxpFuV7DODgERiVAGNf5ez45DMBI3bSt9/SG X-Received: by 2002:a05:6214:509c:b0:707:49da:e95b with SMTP id 6a1803df08f44-70c35c11172mr17059366d6.39.1755587848409; Tue, 19 Aug 2025 00:17:28 -0700 (PDT) Received: from postal.iol.unh.edu (postal.iol.unh.edu. [132.177.123.84]) by smtp-relay.gmail.com with ESMTPS id 6a1803df08f44-70ba929a226sm6677796d6.44.2025.08.19.00.17.28 (version=TLS1_2 cipher=ECDHE-ECDSA-AES128-GCM-SHA256 bits=128/128); Tue, 19 Aug 2025 00:17:28 -0700 (PDT) X-Relaying-Domain: iol.unh.edu Date: Tue, 19 Aug 2025 00:17:28 -0700 (PDT) Message-ID: <68a42508.d40a0220.b749c.34c6SMTPIN_ADDED_MISSING@mx.google.com> Received: from [172.21.0.3] (unknown [172.18.0.240]) by postal.iol.unh.edu (Postfix) with ESMTP id 1BA8B6051830; Tue, 19 Aug 2025 03:17:28 -0400 (EDT) Subject: |WARNING| pw155932-155978 [PATCH] [RFC,47/47] drivers/raw: replace w From: dpdklab@iol.unh.edu To: Test Report Cc: dpdk-test-reports@iol.unh.edu In-Reply-To: <20250818233102.180207-48-stephen@networkplumber.org> References: <20250818233102.180207-48-stephen@networkplumber.org> Content-Type: text/plain X-BeenThere: test-report@dpdk.org X-Mailman-Version: 2.1.29 Precedence: list List-Id: automatic DPDK test reports List-Unsubscribe: , List-Archive: List-Post: List-Help: List-Subscribe: , Errors-To: test-report-bounces@dpdk.org Test-Label: iol-unit-amd64-testing Test-Status: WARNING http://dpdk.org/patch/155978 _Testing issues_ Submitter: Stephen Hemminger Date: Monday, August 18 2025 23:27:58 DPDK git baseline: Repo:dpdk Branch: master CommitID:38543d33bd47fc0ee21f59db80a8763620741879 155932-155978 --> testing issues Upstream job id: Generic-Unit-Test-DPDK#363759 Test environment and result as below: +-------------------------------+----------------+ | Environment | dpdk_unit_test | +===============================+================+ | CentOS Stream 10 | PASS | +-------------------------------+----------------+ | CentOS Stream 9 | PASS | +-------------------------------+----------------+ | Debian GNU/Linux 12 | WARN | +-------------------------------+----------------+ | Fedora Linux 41 | PASS | +-------------------------------+----------------+ | Fedora Linux 40 | PASS | +-------------------------------+----------------+ | Fedora Linux 42 | PASS | +-------------------------------+----------------+ | Red Hat Enterprise Linux 8.10 | PASS | +-------------------------------+----------------+ | Red Hat Enterprise Linux 9.5 | PASS | +-------------------------------+----------------+ | Ubuntu 22.04 | PASS | +-------------------------------+----------------+ | Ubuntu 20.04 | PASS | +-------------------------------+----------------+ | Ubuntu 24.04 | PASS | +-------------------------------+----------------+ ==== 20 line log output for Debian GNU/Linux 12 (dpdk_unit_test): ==== ../lib/eal/include/bsd_queue.h:491:46: error: pointer 'filter' may be used after 'rte_free' [-Werror=use-after-free] 491 | #define STAILQ_NEXT(elm, field) ((elm)->field.stqe_next) | ~~~~~~~~~~~~~^~~~~~~~~~~ ../lib/eal/include/bsd_queue.h:509:14: note: in expansion of macro 'STAILQ_NEXT' 509 | STAILQ_NEXT(STAILQ_NEXT(elm, field), field)) == NULL) \ | ^~~~~~~~~~~ ../lib/eal/include/bsd_queue.h:502:17: note: in expansion of macro 'STAILQ_REMOVE_AFTER' 502 | STAILQ_REMOVE_AFTER(head, _Curelm, field); \ | ^~~~~~~~~~~~~~~~~~~ ../drivers/net/bnxt/bnxt_filter.c:155:25: note: in expansion of macro 'STAILQ_REMOVE' 155 | STAILQ_REMOVE(&bp->pf->vf_info[i].filter, filter, | ^~~~~~~~~~~~~ ../drivers/net/bnxt/bnxt_filter.c:154:25: note: call to 'rte_free' here 154 | rte_free(filter); | ^~~~~~~~~~~~~~~~ cc1: all warnings being treated as errors [1275/3539] Compiling C object drivers/libtmp_rte_net_bnxt.a.p/net_bnxt_bnxt_flow.c.o [1276/3539] Compiling C object drivers/libtmp_rte_net_bnxt.a.p/net_bnxt_bnxt_ethdev.c.o [1277/3539] Compiling C object drivers/libtmp_rte_net_bnx2x.a.p/net_bnx2x_elink.c.o ninja: build stopped: subcommand failed. ==== End log output ==== CentOS Stream 10 Kernel: 5.15 Compiler: gcc gcc (GCC) 14.2.1 20250110 (Red Hat 14.2.1-8) CentOS Stream 9 Kernel: 5.15 Compiler: gcc gcc (GCC) 11.5.0 20240719 (Red Hat 11.5.0-7) Debian GNU/Linux 12 Kernel: 5.15 Compiler: gcc gcc (Debian 12.2.0-14+deb12u1) 12.2.0 Fedora Linux 41 Kernel: 5.15 Compiler: gcc gcc (GCC) 14.3.1 20250523 (Red Hat 14.3.1-1) Fedora Linux 40 Kernel: 5.15 Compiler: gcc gcc (GCC) 14.2.1 20240912 (Red Hat 14.2.1-3) Fedora Linux 42 Kernel: 5.15 Compiler: gcc gcc (GCC) 15.1.1 20250521 (Red Hat 15.1.1-2) Red Hat Enterprise Linux 8.10 Kernel: 5.15 Compiler: gcc gcc (GCC) 8.5.0 20210514 (Red Hat 8.5.0-22) Red Hat Enterprise Linux 9.5 Kernel: 5.15 Compiler: gcc gcc (GCC) 11.5.0 20240719 (Red Hat 11.5.0-2) Ubuntu 22.04 Kernel: 5.15 Compiler: gcc gcc (Ubuntu 11.4.0-1ubuntu1~22.04) 11.4.0 Ubuntu 20.04 Kernel: 5.15 Compiler: gcc gcc (Ubuntu 9.4.0-1ubuntu1~20.04.2) 9.4.0 Ubuntu 24.04 Kernel: 5.15 Compiler: gcc gcc (Ubuntu 13.3.0-6ubuntu2~24.04) 13.3.0 To view detailed results, visit: https://lab.dpdk.org/results/dashboard/patchsets/33900/ UNH-IOL DPDK Community Lab To manage your email subscriptions, visit: https://lab.dpdk.org/results/dashboard/preferences/subscriptions/