From mboxrd@z Thu Jan 1 00:00:00 1970 Return-Path: Received: from mails.dpdk.org (mails.dpdk.org [217.70.189.124]) by inbox.dpdk.org (Postfix) with ESMTP id 1BF2A46D65 for ; Tue, 19 Aug 2025 10:27:10 +0200 (CEST) Received: from mails.dpdk.org (localhost [127.0.0.1]) by mails.dpdk.org (Postfix) with ESMTP id 1326440262; Tue, 19 Aug 2025 10:27:10 +0200 (CEST) Received: from mail-il1-f225.google.com (mail-il1-f225.google.com [209.85.166.225]) by mails.dpdk.org (Postfix) with ESMTP id 5840840262 for ; Tue, 19 Aug 2025 10:27:08 +0200 (CEST) Received: by mail-il1-f225.google.com with SMTP id e9e14a558f8ab-3e669190697so12646025ab.2 for ; Tue, 19 Aug 2025 01:27:08 -0700 (PDT) DKIM-Signature: v=1; a=rsa-sha256; c=relaxed/relaxed; d=iol.unh.edu; s=unh-iol; t=1755592027; x=1756196827; darn=dpdk.org; h=references:in-reply-to:cc:to:from:subject:message-id:date:from:to :cc:subject:date:message-id:reply-to; bh=crBtx7BIIzqkVfehYyYbF4nfGbpIifr82uGH2DPr1/o=; b=L0bNQEIN+P85uZZnMZFXK0UANDENXQvqFg2N5CgYJWi6ki17U6IO2JkOlAueSFa9sd B45l3fPeH4AuwK4D6YKw1dvjJqbSvfOsGu/OM6kNIV17Zwpu7QaeAFAwTks4D0SrtE05 l25SVnIRKczqNVKHjjj/Qzctmh/4bjiYFyCVI= X-Google-DKIM-Signature: v=1; a=rsa-sha256; c=relaxed/relaxed; d=1e100.net; s=20230601; t=1755592027; x=1756196827; h=references:in-reply-to:cc:to:from:subject:message-id:date :x-gm-message-state:from:to:cc:subject:date:message-id:reply-to; bh=crBtx7BIIzqkVfehYyYbF4nfGbpIifr82uGH2DPr1/o=; b=GjY4Sgcn24L/HSAZRJ9WgopNedgPnnwN3xtAM2s3F5ALnYYSa+3lYohTFjaUHcox5g FXAKml0A/GSMBIPOkGO04TGD4Rljvxyaq7LTWDh2aFepA9d810H7I2rXwu3f/Xs8P1n4 qgBE0g3m4lFU6EGSCKhY20f1+P3SuMl9V0FJfNaHPCCJJJ+AofyGk1PLpblOrhQutp51 vHPOvghLOXiwK+m2Hpc9cDDxtDQrmwqYs8/ZQIdmq3MGkPP29UrH8rDd6RenjQQXc73a E5yI2dVQf5XztWR+2Ppl71Z9qT1SjkVRhd1FZEgZ3pfzDOCcUxQe5VY4yTV0T3MRPySN v1Ag== X-Gm-Message-State: AOJu0Yz3lhE4GGdKOX2cUHFbrjTcOdu7NwBYsS/UNf/DoQNNSmNaMnkN wv9EtfGeZCjRCUIG+V0XuJZdXicPIuaOxEAnUdsPbTCM2fv2SRPQHITIOOvCv3FKoEU2mIqGDNy /F6o4HArhoa/+SrINNovJ02gJ0Abf8ca0FnU9W6xpDcpGV9K4vKzjyxY5hwbg X-Gm-Gg: ASbGnctffRK45MqSJjFMSZ12q/U0pO+cL3sLGfiwXnf8HS5Xwz2F4QKLSgKmqa3wcZk lizT0SUNBg3li+l/+ipu8Nzs4KUKsm6+WMJ7qkZCL1KsCxaEfmvwAm4ySeGpjju3U36Hl9B75FE EAFlJQaVSTTawBoWw846yEXSxTr/VrmuPojOXoLTdPqb/Ocpmtv+j3NL+eZ1xrhUudLqY6on+uD 7ym2U4B7ciR3wICyrky96HiRq23cRba2bL37lQ2Ayx/M4wrMnBvRCa+vrbg8kxWrTjPL0cWdDPz p3v+UNO5j8Vc/3+2CWKpkecDtNlysNXfVNGtx0fy5HaRhhwWOw== X-Google-Smtp-Source: AGHT+IEnUrxZf5MDgb7TGbDdo+kMQGKOFBix9zbU2vBMUitZGlltbyz9bfIz0Rb8MtBRpLQl96urIsj9jRtq X-Received: by 2002:a05:6e02:160c:b0:3e5:3ce4:6953 with SMTP id e9e14a558f8ab-3e676680419mr22195935ab.22.1755592027667; Tue, 19 Aug 2025 01:27:07 -0700 (PDT) Received: from postal.iol.unh.edu (postal.iol.unh.edu. [2606:4100:3880:1234::84]) by smtp-relay.gmail.com with ESMTPS id e9e14a558f8ab-3e57e75f1b4sm8024145ab.37.2025.08.19.01.27.07 (version=TLS1_2 cipher=ECDHE-ECDSA-AES128-GCM-SHA256 bits=128/128); Tue, 19 Aug 2025 01:27:07 -0700 (PDT) X-Relaying-Domain: iol.unh.edu Date: Tue, 19 Aug 2025 01:27:07 -0700 (PDT) Message-ID: <68a4355b.050a0220.2fb5e0.8219SMTPIN_ADDED_MISSING@mx.google.com> Received: from [172.21.0.2] (unknown [172.18.0.240]) by postal.iol.unh.edu (Postfix) with ESMTP id 36B146051830; Tue, 19 Aug 2025 04:27:07 -0400 (EDT) Subject: |SUCCESS| pw155979 [PATCH] [v2] bus/vmbus: add device argument to co From: dpdklab@iol.unh.edu To: Test Report Cc: dpdk-test-reports@iol.unh.edu In-Reply-To: <1755563066-2592-1-git-send-email-longli@linuxonhyperv.com> References: <1755563066-2592-1-git-send-email-longli@linuxonhyperv.com> Content-Type: text/plain X-BeenThere: test-report@dpdk.org X-Mailman-Version: 2.1.29 Precedence: list List-Id: automatic DPDK test reports List-Unsubscribe: , List-Archive: List-Post: List-Help: List-Subscribe: , Errors-To: test-report-bounces@dpdk.org Test-Label: iol-unit-arm64-testing Test-Status: SUCCESS http://dpdk.org/patch/155979 _Testing PASS_ Submitter: Long Li Date: Tuesday, August 19 2025 00:24:26 DPDK git baseline: Repo:dpdk Branch: master CommitID:38543d33bd47fc0ee21f59db80a8763620741879 155979 --> testing pass Upstream job id: Generic-Unit-Test-DPDK#363717 Test environment and result as below: +------------------------------+----------------+--------------+------------------------------+---------------------------+ | Environment | dpdk_unit_test | lpm_autotest | cryptodev_sw_snow3g_autotest | cryptodev_sw_zuc_autotest | +==============================+================+==============+==============================+===========================+ | Debian GNU/Linux 12 | PASS | SKIPPED | SKIPPED | SKIPPED | +------------------------------+----------------+--------------+------------------------------+---------------------------+ | CentOS Stream 10 | PASS | SKIPPED | SKIPPED | SKIPPED | +------------------------------+----------------+--------------+------------------------------+---------------------------+ | CentOS Stream 9 | PASS | SKIPPED | SKIPPED | SKIPPED | +------------------------------+----------------+--------------+------------------------------+---------------------------+ | Fedora Linux 41 | PASS | SKIPPED | SKIPPED | SKIPPED | +------------------------------+----------------+--------------+------------------------------+---------------------------+ | Fedora Linux 40 | PASS | SKIPPED | SKIPPED | SKIPPED | +------------------------------+----------------+--------------+------------------------------+---------------------------+ | Fedora Linux 42 | PASS | SKIPPED | SKIPPED | SKIPPED | +------------------------------+----------------+--------------+------------------------------+---------------------------+ | Ubuntu 20.04 | PASS | PASS | SKIPPED | SKIPPED | +------------------------------+----------------+--------------+------------------------------+---------------------------+ | Red Hat Enterprise Linux 9.5 | PASS | SKIPPED | SKIPPED | SKIPPED | +------------------------------+----------------+--------------+------------------------------+---------------------------+ | Ubuntu 22.04 | PASS | SKIPPED | SKIPPED | SKIPPED | +------------------------------+----------------+--------------+------------------------------+---------------------------+ | Ubuntu 24.04 | PASS | SKIPPED | SKIPPED | SKIPPED | +------------------------------+----------------+--------------+------------------------------+---------------------------+ | Debian 12 (arm) | SKIPPED | SKIPPED | PASS | PASS | +------------------------------+----------------+--------------+------------------------------+---------------------------+ Debian GNU/Linux 12 Kernel: 5.4 Compiler: gcc gcc (Debian 12.2.0-14+deb12u1) 12.2.0 CentOS Stream 10 Kernel: 5.4 Compiler: gcc gcc (GCC) 14.2.1 20250110 (Red Hat 14.2.1-8) CentOS Stream 9 Kernel: 5.4 Compiler: gcc gcc (GCC) 11.5.0 20240719 (Red Hat 11.5.0-7) Fedora Linux 41 Kernel: 5.4 Compiler: gcc gcc (GCC) 14.3.1 20250523 (Red Hat 14.3.1-1) Fedora Linux 40 Kernel: 5.4 Compiler: clang gcc (GCC) 14.2.1 20240912 (Red Hat 14.2.1-3) Fedora Linux 42 Kernel: 5.4 Compiler: gcc gcc (GCC) 15.1.1 20250521 (Red Hat 15.1.1-2) Ubuntu 20.04 Kernel: 5.4 Compiler: gcc gcc (Ubuntu 9.4.0-1ubuntu1~20.04.2) 9.4.0 Red Hat Enterprise Linux 9.5 Kernel: 5.4 Compiler: gcc gcc (GCC) 11.5.0 20240719 (Red Hat 11.5.0-2) Ubuntu 22.04 Kernel: 5.4 Compiler: gcc gcc (Ubuntu 11.4.0-1ubuntu1~22.04) 11.4.0 Ubuntu 24.04 Kernel: 5.4 Compiler: gcc gcc (Ubuntu 13.3.0-6ubuntu2~24.04) 13.3.0 Debian 12 (arm) Kernel: Depends on container host Compiler: gcc (Debian 12.2.0-14) 12.2.0 To view detailed results, visit: https://lab.dpdk.org/results/dashboard/patchsets/33899/ UNH-IOL DPDK Community Lab To manage your email subscriptions, visit: https://lab.dpdk.org/results/dashboard/preferences/subscriptions/