From mboxrd@z Thu Jan 1 00:00:00 1970 Return-Path: Received: from mails.dpdk.org (mails.dpdk.org [217.70.189.124]) by inbox.dpdk.org (Postfix) with ESMTP id 632E646D65 for ; Tue, 19 Aug 2025 10:29:02 +0200 (CEST) Received: from mails.dpdk.org (localhost [127.0.0.1]) by mails.dpdk.org (Postfix) with ESMTP id 42A9540262; Tue, 19 Aug 2025 10:29:02 +0200 (CEST) Received: from mail-pl1-f225.google.com (mail-pl1-f225.google.com [209.85.214.225]) by mails.dpdk.org (Postfix) with ESMTP id C446340262 for ; Tue, 19 Aug 2025 10:29:00 +0200 (CEST) Received: by mail-pl1-f225.google.com with SMTP id d9443c01a7336-2445827be70so55406775ad.3 for ; Tue, 19 Aug 2025 01:29:00 -0700 (PDT) DKIM-Signature: v=1; a=rsa-sha256; c=relaxed/relaxed; d=iol.unh.edu; s=unh-iol; t=1755592140; x=1756196940; darn=dpdk.org; h=references:in-reply-to:cc:to:from:subject:message-id:date:from:to :cc:subject:date:message-id:reply-to; bh=heM4rZpDoIinTMqxRWV1q781cfBWj+3FTHmntANjV0g=; b=CjdudibE07AdJzghaLAZ7aNbwq9L199ou+c2ybgDaW5ShbucMljMfiFlN9jnwEqgw9 VvbaJmB3dQYFTDg9dqsNrvWYmAej8dzeCMSjuxlM+N5lm9pnkqExEDIBkso2akXQV0Jt ZsBOnQT/fwdx+/jANZH7TPZ74DQ5QB0ywtsAQ= X-Google-DKIM-Signature: v=1; a=rsa-sha256; c=relaxed/relaxed; d=1e100.net; s=20230601; t=1755592140; x=1756196940; h=references:in-reply-to:cc:to:from:subject:message-id:date :x-gm-message-state:from:to:cc:subject:date:message-id:reply-to; bh=heM4rZpDoIinTMqxRWV1q781cfBWj+3FTHmntANjV0g=; b=ZPFF1mu3YKGB/TjOqEh7oomo2DisHuEfft0xgW2pRtsGJwnYMmOfrXssUJPr3lHNR3 Lk8eEz5aueH3vyiYfzhikALu8w+dKUa6mlA4dZ8CvqfbcKBXL1nb+p+R7p5KA/obzGQq MkZ1RX7yYko5A1d83HScJ3BdB3jka2w427D2KNuAW37+UNUXOBzv29H/Bub6EumXUKbh c9WKKw2kMYHwSjeyzJPi8uyOYWPq7P1FR+6XU1yNgKTbFdSvDGprES/AYfkV/lmweEfl OIhRaTbv2mMSvtisel1Pr2ydfIgzbAKO53uvJbkZns5HtIsW8uoNitkqtk6TI6L32aOw S/Vg== X-Gm-Message-State: AOJu0Yw3Xl/SZoHCe2Q0TjeErTs5N/aT/4CBf1TfkYa2LeaYhonR15PW /nWb+XOuhx+VAzu7hn0yq0M+Eo7yJZqg9n+euGr9VtTGtlXwdZZjpUjtZ0Ep+PH5lbUEPfX3MDz HzRbv3YoCaK9XfqTYKtwxtPCKb8pWttz+TSCwi42Jwe65 X-Gm-Gg: ASbGncs891cOei+Q9ySdOIqMdYQxR45Unz0q1wlEkNu0a3GgcfL+a5mvAlqhYrBSQh7 bMXmtGPEorn5M3Oy2U6Ez54RR8Htc+RssVS+JvT/vEmj7t8oVpT36bx2PG5ilRplwwQCMmwLbug 1jw9Ly2myypdFKKPcqfPij26mHlSFfewOw3/f9NsleYLK9xk7ORDUP/3WoON10hBZEkSyWCmydq 7JCN6ubYDeob6RNa8FEvbPI0buiju5HEnp6KewE58QUWtcT7sF6A4OzyGA+B9P5caokuDshtQyH GuWNnf/qmOxtdGDVE0uHLI17Sc6xjflmToNyL/EHjp3mtlfs+7pHcYOJMoK9r+TnjIzQ4WfV X-Google-Smtp-Source: AGHT+IGpAO1sSUa2lwk7+Wj60/wdLJ+xDlo55sDSz3C8eR/scRc5WwDiOj2Z2B+Te3eMPgjY3rkAxUtUXEzd X-Received: by 2002:a17:902:ea0b:b0:243:597:a2d6 with SMTP id d9443c01a7336-245e02a52ecmr30365615ad.1.1755592139777; Tue, 19 Aug 2025 01:28:59 -0700 (PDT) Received: from postal.iol.unh.edu (postal.iol.unh.edu. [132.177.123.84]) by smtp-relay.gmail.com with ESMTPS id d9443c01a7336-2446d4a7d58sm8939735ad.70.2025.08.19.01.28.59 (version=TLS1_2 cipher=ECDHE-ECDSA-AES128-GCM-SHA256 bits=128/128); Tue, 19 Aug 2025 01:28:59 -0700 (PDT) X-Relaying-Domain: iol.unh.edu Date: Tue, 19 Aug 2025 01:28:59 -0700 (PDT) Message-ID: <68a435cb.170a0220.30acb2.b62fSMTPIN_ADDED_MISSING@mx.google.com> Received: from [172.21.0.3] (unknown [172.18.0.240]) by postal.iol.unh.edu (Postfix) with ESMTP id 55C366051830; Tue, 19 Aug 2025 04:28:58 -0400 (EDT) Subject: |SUCCESS| pw155982 [PATCH] [v5,1/1] ethdev: add support to provide l From: dpdklab@iol.unh.edu To: Test Report Cc: dpdk-test-reports@iol.unh.edu In-Reply-To: <20250819055126.2745262-1-skori@marvell.com> References: <20250819055126.2745262-1-skori@marvell.com> Content-Type: text/plain X-BeenThere: test-report@dpdk.org X-Mailman-Version: 2.1.29 Precedence: list List-Id: automatic DPDK test reports List-Unsubscribe: , List-Archive: List-Post: List-Help: List-Subscribe: , Errors-To: test-report-bounces@dpdk.org Test-Label: iol-unit-amd64-testing Test-Status: SUCCESS http://dpdk.org/patch/155982 _Testing PASS_ Submitter: Sunil Kumar Kori Date: Tuesday, August 19 2025 05:51:06 DPDK git baseline: Repo:dpdk Branch: master CommitID:6df5b211fae053219163a3eb301b26198974fb73 155982 --> testing pass Upstream job id: Generic-Unit-Test-DPDK#363812 Test environment and result as below: +-------------------------------+----------------+ | Environment | dpdk_unit_test | +===============================+================+ | Fedora Linux 41 | PASS | +-------------------------------+----------------+ | Debian GNU/Linux 12 | PASS | +-------------------------------+----------------+ | Fedora Linux 40 | PASS | +-------------------------------+----------------+ | CentOS Stream 10 | PASS | +-------------------------------+----------------+ | Fedora Linux 42 | PASS | +-------------------------------+----------------+ | CentOS Stream 9 | PASS | +-------------------------------+----------------+ | Red Hat Enterprise Linux 8.10 | PASS | +-------------------------------+----------------+ | Red Hat Enterprise Linux 9.5 | PASS | +-------------------------------+----------------+ | Ubuntu 22.04 | PASS | +-------------------------------+----------------+ | Ubuntu 20.04 | PASS | +-------------------------------+----------------+ | Ubuntu 24.04 | PASS | +-------------------------------+----------------+ Fedora Linux 41 Kernel: 5.15 Compiler: clang gcc (GCC) 14.3.1 20250523 (Red Hat 14.3.1-1) Debian GNU/Linux 12 Kernel: 5.15 Compiler: gcc gcc (Debian 12.2.0-14+deb12u1) 12.2.0 Fedora Linux 40 Kernel: 5.15 Compiler: gcc gcc (GCC) 14.2.1 20240912 (Red Hat 14.2.1-3) CentOS Stream 10 Kernel: 5.15 Compiler: gcc gcc (GCC) 14.2.1 20250110 (Red Hat 14.2.1-8) Fedora Linux 42 Kernel: 5.15 Compiler: gcc gcc (GCC) 15.1.1 20250521 (Red Hat 15.1.1-2) CentOS Stream 9 Kernel: 5.15 Compiler: gcc gcc (GCC) 11.5.0 20240719 (Red Hat 11.5.0-7) Red Hat Enterprise Linux 8.10 Kernel: 5.15 Compiler: gcc gcc (GCC) 8.5.0 20210514 (Red Hat 8.5.0-22) Red Hat Enterprise Linux 9.5 Kernel: 5.15 Compiler: gcc gcc (GCC) 11.5.0 20240719 (Red Hat 11.5.0-2) Ubuntu 22.04 Kernel: 5.15 Compiler: gcc gcc (Ubuntu 11.4.0-1ubuntu1~22.04) 11.4.0 Ubuntu 20.04 Kernel: 5.15 Compiler: gcc gcc (Ubuntu 9.4.0-1ubuntu1~20.04.2) 9.4.0 Ubuntu 24.04 Kernel: 5.15 Compiler: gcc gcc (Ubuntu 13.3.0-6ubuntu2~24.04) 13.3.0 To view detailed results, visit: https://lab.dpdk.org/results/dashboard/patchsets/33902/ UNH-IOL DPDK Community Lab To manage your email subscriptions, visit: https://lab.dpdk.org/results/dashboard/preferences/subscriptions/