From mboxrd@z Thu Jan 1 00:00:00 1970 Return-Path: Received: from mails.dpdk.org (mails.dpdk.org [217.70.189.124]) by inbox.dpdk.org (Postfix) with ESMTP id 8240246D65 for ; Tue, 19 Aug 2025 10:30:28 +0200 (CEST) Received: from mails.dpdk.org (localhost [127.0.0.1]) by mails.dpdk.org (Postfix) with ESMTP id 7AA9040262; Tue, 19 Aug 2025 10:30:28 +0200 (CEST) Received: from mail-oa1-f98.google.com (mail-oa1-f98.google.com [209.85.160.98]) by mails.dpdk.org (Postfix) with ESMTP id 8206240262 for ; Tue, 19 Aug 2025 10:30:26 +0200 (CEST) Received: by mail-oa1-f98.google.com with SMTP id 586e51a60fabf-30cceaaecd8so2065573fac.2 for ; Tue, 19 Aug 2025 01:30:26 -0700 (PDT) DKIM-Signature: v=1; a=rsa-sha256; c=relaxed/relaxed; d=iol.unh.edu; s=unh-iol; t=1755592225; x=1756197025; darn=dpdk.org; h=references:in-reply-to:cc:to:from:subject:message-id:date:from:to :cc:subject:date:message-id:reply-to; bh=OzUBQ8pU5p7hgIX4lVOHo19UvOl+4Za/SEo9x0ytZ28=; b=bu0996vz31ead++nzKb8Y5ZfMHJhQm7le+JEVZP8S08AuJOsRTpjXkqOXztC4JohUI lhwWw0FjC8u24zLt0GmBPBZSHMzSYf9NKJythCHr+t9q7jhtGbHycE4wVR95+JKiNiAL eT2pN8nPjg9vGnMvhDTF6uAvtdX5b49wttLyU= X-Google-DKIM-Signature: v=1; a=rsa-sha256; c=relaxed/relaxed; d=1e100.net; s=20230601; t=1755592225; x=1756197025; h=references:in-reply-to:cc:to:from:subject:message-id:date :x-gm-message-state:from:to:cc:subject:date:message-id:reply-to; bh=OzUBQ8pU5p7hgIX4lVOHo19UvOl+4Za/SEo9x0ytZ28=; b=JinxBG0fbNpMdKAwC7LiTESQMh7864MOach+vVsuKdemNstgoQoei5W4mi0TIKr5dx ErumQoth65MpLAB+cAsiskOPARY2jhdmCH8e8jzJMbMrIGZSQOlyLA2ovvrYon31Z4Va a2AqiliGlbEBQOmnnbS55u6jTWoRMWS3OszTiF9rqNBVuWE0m5YDhSf6ctCAj3jaOmnl lHRfO49gOvc20/zCJREz5iUEQ89LnPEZu4FruGuDcQUJjI/3/ZutiCwQa7syMtFj1Uhf XDq4uvhcsnd2pTBewSWcnz7seLvav5lhf8N6PWTeNpzC/wmAwDcOcPi7hbzBO/vnzTGH iNXA== X-Gm-Message-State: AOJu0YzG9qwZX7erkfYy+kYqZWxeXVmyc/lalY4XVKolcl6CuN1D8k4Q aU5LcBfag9aDi4EihnAHWwBhPDEaRghw1NSYuf8VhY2C4U6J6j5PZBL8Ik/uHtIRTRVzM+12ZlP 1c8H1fQzPBcwCB3ti8ME1pVxwo+ndfzsS2fhpgkxw5w8m X-Gm-Gg: ASbGnct8J9o5+T+hB1dFoP3JrK1NMEJlv6FJty2m/wOeAd+k9sk4nqDhy5BJEqJf1Bv +N16Wt2pRikbeleT6McUVPbkh4Asl1OEZ/PL8j/4YPzmBTSg2yOaswaGanNttRRec5fzrnM4cnE p630oKg4bGUSARxhH6Nr3L+pTwrjeP1Zk8C3mbhaUpvrdByopW81Quo+4T0v2qMkk5ls5cWVlP1 99eVvQS4lQMfjjcn785gVaQbPw6ZuSltBsOmWR3MiP/adGKn2U4y7EYzASUMm7aeGFWSVR2eI8o jQSWp9pQ8V8H+XLlJYx04bLbFdOmDcjBFfrtDzETvKEFLmBa/Rw7P37HjzykVKfGJM6ltV/M X-Google-Smtp-Source: AGHT+IGG96r3XRBcbADFUSXWbyWk36v+OA0h0Eqh1WcCV6MSVHDcMVLgToEhFhhY1THZqoc8YZMK9qS+RC1X X-Received: by 2002:a05:6870:204e:b0:2ff:a27f:9c67 with SMTP id 586e51a60fabf-3110c4c2fbbmr1253043fac.30.1755592225643; Tue, 19 Aug 2025 01:30:25 -0700 (PDT) Received: from postal.iol.unh.edu (postal.iol.unh.edu. [132.177.123.84]) by smtp-relay.gmail.com with ESMTPS id 586e51a60fabf-310abc60675sm1087930fac.26.2025.08.19.01.30.25 (version=TLS1_2 cipher=ECDHE-ECDSA-AES128-GCM-SHA256 bits=128/128); Tue, 19 Aug 2025 01:30:25 -0700 (PDT) X-Relaying-Domain: iol.unh.edu Date: Tue, 19 Aug 2025 01:30:25 -0700 (PDT) Message-ID: <68a43621.050a0220.33d201.665eSMTPIN_ADDED_MISSING@mx.google.com> Received: from [172.21.0.3] (unknown [172.18.0.240]) by postal.iol.unh.edu (Postfix) with ESMTP id 2B26D6051830; Tue, 19 Aug 2025 04:30:25 -0400 (EDT) Subject: |SUCCESS| pw155982 [PATCH] [v5,1/1] ethdev: add support to provide l From: dpdklab@iol.unh.edu To: Test Report Cc: dpdk-test-reports@iol.unh.edu In-Reply-To: <20250819055126.2745262-1-skori@marvell.com> References: <20250819055126.2745262-1-skori@marvell.com> Content-Type: text/plain X-BeenThere: test-report@dpdk.org X-Mailman-Version: 2.1.29 Precedence: list List-Id: automatic DPDK test reports List-Unsubscribe: , List-Archive: List-Post: List-Help: List-Subscribe: , Errors-To: test-report-bounces@dpdk.org Test-Label: iol-compile-amd64-testing Test-Status: SUCCESS http://dpdk.org/patch/155982 _Testing PASS_ Submitter: Sunil Kumar Kori Date: Tuesday, August 19 2025 05:51:06 DPDK git baseline: Repo:dpdk Branch: master CommitID:6df5b211fae053219163a3eb301b26198974fb73 155982 --> testing pass Upstream job id: Generic-DPDK-Compile-Meson#418447 Test environment and result as below: +-------------------------------+--------------------+------------------+-------------------+ | Environment | dpdk_meson_compile | dpdk_compile_ovs | dpdk_compile_spdk | +===============================+====================+==================+===================+ | Fedora Linux 42 | PASS | PASS | PASS | +-------------------------------+--------------------+------------------+-------------------+ | openSUSE Leap 15.6 | PASS | SKIPPED | SKIPPED | +-------------------------------+--------------------+------------------+-------------------+ | Ubuntu 22.04 | PASS | SKIPPED | PASS | +-------------------------------+--------------------+------------------+-------------------+ | Ubuntu 24.04 | PASS | PASS | PASS | +-------------------------------+--------------------+------------------+-------------------+ | Red Hat Enterprise Linux 9.5 | PASS | SKIPPED | SKIPPED | +-------------------------------+--------------------+------------------+-------------------+ | Ubuntu 20.04 | PASS | SKIPPED | SKIPPED | +-------------------------------+--------------------+------------------+-------------------+ | FreeBSD 14.2 | PASS | SKIPPED | SKIPPED | +-------------------------------+--------------------+------------------+-------------------+ | CentOS Stream 9 | PASS | SKIPPED | PASS | +-------------------------------+--------------------+------------------+-------------------+ | Alpine Linux 3.22.0 | PASS | SKIPPED | SKIPPED | +-------------------------------+--------------------+------------------+-------------------+ | Debian GNU/Linux 12 | PASS | SKIPPED | PASS | +-------------------------------+--------------------+------------------+-------------------+ | CentOS Stream 10 | PASS | SKIPPED | SKIPPED | +-------------------------------+--------------------+------------------+-------------------+ | Red Hat Enterprise Linux 8.10 | PASS | SKIPPED | SKIPPED | +-------------------------------+--------------------+------------------+-------------------+ Fedora Linux 42 Kernel: 5.15 Compiler: clang gcc (GCC) 15.1.1 20250521 (Red Hat 15.1.1-2) openSUSE Leap 15.6 Kernel: 5.15 Compiler: gcc gcc (SUSE Linux) 7.5.0 Ubuntu 22.04 Kernel: 5.15 Compiler: gcc gcc (Ubuntu 11.4.0-1ubuntu1~22.04) 11.4.0 Ubuntu 24.04 Kernel: 5.15 Compiler: gcc gcc (Ubuntu 13.3.0-6ubuntu2~24.04) 13.3.0 Red Hat Enterprise Linux 9.5 Kernel: 5.15 Compiler: gcc gcc (GCC) 11.5.0 20240719 (Red Hat 11.5.0-2) Ubuntu 20.04 Kernel: 5.15 Compiler: gcc gcc (Ubuntu 9.4.0-1ubuntu1~20.04.2) 9.4.0 FreeBSD 14.2 Kernel: 14.2-RELEASE Compiler: clang 18.1.6 CentOS Stream 9 Kernel: 5.15 Compiler: gcc gcc (GCC) 11.5.0 20240719 (Red Hat 11.5.0-7) Alpine Linux 3.22.0 Kernel: 5.15 Compiler: gcc gcc (Alpine 14.2.0) 14.2.0 Debian GNU/Linux 12 Kernel: 5.15 Compiler: gcc gcc (Debian 12.2.0-14+deb12u1) 12.2.0 CentOS Stream 10 Kernel: 5.15 Compiler: gcc gcc (GCC) 14.2.1 20250110 (Red Hat 14.2.1-8) Red Hat Enterprise Linux 8.10 Kernel: 5.15 Compiler: gcc gcc (GCC) 8.5.0 20210514 (Red Hat 8.5.0-22) To view detailed results, visit: https://lab.dpdk.org/results/dashboard/patchsets/33902/ UNH-IOL DPDK Community Lab To manage your email subscriptions, visit: https://lab.dpdk.org/results/dashboard/preferences/subscriptions/