From mboxrd@z Thu Jan 1 00:00:00 1970 Return-Path: Received: from mails.dpdk.org (mails.dpdk.org [217.70.189.124]) by inbox.dpdk.org (Postfix) with ESMTP id 71AF846D65 for ; Tue, 19 Aug 2025 11:03:29 +0200 (CEST) Received: from mails.dpdk.org (localhost [127.0.0.1]) by mails.dpdk.org (Postfix) with ESMTP id 69B1240289; Tue, 19 Aug 2025 11:03:29 +0200 (CEST) Received: from mail-pf1-f226.google.com (mail-pf1-f226.google.com [209.85.210.226]) by mails.dpdk.org (Postfix) with ESMTP id 24E4640289 for ; Tue, 19 Aug 2025 11:03:28 +0200 (CEST) Received: by mail-pf1-f226.google.com with SMTP id d2e1a72fcca58-76e4f2e4c40so2494537b3a.2 for ; Tue, 19 Aug 2025 02:03:28 -0700 (PDT) DKIM-Signature: v=1; a=rsa-sha256; c=relaxed/relaxed; d=iol.unh.edu; s=unh-iol; t=1755594207; x=1756199007; darn=dpdk.org; h=references:in-reply-to:cc:to:from:subject:message-id:date:from:to :cc:subject:date:message-id:reply-to; bh=7nZ2MsCQUtVzDZyt99iynpDshmqqKuV/EyB2rSK1biU=; b=EhGj/h2bDhpcJlDzA9/tAwHeOnZMXz5YtCvHy31XOc1GiqWZtQeW8xFBnwNa05yAgx odllO2dVofG/MIQOjhsHFxBzdxTSvHTV2fklbybSPuGBrGtz3jCdUU540aCHFaTeam5g u0INCfOPqccam/yXmY4wXKiq7baoKsCAiUwm4= X-Google-DKIM-Signature: v=1; a=rsa-sha256; c=relaxed/relaxed; d=1e100.net; s=20230601; t=1755594207; x=1756199007; h=references:in-reply-to:cc:to:from:subject:message-id:date :x-gm-message-state:from:to:cc:subject:date:message-id:reply-to; bh=7nZ2MsCQUtVzDZyt99iynpDshmqqKuV/EyB2rSK1biU=; b=rg2KjRd3LgSB7CAgcNCZf0SVMkLANxkf0kOyDJD3Xg7oNRCDr3lErlhSSBspUDMQwN RchdY0VfOW4FaWNH+Se2Sc2GnzLgTEVj3hd8FXNIiEc1HsZFdultTZdhXKcHHGAmJlmX zR+JrFziOyTewFbJbF4HrzHiJJqJDxDK2cYLMn4SkSKHpSlWHDwD9UlGC+GESnsijFoK 6Ay/U9OEIMcY/ujWd1X5ItRpVoGQu8HbhC45a4EgJ1qLhT3TitlG6vLQQ9OJ+2m8wF/V K+P/IzdkpA56EwYofKPGhx/MEEBIKkPzUc+0nMsURtZcoksjKSXuv1B/V8p5l5nAPPE/ hAeQ== X-Gm-Message-State: AOJu0YyzxbgfgnXrwMPc8uWWPfJsJ1Rzh7tLt+yeKvid0+N76r3GEk96 im4SnhFi6KhIEFsWpwWedQaV5AQ//z++VaBSFygrJEV9cQ3/M1jByOVPgAKnMnXhukYeDKZJtKU ks2iNcBSoGnb3bObBtftjVOWEmL3d3yS4J0YJPOHCP69GHEXm3yi5NhIWdZBJ X-Gm-Gg: ASbGncu3X3CGcB/PL9o4bMZ8G5YG7wiXeyG1J9umGN0BgVDB0rholTgBAjDeMaoEip1 vEy3sNn939dBskbWqqFq9fdNPpdF8XqpWri0blj/o9vcd7UwYP3NZns83TR26BiAy2m56WCoxiU uIbl1uaLf4PX7Yv1H0yrK/JTac8SkQgUu81IC93fz3fwYlZacsXe5xgOb61w18wgiaHBs6hqh1P ch2frCeFvio0mIF37qDC3kMg8EWikM6xW5Ga0t6Udqk+1gAnBgR0TBCn6PmdA/xLIatSZVeecp+ Xm+ddLOIqPRi6dkW1C6vQHEFmdnCQhkM//tdTwRjKQjfZng0vQ== X-Google-Smtp-Source: AGHT+IEQXFA6lU5gi4N1XuUq1xe5ZTUBfncWomOhxdes2VzOpj981kbwZPKOyW4p7nNN2xmOiWTv58psAOZ8 X-Received: by 2002:a05:6a20:3944:b0:222:c961:af1d with SMTP id adf61e73a8af0-2430d2fadf5mr2666609637.8.1755594206987; Tue, 19 Aug 2025 02:03:26 -0700 (PDT) Received: from postal.iol.unh.edu (postal.iol.unh.edu. [2606:4100:3880:1234::84]) by smtp-relay.gmail.com with ESMTPS id 41be03b00d2f7-b472d77c1e0sm929154a12.16.2025.08.19.02.03.26 (version=TLS1_2 cipher=ECDHE-ECDSA-AES128-GCM-SHA256 bits=128/128); Tue, 19 Aug 2025 02:03:26 -0700 (PDT) X-Relaying-Domain: iol.unh.edu Date: Tue, 19 Aug 2025 02:03:26 -0700 (PDT) Message-ID: <68a43dde.630a0220.282365.06efSMTPIN_ADDED_MISSING@mx.google.com> Received: from [172.21.0.2] (unknown [172.18.0.240]) by postal.iol.unh.edu (Postfix) with ESMTP id 393926051830; Tue, 19 Aug 2025 05:03:26 -0400 (EDT) Subject: |SUCCESS| pw155982 [PATCH] [v5,1/1] ethdev: add support to provide l From: dpdklab@iol.unh.edu To: Test Report Cc: dpdk-test-reports@iol.unh.edu In-Reply-To: <20250819055126.2745262-1-skori@marvell.com> References: <20250819055126.2745262-1-skori@marvell.com> Content-Type: text/plain X-BeenThere: test-report@dpdk.org X-Mailman-Version: 2.1.29 Precedence: list List-Id: automatic DPDK test reports List-Unsubscribe: , List-Archive: List-Post: List-Help: List-Subscribe: , Errors-To: test-report-bounces@dpdk.org Test-Label: iol-compile-amd64-testing Test-Status: SUCCESS http://dpdk.org/patch/155982 _Testing PASS_ Submitter: Sunil Kumar Kori Date: Tuesday, August 19 2025 05:51:06 DPDK git baseline: Repo:dpdk Branch: master CommitID:6df5b211fae053219163a3eb301b26198974fb73 155982 --> testing pass Upstream job id: Generic-DPDK-Compile-Meson#418473 Test environment and result as below: +-------------------------------+--------------------+-------------------+------------------+ | Environment | dpdk_meson_compile | dpdk_compile_spdk | dpdk_compile_ovs | +===============================+====================+===================+==================+ | Ubuntu 20.04 | PASS | SKIPPED | SKIPPED | +-------------------------------+--------------------+-------------------+------------------+ | FreeBSD 14.2 | PASS | SKIPPED | SKIPPED | +-------------------------------+--------------------+-------------------+------------------+ | CentOS Stream 9 | PASS | PASS | SKIPPED | +-------------------------------+--------------------+-------------------+------------------+ | Fedora Linux 42 | PASS | PASS | PASS | +-------------------------------+--------------------+-------------------+------------------+ | openSUSE Leap 15.6 | PASS | SKIPPED | SKIPPED | +-------------------------------+--------------------+-------------------+------------------+ | Red Hat Enterprise Linux 8.10 | PASS | SKIPPED | SKIPPED | +-------------------------------+--------------------+-------------------+------------------+ | Red Hat Enterprise Linux 9.5 | PASS | SKIPPED | SKIPPED | +-------------------------------+--------------------+-------------------+------------------+ | Ubuntu 22.04 | PASS | PASS | SKIPPED | +-------------------------------+--------------------+-------------------+------------------+ | Ubuntu 24.04 | PASS | PASS | PASS | +-------------------------------+--------------------+-------------------+------------------+ | Alpine Linux 3.22.0 | PASS | SKIPPED | SKIPPED | +-------------------------------+--------------------+-------------------+------------------+ | CentOS Stream 10 | PASS | SKIPPED | SKIPPED | +-------------------------------+--------------------+-------------------+------------------+ | Debian GNU/Linux 12 | PASS | PASS | SKIPPED | +-------------------------------+--------------------+-------------------+------------------+ Ubuntu 20.04 Kernel: 4.19 Compiler: gcc gcc (Ubuntu 9.4.0-1ubuntu1~20.04.2) 9.4.0 FreeBSD 14.2 Kernel: 14.2-RELEASE Compiler: clang 18.1.6 CentOS Stream 9 Kernel: 5.15 Compiler: gcc gcc (GCC) 11.5.0 20240719 (Red Hat 11.5.0-7) Fedora Linux 42 Kernel: 5.15 Compiler: gcc gcc (GCC) 15.1.1 20250521 (Red Hat 15.1.1-2) openSUSE Leap 15.6 Kernel: 5.15 Compiler: gcc gcc (SUSE Linux) 7.5.0 Red Hat Enterprise Linux 8.10 Kernel: 5.15 Compiler: gcc gcc (GCC) 8.5.0 20210514 (Red Hat 8.5.0-22) Red Hat Enterprise Linux 9.5 Kernel: 5.15 Compiler: gcc gcc (GCC) 11.5.0 20240719 (Red Hat 11.5.0-2) Ubuntu 22.04 Kernel: 5.15 Compiler: gcc gcc (Ubuntu 11.4.0-1ubuntu1~22.04) 11.4.0 Ubuntu 24.04 Kernel: 5.15 Compiler: gcc gcc (Ubuntu 13.3.0-6ubuntu2~24.04) 13.3.0 Alpine Linux 3.22.0 Kernel: 5.15 Compiler: gcc gcc (Alpine 14.2.0) 14.2.0 CentOS Stream 10 Kernel: 5.15 Compiler: gcc gcc (GCC) 14.2.1 20250110 (Red Hat 14.2.1-8) Debian GNU/Linux 12 Kernel: 5.15 Compiler: gcc gcc (Debian 12.2.0-14+deb12u1) 12.2.0 To view detailed results, visit: https://lab.dpdk.org/results/dashboard/patchsets/33902/ UNH-IOL DPDK Community Lab To manage your email subscriptions, visit: https://lab.dpdk.org/results/dashboard/preferences/subscriptions/