From mboxrd@z Thu Jan 1 00:00:00 1970 Return-Path: Received: from mails.dpdk.org (mails.dpdk.org [217.70.189.124]) by inbox.dpdk.org (Postfix) with ESMTP id 6894346D65 for ; Tue, 19 Aug 2025 11:22:02 +0200 (CEST) Received: from mails.dpdk.org (localhost [127.0.0.1]) by mails.dpdk.org (Postfix) with ESMTP id 6337240289; Tue, 19 Aug 2025 11:22:02 +0200 (CEST) Received: from mail-oa1-f97.google.com (mail-oa1-f97.google.com [209.85.160.97]) by mails.dpdk.org (Postfix) with ESMTP id BAA3940289 for ; Tue, 19 Aug 2025 11:22:01 +0200 (CEST) Received: by mail-oa1-f97.google.com with SMTP id 586e51a60fabf-30cce5da315so1502888fac.0 for ; Tue, 19 Aug 2025 02:22:01 -0700 (PDT) DKIM-Signature: v=1; a=rsa-sha256; c=relaxed/relaxed; d=iol.unh.edu; s=unh-iol; t=1755595321; x=1756200121; darn=dpdk.org; h=references:in-reply-to:cc:to:from:subject:message-id:date:from:to :cc:subject:date:message-id:reply-to; bh=N8Of8vuSDn0eJ/3DhmczKhEAkMbPWiLJI2up1Cwb0sM=; b=do/ZyqperQSgip/GOmwsinpe3We+eP8qqa7EVY4yD7Ann6r3DB735vEKA6gP3x7lL1 whSTauJITqT3ds0K80e1BXfl7KLyD7JQPRKEYdvUQIgbOob4+wxXNm6rB/b80ff5lVsk 9UP2T/z+Fpy1vZkkk8wRljP1cWm8yo8C1A8Sc= X-Google-DKIM-Signature: v=1; a=rsa-sha256; c=relaxed/relaxed; d=1e100.net; s=20230601; t=1755595321; x=1756200121; h=references:in-reply-to:cc:to:from:subject:message-id:date :x-gm-message-state:from:to:cc:subject:date:message-id:reply-to; bh=N8Of8vuSDn0eJ/3DhmczKhEAkMbPWiLJI2up1Cwb0sM=; b=TKaVr0TYXONSMaLMw2hJQZ4LE9UQt6RAcoNadc+LDA+ymGRG/3qABETDdUoW+orHGn HZECV9+p9SZqlNyUNBpDBt5FBB1Ra5HcoTBM8LeArzgVYWNnk20oB23gsqO932YUgXxC k4zATOAsCT2yd28a50pCDoetqUeusliK3nAtR4Yi6lY5OSae8WkC5k0MTr5VN8b271RA GFZq0V4ApgBET08BpLewjgS4FK4hpWhhh2RQjWVhF+OQvG9lIF8Qg3xhuSmy/gkG8zBk Eauxy6iMRRe9brPz7Y4anR5l4sqqny0FWGirBvYj6i8OuLDiXuvbdz8jHTnsrk0Lp4DC F//w== X-Gm-Message-State: AOJu0YyJldUK0b76O586hxjNqT6WNeZoLJw/oz/nJ2vW6BjqWk0sLWy0 H0CFSVaP3/cqq9C4zIddoQxDrhSDZf88QXKXRol7pkzdd3nKVI90Ijf6zAbcxJBfbcBLlGXDsVv bebsGI9MpChBwhjit7g9000KdlFKMXCarllK0w6JoJafkEj9mwZzli/fcRbby X-Gm-Gg: ASbGnctQa2WTwfUHJN/5qlTH2u08wwdjBLaDnnehWGmZkdoIQnEYjFwCjXP0EpymWxg oc2zvW3NL//FyD90rFVj4CDzbYrH79NLnzPTAk5qgK7UDx55EWtCENjcEZ8Lo5CQnZw5QIukCTQ QWOHZkTlla+SbY4Wso7cPdj6YjNA9r/K33frDoEDdBErSA2orAO7RezPV8klBiyEwUL2Vpfp0E6 aJ7cV0AhlNaynpH0m3JAlRPWVCr7y7p3FUobWrB+kntOe79M0puGTWh6JHEp1paYUd86V6llkA0 hZyUlWig63OYxC7rDCi1hiKnErWK2GzDBgb+gQ6d3JMZkJ0AHg== X-Google-Smtp-Source: AGHT+IHW+3KocnOJA4A021ClagekotpvgpXb3kUxt/cbjIOBr2eE8BzGheFgHWbm6JU/L+sqkuv0UVblwRqX X-Received: by 2002:a05:6871:80e:b0:307:9de2:b3bd with SMTP id 586e51a60fabf-3110c2a46d2mr1320057fac.32.1755595320913; Tue, 19 Aug 2025 02:22:00 -0700 (PDT) Received: from postal.iol.unh.edu (postal.iol.unh.edu. [2606:4100:3880:1234::84]) by smtp-relay.gmail.com with ESMTPS id 586e51a60fabf-310abc0d1e4sm1128252fac.20.2025.08.19.02.22.00 (version=TLS1_2 cipher=ECDHE-ECDSA-AES128-GCM-SHA256 bits=128/128); Tue, 19 Aug 2025 02:22:00 -0700 (PDT) X-Relaying-Domain: iol.unh.edu Date: Tue, 19 Aug 2025 02:22:00 -0700 (PDT) Message-ID: <68a44238.050a0220.29348b.8c2bSMTPIN_ADDED_MISSING@mx.google.com> Received: from [172.21.0.2] (unknown [172.18.0.240]) by postal.iol.unh.edu (Postfix) with ESMTP id 6E9486051830; Tue, 19 Aug 2025 05:22:00 -0400 (EDT) Subject: |SUCCESS| pw155982 [PATCH] [v5,1/1] ethdev: add support to provide l From: dpdklab@iol.unh.edu To: Test Report Cc: dpdk-test-reports@iol.unh.edu In-Reply-To: <20250819055126.2745262-1-skori@marvell.com> References: <20250819055126.2745262-1-skori@marvell.com> Content-Type: text/plain X-BeenThere: test-report@dpdk.org X-Mailman-Version: 2.1.29 Precedence: list List-Id: automatic DPDK test reports List-Unsubscribe: , List-Archive: List-Post: List-Help: List-Subscribe: , Errors-To: test-report-bounces@dpdk.org Test-Label: iol-unit-amd64-testing Test-Status: SUCCESS http://dpdk.org/patch/155982 _Testing PASS_ Submitter: Sunil Kumar Kori Date: Tuesday, August 19 2025 05:51:06 DPDK git baseline: Repo:dpdk Branch: master CommitID:6df5b211fae053219163a3eb301b26198974fb73 155982 --> testing pass Upstream job id: Generic-Unit-Test-DPDK#363840 Test environment and result as below: +-------------------------------+----------------+ | Environment | dpdk_unit_test | +===============================+================+ | CentOS Stream 9 | PASS | +-------------------------------+----------------+ | Fedora Linux 40 | PASS | +-------------------------------+----------------+ | CentOS Stream 10 | PASS | +-------------------------------+----------------+ | Debian GNU/Linux 12 | PASS | +-------------------------------+----------------+ | Fedora Linux 41 | PASS | +-------------------------------+----------------+ | Fedora Linux 42 | PASS | +-------------------------------+----------------+ | Red Hat Enterprise Linux 9.5 | PASS | +-------------------------------+----------------+ | Ubuntu 22.04 | PASS | +-------------------------------+----------------+ | Red Hat Enterprise Linux 8.10 | PASS | +-------------------------------+----------------+ | Ubuntu 20.04 | PASS | +-------------------------------+----------------+ | Ubuntu 24.04 | PASS | +-------------------------------+----------------+ CentOS Stream 9 Kernel: 5.15 Compiler: gcc gcc (GCC) 11.5.0 20240719 (Red Hat 11.5.0-7) Fedora Linux 40 Kernel: 5.15 Compiler: gcc gcc (GCC) 14.2.1 20240912 (Red Hat 14.2.1-3) CentOS Stream 10 Kernel: 5.15 Compiler: gcc gcc (GCC) 14.2.1 20250110 (Red Hat 14.2.1-8) Debian GNU/Linux 12 Kernel: 5.15 Compiler: gcc gcc (Debian 12.2.0-14+deb12u1) 12.2.0 Fedora Linux 41 Kernel: 5.15 Compiler: gcc gcc (GCC) 14.3.1 20250523 (Red Hat 14.3.1-1) Fedora Linux 42 Kernel: 5.15 Compiler: gcc gcc (GCC) 15.1.1 20250521 (Red Hat 15.1.1-2) Red Hat Enterprise Linux 9.5 Kernel: 5.15 Compiler: gcc gcc (GCC) 11.5.0 20240719 (Red Hat 11.5.0-2) Ubuntu 22.04 Kernel: 5.15 Compiler: gcc gcc (Ubuntu 11.4.0-1ubuntu1~22.04) 11.4.0 Red Hat Enterprise Linux 8.10 Kernel: 5.15 Compiler: gcc gcc (GCC) 8.5.0 20210514 (Red Hat 8.5.0-22) Ubuntu 20.04 Kernel: 5.15 Compiler: gcc gcc (Ubuntu 9.4.0-1ubuntu1~20.04.2) 9.4.0 Ubuntu 24.04 Kernel: 5.15 Compiler: gcc gcc (Ubuntu 13.3.0-6ubuntu2~24.04) 13.3.0 To view detailed results, visit: https://lab.dpdk.org/results/dashboard/patchsets/33902/ UNH-IOL DPDK Community Lab To manage your email subscriptions, visit: https://lab.dpdk.org/results/dashboard/preferences/subscriptions/