From mboxrd@z Thu Jan 1 00:00:00 1970 Return-Path: Received: from mails.dpdk.org (mails.dpdk.org [217.70.189.124]) by inbox.dpdk.org (Postfix) with ESMTP id 13C0646D67 for ; Tue, 19 Aug 2025 14:34:52 +0200 (CEST) Received: from mails.dpdk.org (localhost [127.0.0.1]) by mails.dpdk.org (Postfix) with ESMTP id EAEF840144; Tue, 19 Aug 2025 14:34:51 +0200 (CEST) Received: from mail-qv1-f98.google.com (mail-qv1-f98.google.com [209.85.219.98]) by mails.dpdk.org (Postfix) with ESMTP id 6361840144 for ; Tue, 19 Aug 2025 14:34:50 +0200 (CEST) Received: by mail-qv1-f98.google.com with SMTP id 6a1803df08f44-70a927f4483so45396756d6.1 for ; Tue, 19 Aug 2025 05:34:50 -0700 (PDT) DKIM-Signature: v=1; a=rsa-sha256; c=relaxed/relaxed; d=iol.unh.edu; s=unh-iol; t=1755606890; x=1756211690; darn=dpdk.org; h=references:in-reply-to:cc:to:from:subject:message-id:date:from:to :cc:subject:date:message-id:reply-to; bh=/VsNEtA1CFp5ALtKLnjTnOy/8hl40iQ1DkA35p7MGes=; b=W22P9vC49GYRu59up7fegFtedKhwLFYRMBKfSsvCDXTqSiMuUqtM5Djjj55iNIOEsR RyiLAWQPn5l9EPzbhoY+nKFta2uxyakO8p6/1pZEs+WAqqxGgfeb6IxBnYVX/+vfLnsh fQ2dtiy6qHDlLooROn0nHT/T+m9EvGyEdQHuM= X-Google-DKIM-Signature: v=1; a=rsa-sha256; c=relaxed/relaxed; d=1e100.net; s=20230601; t=1755606890; x=1756211690; h=references:in-reply-to:cc:to:from:subject:message-id:date :x-gm-message-state:from:to:cc:subject:date:message-id:reply-to; bh=/VsNEtA1CFp5ALtKLnjTnOy/8hl40iQ1DkA35p7MGes=; b=copfvrg0f96MI8syqo7DBcjfSwrQm+Kq5HL57AOEYIZC0oj3//NfW4IY9am1XCLTQj qfRSvPcmLA3ViMFhfWfVzOpZtTddYBhlHPodb3OExPNrEnZwLex3rd+k7QHOjdB67BXm mKBxGNOMms8+11/LFQkIMLqjclYFcWPlcGMZGU7SzPQEvEq785vGeJPFWh2Iy8qSceWY CyFg+F/WAxwURqFV2zrzEKC8uEKgiq1t9x6esF2tm4O5P6agQ6MXIY9BlCM+8WKHmymy 5BKolGXugpZYBGftW8qmPCitulgojwcCh8cRUVn1PeoE7dPQ/SQ8Hp6iuM7zJJLAU7ul TW3g== X-Gm-Message-State: AOJu0Ywua4UGDC/mCJXHct4hsLe4oEZzy9Q6ena6iGRoN3qasfBqnKmc vTasCTT2A2lOFxtHHHyKC6eR5u93tn7xKVrBnbTCG1HvMmXtHTDV6taUIUkKoxh6hsG4wK48OrX yVzpX+U3RamsBL8x1YXcHZjChNWncpNQRCpAihiGDhNkgaoF1RE7W0ARHxkIx X-Gm-Gg: ASbGnctXDIv3Mr4j3haA04nWsjqQ2b0pzfTRDphK++reg1SlODOWaw+Noq/lW/RqwZw ERl2kPgheHqi6FR88Pxl03Mgfe1o/BnTRg5cKYi8STH/lDTnU+SDAS+Li1oUzLBqxSfGMeDyh7U RtdTdlTlk1XxqSFAbUcFB54g0+dNYJRA7nWKxEHY6A73gqMt4K3d9ZNHdq5Uj1kw7KCD+qmSKaQ jd9v5sHe6Jfb0yJrY0ekLPoYhQyY1GwKOxl4MI9HruIlI/+90WrxF6IcRT6HPABqcyjmDDwjPzi I2uhRf6liKfGBZeN6jHqqLoStztXn2nUfLQaTUFep3JaaK2N6Q== X-Google-Smtp-Source: AGHT+IEOorxsv9Mvrr1qt24yuTg+xQ/uvVRBVIDkzH2iXpc81FKAf2OQvpxgciYxcej5Ae5p5ql96xa68hMw X-Received: by 2002:ad4:4eae:0:b0:709:de31:2095 with SMTP id 6a1803df08f44-70c2b65921bmr23017846d6.21.1755606889607; Tue, 19 Aug 2025 05:34:49 -0700 (PDT) Received: from postal.iol.unh.edu (postal.iol.unh.edu. [2606:4100:3880:1234::84]) by smtp-relay.gmail.com with ESMTPS id 6a1803df08f44-70ba929b8c7sm6974836d6.47.2025.08.19.05.34.49 (version=TLS1_2 cipher=ECDHE-ECDSA-AES128-GCM-SHA256 bits=128/128); Tue, 19 Aug 2025 05:34:49 -0700 (PDT) X-Relaying-Domain: iol.unh.edu Date: Tue, 19 Aug 2025 05:34:49 -0700 (PDT) Message-ID: <68a46f69.0c0a0220.3a03bb.3492SMTPIN_ADDED_MISSING@mx.google.com> Received: from [172.21.0.2] (unknown [172.18.0.240]) by postal.iol.unh.edu (Postfix) with ESMTP id 50DCB6051830; Tue, 19 Aug 2025 08:34:49 -0400 (EDT) Subject: |SUCCESS| pw156000-156001 [PATCH] [v3,2/2] virtio: simplify use of p From: dpdklab@iol.unh.edu To: Test Report Cc: dpdk-test-reports@iol.unh.edu In-Reply-To: <20250819112521.1608207-2-bruce.richardson@intel.com> References: <20250819112521.1608207-2-bruce.richardson@intel.com> Content-Type: text/plain X-BeenThere: test-report@dpdk.org X-Mailman-Version: 2.1.29 Precedence: list List-Id: automatic DPDK test reports List-Unsubscribe: , List-Archive: List-Post: List-Help: List-Subscribe: , Errors-To: test-report-bounces@dpdk.org Test-Label: iol-unit-amd64-testing Test-Status: SUCCESS http://dpdk.org/patch/156001 _Testing PASS_ Submitter: Bruce Richardson Date: Tuesday, August 19 2025 11:25:21 DPDK git baseline: Repo:dpdk Branch: master CommitID:38543d33bd47fc0ee21f59db80a8763620741879 156000-156001 --> testing pass Upstream job id: Generic-Unit-Test-DPDK#363918 Test environment and result as below: +-------------------------------+----------------+ | Environment | dpdk_unit_test | +===============================+================+ | CentOS Stream 9 | PASS | +-------------------------------+----------------+ | Fedora Linux 40 | PASS | +-------------------------------+----------------+ | Fedora Linux 41 | PASS | +-------------------------------+----------------+ | Debian GNU/Linux 12 | PASS | +-------------------------------+----------------+ | Fedora Linux 42 | PASS | +-------------------------------+----------------+ | CentOS Stream 10 | PASS | +-------------------------------+----------------+ | Red Hat Enterprise Linux 8.10 | PASS | +-------------------------------+----------------+ | Ubuntu 22.04 | PASS | +-------------------------------+----------------+ | Ubuntu 24.04 | PASS | +-------------------------------+----------------+ | Ubuntu 20.04 | PASS | +-------------------------------+----------------+ | Red Hat Enterprise Linux 9.5 | PASS | +-------------------------------+----------------+ CentOS Stream 9 Kernel: 5.15 Compiler: gcc gcc (GCC) 11.5.0 20240719 (Red Hat 11.5.0-7) Fedora Linux 40 Kernel: 5.15 Compiler: clang gcc (GCC) 14.2.1 20240912 (Red Hat 14.2.1-3) Fedora Linux 41 Kernel: 5.15 Compiler: gcc gcc (GCC) 14.3.1 20250523 (Red Hat 14.3.1-1) Debian GNU/Linux 12 Kernel: 5.15 Compiler: gcc gcc (Debian 12.2.0-14+deb12u1) 12.2.0 Fedora Linux 42 Kernel: 5.15 Compiler: gcc gcc (GCC) 15.1.1 20250521 (Red Hat 15.1.1-2) CentOS Stream 10 Kernel: 5.15 Compiler: gcc gcc (GCC) 14.2.1 20250110 (Red Hat 14.2.1-8) Red Hat Enterprise Linux 8.10 Kernel: 5.15 Compiler: gcc gcc (GCC) 8.5.0 20210514 (Red Hat 8.5.0-22) Ubuntu 22.04 Kernel: 5.15 Compiler: gcc gcc (Ubuntu 11.4.0-1ubuntu1~22.04) 11.4.0 Ubuntu 24.04 Kernel: 5.15 Compiler: gcc gcc (Ubuntu 13.3.0-6ubuntu2~24.04) 13.3.0 Ubuntu 20.04 Kernel: 5.15 Compiler: gcc gcc (Ubuntu 9.4.0-1ubuntu1~20.04.2) 9.4.0 Red Hat Enterprise Linux 9.5 Kernel: 5.15 Compiler: gcc gcc (GCC) 11.5.0 20240719 (Red Hat 11.5.0-2) To view detailed results, visit: https://lab.dpdk.org/results/dashboard/patchsets/33905/ UNH-IOL DPDK Community Lab To manage your email subscriptions, visit: https://lab.dpdk.org/results/dashboard/preferences/subscriptions/