From mboxrd@z Thu Jan 1 00:00:00 1970 Return-Path: Received: from mails.dpdk.org (mails.dpdk.org [217.70.189.124]) by inbox.dpdk.org (Postfix) with ESMTP id 6C28346D67 for ; Tue, 19 Aug 2025 15:51:47 +0200 (CEST) Received: from mails.dpdk.org (localhost [127.0.0.1]) by mails.dpdk.org (Postfix) with ESMTP id 5A191402D9; Tue, 19 Aug 2025 15:51:47 +0200 (CEST) Received: from mail-ot1-f98.google.com (mail-ot1-f98.google.com [209.85.210.98]) by mails.dpdk.org (Postfix) with ESMTP id 5193C402D9 for ; Tue, 19 Aug 2025 15:51:46 +0200 (CEST) Received: by mail-ot1-f98.google.com with SMTP id 46e09a7af769-74381ff87fdso2904762a34.2 for ; Tue, 19 Aug 2025 06:51:46 -0700 (PDT) DKIM-Signature: v=1; a=rsa-sha256; c=relaxed/relaxed; d=iol.unh.edu; s=unh-iol; t=1755611505; x=1756216305; darn=dpdk.org; h=references:in-reply-to:cc:to:from:subject:message-id:date:from:to :cc:subject:date:message-id:reply-to; bh=ZrxDQtNTp2SzHrKgTFqQGP4rQHVInpHPSWYtuAAzapY=; b=LmXUH5w5OsHJmj1NMZVT+avak3YzmGAEsfzMn5RkSamTWODZn2p02Ypg+kn8Cmz9q/ 80gPC499T0ewSrVidOzhQhQS3sZVAH2uM18hGM8HZt5Jk6W/504+N3viXcASNxiLC65t GGysZr280ueq0BTThcCICyJ89tKrGhs4uA+4Y= X-Google-DKIM-Signature: v=1; a=rsa-sha256; c=relaxed/relaxed; d=1e100.net; s=20230601; t=1755611505; x=1756216305; h=references:in-reply-to:cc:to:from:subject:message-id:date :x-gm-message-state:from:to:cc:subject:date:message-id:reply-to; bh=ZrxDQtNTp2SzHrKgTFqQGP4rQHVInpHPSWYtuAAzapY=; b=CUIzJaWA89Jll/0s3PX0At3qKrmj1CR/4g6E3hN59yTHGchsNrEJPUQ1wLZu+GBhYi bn7/32Bx51y8p62mNzl1gPEwAU+8Z/nqlVrnASzoQw8MoITow7jX4LWktahS7KaInSO2 z2YckHtOSTiWW3xq/4b2iV39vYqax6iKyMaZGzOPtMCzfbNR0A82IGk+p1qW9B8YHb1e KvmyTnP1wSng4f5fvnxcu6naJhLqzqaqLaxAd20WPAjDVkbz5Isd9/pVX7ARcHsFpYXN OiArLV18rVqKMyVifWBGEsE4XtVAgHiici9sNebz9hQrUoBZDFmVQrt2EDFTPdIvU+3Q yXQw== X-Gm-Message-State: AOJu0YwTyjfidSY7+fx2ozQIob/Im6iWTpmdzDHztn5NE4tKHrS31LP8 32owvaQLDq4EK3IpqilZ6BPOxkvhqRUuMFubFS16BYgVDKyHMzal/zaA/T05r5JYbNaVSPm+jzR 1bibgzptgj+tQ6dUeSQpAhFw8SyDQs2+GHFE7cz5lN2Ff X-Gm-Gg: ASbGncsPICP9PwWirPrKmvTomGD9cH3x1DEM92ZPjxapR5sGL+Aw5wucVZClMDWymMl RXMVjv73YgqeVOupE+NPvLugQeGUcLE7Dt7HswpjdTGtPt8j+fWaFwCd5gem8pYfWHuTr2/TXm2 U5uzvoBzGH5diM6qfMNTI4mW+WzGabfMywmKAG4tXam6elPbuta30w7Kwiujj/qHLyPzF2Ow1UX GkmqrJ8YPtbZ6P/NfElvPT+dguEm7bHMfREXolrTat68LuDbn2ThmWJZAg1Klz7w7dx710Q7Jyz 9FNP5REaFMBcHKkqfbgoReWSkMeL4mYDHDAYrin4yW0eIvFG4bHfsBvkOBxuF//ZpLc38W4s X-Google-Smtp-Source: AGHT+IGR+5+yzHGFSWthHsRhdliNwWt0qV4hXEfaWNYdEvCumkTINbv3Hsbv1a/YtMmrk/swsG39cSDymuxn X-Received: by 2002:a05:6830:4996:b0:741:9157:7179 with SMTP id 46e09a7af769-744e0ac4d7amr2173925a34.21.1755611505489; Tue, 19 Aug 2025 06:51:45 -0700 (PDT) Received: from postal.iol.unh.edu (postal.iol.unh.edu. [132.177.123.84]) by smtp-relay.gmail.com with ESMTPS id 586e51a60fabf-310abc10e1bsm1148070fac.22.2025.08.19.06.51.45 (version=TLS1_2 cipher=ECDHE-ECDSA-AES128-GCM-SHA256 bits=128/128); Tue, 19 Aug 2025 06:51:45 -0700 (PDT) X-Relaying-Domain: iol.unh.edu Date: Tue, 19 Aug 2025 06:51:45 -0700 (PDT) Message-ID: <68a48171.050a0220.12608d.a1dcSMTPIN_ADDED_MISSING@mx.google.com> Received: from [172.21.0.2] (unknown [172.18.0.240]) by postal.iol.unh.edu (Postfix) with ESMTP id 04A12604D420; Tue, 19 Aug 2025 09:51:45 -0400 (EDT) Subject: |WARNING| pw155932-155978 [PATCH] [RFC,47/47] drivers/raw: replace w From: dpdklab@iol.unh.edu To: Test Report Cc: dpdk-test-reports@iol.unh.edu In-Reply-To: <20250818233102.180207-48-stephen@networkplumber.org> References: <20250818233102.180207-48-stephen@networkplumber.org> Content-Type: text/plain X-BeenThere: test-report@dpdk.org X-Mailman-Version: 2.1.29 Precedence: list List-Id: automatic DPDK test reports List-Unsubscribe: , List-Archive: List-Post: List-Help: List-Subscribe: , Errors-To: test-report-bounces@dpdk.org Test-Label: iol-unit-arm64-testing Test-Status: WARNING http://dpdk.org/patch/155978 _Testing issues_ Submitter: Stephen Hemminger Date: Monday, August 18 2025 23:27:58 DPDK git baseline: Repo:dpdk Branch: master CommitID:38543d33bd47fc0ee21f59db80a8763620741879 155932-155978 --> testing issues Upstream job id: Generic-Unit-Test-DPDK#363760 Test environment and result as below: +------------------------------+---------------------------+--------------+------------------------------+----------------+ | Environment | cryptodev_sw_zuc_autotest | lpm_autotest | cryptodev_sw_snow3g_autotest | dpdk_unit_test | +==============================+===========================+==============+==============================+================+ | Debian 12 (arm) | WARN | SKIPPED | WARN | SKIPPED | +------------------------------+---------------------------+--------------+------------------------------+----------------+ | Ubuntu 20.04 | SKIPPED | PASS | SKIPPED | PASS | +------------------------------+---------------------------+--------------+------------------------------+----------------+ | CentOS Stream 9 | SKIPPED | SKIPPED | SKIPPED | PASS | +------------------------------+---------------------------+--------------+------------------------------+----------------+ | Fedora Linux 40 | SKIPPED | SKIPPED | SKIPPED | PASS | +------------------------------+---------------------------+--------------+------------------------------+----------------+ | CentOS Stream 10 | SKIPPED | SKIPPED | SKIPPED | PASS | +------------------------------+---------------------------+--------------+------------------------------+----------------+ | Debian GNU/Linux 12 | SKIPPED | SKIPPED | SKIPPED | WARN | +------------------------------+---------------------------+--------------+------------------------------+----------------+ | Fedora Linux 42 | SKIPPED | SKIPPED | SKIPPED | PASS | +------------------------------+---------------------------+--------------+------------------------------+----------------+ | Fedora Linux 41 | SKIPPED | SKIPPED | SKIPPED | PASS | +------------------------------+---------------------------+--------------+------------------------------+----------------+ | Red Hat Enterprise Linux 9.5 | SKIPPED | SKIPPED | SKIPPED | PASS | +------------------------------+---------------------------+--------------+------------------------------+----------------+ | Ubuntu 22.04 | SKIPPED | SKIPPED | SKIPPED | PASS | +------------------------------+---------------------------+--------------+------------------------------+----------------+ | Ubuntu 24.04 | SKIPPED | SKIPPED | SKIPPED | PASS | +------------------------------+---------------------------+--------------+------------------------------+----------------+ ==== 20 line log output for Debian GNU/Linux 12 (dpdk_unit_test): ==== ../lib/eal/include/bsd_queue.h:491:46: error: pointer 'filter' may be used after 'rte_free' [-Werror=use-after-free] 491 | #define STAILQ_NEXT(elm, field) ((elm)->field.stqe_next) | ~~~~~~~~~~~~~^~~~~~~~~~~ ../lib/eal/include/bsd_queue.h:509:14: note: in expansion of macro 'STAILQ_NEXT' 509 | STAILQ_NEXT(STAILQ_NEXT(elm, field), field)) == NULL) \ | ^~~~~~~~~~~ ../lib/eal/include/bsd_queue.h:502:17: note: in expansion of macro 'STAILQ_REMOVE_AFTER' 502 | STAILQ_REMOVE_AFTER(head, _Curelm, field); \ | ^~~~~~~~~~~~~~~~~~~ ../drivers/net/bnxt/bnxt_filter.c:155:25: note: in expansion of macro 'STAILQ_REMOVE' 155 | STAILQ_REMOVE(&bp->pf->vf_info[i].filter, filter, | ^~~~~~~~~~~~~ ../drivers/net/bnxt/bnxt_filter.c:154:25: note: call to 'rte_free' here 154 | rte_free(filter); | ^~~~~~~~~~~~~~~~ cc1: all warnings being treated as errors [1250/3730] Compiling C object drivers/libtmp_rte_net_bnxt.a.p/net_bnxt_bnxt_irq.c.o [1251/3730] Compiling C object drivers/libtmp_rte_net_bnxt.a.p/net_bnxt_bnxt_flow.c.o [1252/3730] Compiling C object drivers/libtmp_rte_net_bnxt.a.p/net_bnxt_bnxt_hwrm.c.o ninja: build stopped: subcommand failed. ==== End log output ==== Debian 12 (arm) Kernel: Depends on container host Compiler: gcc (Debian 12.2.0-14) 12.2.0 Ubuntu 20.04 Kernel: 5.4 Compiler: gcc gcc (Ubuntu 9.4.0-1ubuntu1~20.04.2) 9.4.0 CentOS Stream 9 Kernel: 5.4 Compiler: gcc gcc (GCC) 11.5.0 20240719 (Red Hat 11.5.0-7) Fedora Linux 40 Kernel: 5.4 Compiler: clang gcc (GCC) 14.2.1 20240912 (Red Hat 14.2.1-3) CentOS Stream 10 Kernel: 5.4 Compiler: gcc gcc (GCC) 14.2.1 20250110 (Red Hat 14.2.1-8) Debian GNU/Linux 12 Kernel: 5.4 Compiler: gcc gcc (Debian 12.2.0-14+deb12u1) 12.2.0 Fedora Linux 42 Kernel: 5.4 Compiler: gcc gcc (GCC) 15.1.1 20250521 (Red Hat 15.1.1-2) Fedora Linux 41 Kernel: 5.4 Compiler: gcc gcc (GCC) 14.3.1 20250523 (Red Hat 14.3.1-1) Red Hat Enterprise Linux 9.5 Kernel: 5.4 Compiler: gcc gcc (GCC) 11.5.0 20240719 (Red Hat 11.5.0-2) Ubuntu 22.04 Kernel: 5.4 Compiler: gcc gcc (Ubuntu 11.4.0-1ubuntu1~22.04) 11.4.0 Ubuntu 24.04 Kernel: 5.4 Compiler: gcc gcc (Ubuntu 13.3.0-6ubuntu2~24.04) 13.3.0 To view detailed results, visit: https://lab.dpdk.org/results/dashboard/patchsets/33900/ UNH-IOL DPDK Community Lab To manage your email subscriptions, visit: https://lab.dpdk.org/results/dashboard/preferences/subscriptions/