From mboxrd@z Thu Jan 1 00:00:00 1970 Return-Path: Received: from mails.dpdk.org (mails.dpdk.org [217.70.189.124]) by inbox.dpdk.org (Postfix) with ESMTP id 96CC846D68 for ; Tue, 19 Aug 2025 16:21:45 +0200 (CEST) Received: from mails.dpdk.org (localhost [127.0.0.1]) by mails.dpdk.org (Postfix) with ESMTP id 71DDD40608; Tue, 19 Aug 2025 16:21:45 +0200 (CEST) Received: from mail-pj1-f98.google.com (mail-pj1-f98.google.com [209.85.216.98]) by mails.dpdk.org (Postfix) with ESMTP id 6D03840608 for ; Tue, 19 Aug 2025 16:21:43 +0200 (CEST) Received: by mail-pj1-f98.google.com with SMTP id 98e67ed59e1d1-32326e71c31so4896543a91.3 for ; Tue, 19 Aug 2025 07:21:43 -0700 (PDT) DKIM-Signature: v=1; a=rsa-sha256; c=relaxed/relaxed; d=iol.unh.edu; s=unh-iol; t=1755613302; x=1756218102; darn=dpdk.org; h=references:in-reply-to:cc:to:from:subject:message-id:date:from:to :cc:subject:date:message-id:reply-to; bh=1wAr0WTpG6x9urFBCGab5dEarvo4UMrSNKrqTwSkwkI=; b=dlSp8LnUmY+fWFRbg0gXPCKNhPhxciQatlyOU0/GytcePDGWLohEVqSrlzTEQfqMdL 1TeXpabo0Sxw+j74aAnbRE1L9gG5CadlLNOhYufqemKB6GLhcwHA3gtu2sB0+d+oxaGt Lyk+PqnWBXZj89bIP74gWCV3OK3KP5Ss6FR+A= X-Google-DKIM-Signature: v=1; a=rsa-sha256; c=relaxed/relaxed; d=1e100.net; s=20230601; t=1755613302; x=1756218102; h=references:in-reply-to:cc:to:from:subject:message-id:date :x-gm-message-state:from:to:cc:subject:date:message-id:reply-to; bh=1wAr0WTpG6x9urFBCGab5dEarvo4UMrSNKrqTwSkwkI=; b=ivKheSRkMUH9aChAnomD13VKpZdi3mEELWWKKeZBG9evB4YfuJSAS67QGS+PeWuwB5 SUNox9mFwZw1ZGQc9TLjNc0tyUU+YsHm0VTOZU8/WEaY/jZlyiU9fU/N3EDXIt7r7LWL UkvbA3NCxoeeNOMg9zaxmYwVXfidQbzJ2KeDVmB1r81KnjfD187Hml4b21ue/hDzA2HW /2YUOorqx/G3R5YKmjmfUuWCaVSaWT4MiYO2ZfFApEVEL+rsQwnZBXtJBmgl4204vt6f bdOzbehc1GHmS/Fm8rvDBkdP1kpf2wmBKyYrflpRyUIt0RMfXf/LKq61YSbG0zI9Epgb Htfg== X-Gm-Message-State: AOJu0YyG5iCoKAsQHSY9+ETMg4bOkD+j0Tf00O2dk7QZyLpt+Ec0bTzA eLVE/KcLzmlpu5M8BobTKDYaaX+k06AJ3kVnaRI+HLvYzkGcjxKCY7tkJMSb9pnkIZFQdQEynhR OjHduw74ivlDLy4j4SMli+WI7nTvZYarPkUBseY06bsdjpXWMP8qUz36OBOky X-Gm-Gg: ASbGncusEJYMvaqoRJfBetASnO7iuJKVYLM/vRDQVw6fqeBWy5P6B8qOWglts4jxCrM kILulS4UhO/LFIlBkctDSL4jlrYjWnFCnAHRer4WTi7us0HcIceoAOtQ5Ys6dwvySi3wRiVexWg XIbmqX140QiIE3fkgo/4nO5+JWBLlmsuzfakQa1dkrYwSmNkeLHn/K0C14FoBZ0NCCktvQagkmh kPgKCpncwmAxoLYNwZ9nEYvXyWvfohdwFofFqYioSo+vFHiR57QfkLnmDrvD40+snAnVosFXvku PhGXeU4TZkhD/5QUFK5KstYvvId7SynFOjm+MngA6Vv/7RIlhw== X-Google-Smtp-Source: AGHT+IHmc5B3Q+LQsJPYlHhOyEJkwD679XKVxD36U+t9xHsN0miwGgSoVu0iDJN+969u3rAhJutVeQhrp5NX X-Received: by 2002:a17:90b:5447:b0:323:284a:5c3f with SMTP id 98e67ed59e1d1-3245e563fd6mr3745748a91.8.1755613302418; Tue, 19 Aug 2025 07:21:42 -0700 (PDT) Received: from postal.iol.unh.edu (postal.iol.unh.edu. [2606:4100:3880:1234::84]) by smtp-relay.gmail.com with ESMTPS id 98e67ed59e1d1-3237e3d2499sm232517a91.1.2025.08.19.07.21.42 (version=TLS1_2 cipher=ECDHE-ECDSA-AES128-GCM-SHA256 bits=128/128); Tue, 19 Aug 2025 07:21:42 -0700 (PDT) X-Relaying-Domain: iol.unh.edu Date: Tue, 19 Aug 2025 07:21:42 -0700 (PDT) Message-ID: <68a48876.170a0220.3c9282.ec7cSMTPIN_ADDED_MISSING@mx.google.com> Received: from [172.21.0.2] (unknown [172.18.0.240]) by postal.iol.unh.edu (Postfix) with ESMTP id 96C706051830; Tue, 19 Aug 2025 10:21:41 -0400 (EDT) Subject: |SUCCESS| pw155980 [PATCH] app/crypto-perf: add ECDSA P384 support From: dpdklab@iol.unh.edu To: Test Report Cc: dpdk-test-reports@iol.unh.edu In-Reply-To: <20250819041517.1638717-1-rchiluka@marvell.com> References: <20250819041517.1638717-1-rchiluka@marvell.com> Content-Type: text/plain X-BeenThere: test-report@dpdk.org X-Mailman-Version: 2.1.29 Precedence: list List-Id: automatic DPDK test reports List-Unsubscribe: , List-Archive: List-Post: List-Help: List-Subscribe: , Errors-To: test-report-bounces@dpdk.org Test-Label: iol-compile-arm64-testing Test-Status: SUCCESS http://dpdk.org/patch/155980 _Testing PASS_ Submitter: Rupesh Chiluka Date: Tuesday, August 19 2025 04:15:17 DPDK git baseline: Repo:dpdk Branch: master CommitID:390cb3d4ea2f9139e18c7541ec68d269bfe3dc37 155980 --> testing pass Upstream job id: Generic-DPDK-Compile-Meson#418353 Test environment and result as below: +------------------------------+--------------------+ | Environment | dpdk_meson_compile | +==============================+====================+ | Ubuntu 20.04 | PASS | +------------------------------+--------------------+ | Fedora Linux 42 | PASS | +------------------------------+--------------------+ | Debian GNU/Linux 12 | PASS | +------------------------------+--------------------+ | CentOS Stream 9 | PASS | +------------------------------+--------------------+ | Ubuntu 22.04 | PASS | +------------------------------+--------------------+ | CentOS Stream 10 | PASS | +------------------------------+--------------------+ | Red Hat Enterprise Linux 9.5 | PASS | +------------------------------+--------------------+ | Ubuntu 24.04 | PASS | +------------------------------+--------------------+ Ubuntu 20.04 Kernel: 5.15 Compiler: aarch64-linux-gnu-gcc gcc (Ubuntu 9.4.0-1ubuntu1~20.04.2) 9.4.0 Fedora Linux 42 Kernel: 5.4 Compiler: gcc gcc (GCC) 15.1.1 20250521 (Red Hat 15.1.1-2) Debian GNU/Linux 12 Kernel: 5.4 Compiler: gcc gcc (Debian 12.2.0-14+deb12u1) 12.2.0 CentOS Stream 9 Kernel: 5.4 Compiler: gcc gcc (GCC) 11.5.0 20240719 (Red Hat 11.5.0-7) Ubuntu 22.04 Kernel: 5.4 Compiler: gcc gcc (Ubuntu 11.4.0-1ubuntu1~22.04) 11.4.0 CentOS Stream 10 Kernel: 5.4 Compiler: gcc gcc (GCC) 14.2.1 20250110 (Red Hat 14.2.1-8) Red Hat Enterprise Linux 9.5 Kernel: 5.4 Compiler: gcc gcc (GCC) 11.5.0 20240719 (Red Hat 11.5.0-2) Ubuntu 24.04 Kernel: 5.4 Compiler: gcc gcc (Ubuntu 13.3.0-6ubuntu2~24.04) 13.3.0 To view detailed results, visit: https://lab.dpdk.org/results/dashboard/patchsets/33898/ UNH-IOL DPDK Community Lab To manage your email subscriptions, visit: https://lab.dpdk.org/results/dashboard/preferences/subscriptions/