From mboxrd@z Thu Jan 1 00:00:00 1970 Return-Path: Received: from mails.dpdk.org (mails.dpdk.org [217.70.189.124]) by inbox.dpdk.org (Postfix) with ESMTP id C166046D68 for ; Tue, 19 Aug 2025 18:10:17 +0200 (CEST) Received: from mails.dpdk.org (localhost [127.0.0.1]) by mails.dpdk.org (Postfix) with ESMTP id A37D3402E4; Tue, 19 Aug 2025 18:10:17 +0200 (CEST) Received: from mail-pl1-f226.google.com (mail-pl1-f226.google.com [209.85.214.226]) by mails.dpdk.org (Postfix) with ESMTP id 22D9A402E4 for ; Tue, 19 Aug 2025 18:10:16 +0200 (CEST) Received: by mail-pl1-f226.google.com with SMTP id d9443c01a7336-2445826fd9dso64397775ad.3 for ; Tue, 19 Aug 2025 09:10:16 -0700 (PDT) DKIM-Signature: v=1; a=rsa-sha256; c=relaxed/relaxed; d=iol.unh.edu; s=unh-iol; t=1755619815; x=1756224615; darn=dpdk.org; h=references:in-reply-to:cc:to:from:subject:message-id:date:from:to :cc:subject:date:message-id:reply-to; bh=OPGfZfw0JOqKeVvpYqWVrvJ4j4HGtZ/hMDmAzBCh9iw=; b=EW3FYqaZ3DxZ4WxfinlTEEEjCQ3m7GS26IzE4GZL9Xa95D78JANv+g6NhG/usv+286 /tt8rFGmXGIgVcabIoV3Nlh2P9r+KGZmoSl63az5LhV3fqcnEgQiEebl2OtJSBCA9I61 OGYrhSMPeD66i6xh7L8f/l8hpkTuAp2f8V39o= X-Google-DKIM-Signature: v=1; a=rsa-sha256; c=relaxed/relaxed; d=1e100.net; s=20230601; t=1755619815; x=1756224615; h=references:in-reply-to:cc:to:from:subject:message-id:date :x-gm-message-state:from:to:cc:subject:date:message-id:reply-to; bh=OPGfZfw0JOqKeVvpYqWVrvJ4j4HGtZ/hMDmAzBCh9iw=; b=b8CTwKisy/rYCDEYi+OsFd0Zi2xcxwgvESSh6Hp2ubF0Zn/1lQ/4UIF8UgOsnUQ2hj 9I6y5gZSzgnilzV3O4/1bAU+Sq3dXn8HCWRSkSERi0alEKOe8hlEsYUIuBJqnabtnuF6 N89s9uKklbCHLLsiFoLicK0OHeNgSdCfpC6T6eoJGuqnYUhlTlY5OXZaCAuCq2EdyERa yskEvjcnI73UdYMevvXa0cGWdb0Bl8/SrQPzbZbl2fYAXZDDEqE0c0kKiCDkt73fqb8C 9eslYrcuNzDbmGn2LgcbWJvZO+b7oavCsjTPq7ELo1tuLKVkqlmWYmZDlwpdzrOloUXZ xNDw== X-Gm-Message-State: AOJu0YzBi3XECKPvDClEBbJSJb8MRc1dvluEl/U0UaLZFFrNqbXymkTk sySyYmt1yQYFhFMmKm9XY1Ye2EIZLl2UR29f2qJe5qKH0Sf3/jsfvTbM79VOyYGYrpo4zm4RE4p rYMDHjbeNeXb7toPrADHJpItw7X2sCrJ9a0zu+jqA90j8 X-Gm-Gg: ASbGnctJ8MNytqSVI7B5UA8lysA9XJ7O7jZHjcCVFbPYYWGfhtn86k6odIAqy94SuMd XBL+4dsaHeHJ2mJZQ6QkMDq16f8vGbYZpiQQDbUjrgeKLHAvYZtQ5VDT7iSj1BaaPaM5d0kb8EF 6F/yU80YsJWRzFHh+JYNMIreHIK5ePGKMKtnV7ferI77o2yyf9HdhuiFpgECzQsr4HF0SYvYuB/ pnn9oZIcgld45C2KsMGUbux+bfOpWL0hlw7cKwQH4pFBz5K0McQf1CeeAgcPAVe/sEiniWOiGSB dYtHoee1s+4LqGQHYE/qJ5zCp87Q0s4UrZT7tzKE6mxVZXv4xXlbHELUZzHH9dzc/LP4HqN5 X-Google-Smtp-Source: AGHT+IEghV5AjTVNJleH9IDN0SoNR5HwS85pyGT+TnZGnbLo19RkKibL1phwKNhZtYwRZEod5TrLGFJJxYN/ X-Received: by 2002:a17:903:2389:b0:240:5c38:756b with SMTP id d9443c01a7336-245e030b78bmr34003825ad.14.1755619815194; Tue, 19 Aug 2025 09:10:15 -0700 (PDT) Received: from postal.iol.unh.edu (postal.iol.unh.edu. [132.177.123.84]) by smtp-relay.gmail.com with ESMTPS id d9443c01a7336-245ed4943b8sm96675ad.67.2025.08.19.09.10.15 (version=TLS1_2 cipher=ECDHE-ECDSA-AES128-GCM-SHA256 bits=128/128); Tue, 19 Aug 2025 09:10:15 -0700 (PDT) X-Relaying-Domain: iol.unh.edu Date: Tue, 19 Aug 2025 09:10:15 -0700 (PDT) Message-ID: <68a4a1e7.170a0220.148c16.07b3SMTPIN_ADDED_MISSING@mx.google.com> Received: from [172.21.0.3] (unknown [172.18.0.240]) by postal.iol.unh.edu (Postfix) with ESMTP id A9BE36051830; Tue, 19 Aug 2025 12:10:14 -0400 (EDT) Subject: |SUCCESS| pw155980 [PATCH] app/crypto-perf: add ECDSA P384 support From: dpdklab@iol.unh.edu To: Test Report Cc: dpdk-test-reports@iol.unh.edu In-Reply-To: <20250819041517.1638717-1-rchiluka@marvell.com> References: <20250819041517.1638717-1-rchiluka@marvell.com> Content-Type: text/plain X-BeenThere: test-report@dpdk.org X-Mailman-Version: 2.1.29 Precedence: list List-Id: automatic DPDK test reports List-Unsubscribe: , List-Archive: List-Post: List-Help: List-Subscribe: , Errors-To: test-report-bounces@dpdk.org Test-Label: iol-compile-amd64-testing Test-Status: SUCCESS http://dpdk.org/patch/155980 _Testing PASS_ Submitter: Rupesh Chiluka Date: Tuesday, August 19 2025 04:15:17 DPDK git baseline: Repo:dpdk Branch: master CommitID:390cb3d4ea2f9139e18c7541ec68d269bfe3dc37 155980 --> testing pass Upstream job id: Windows-Compile-DPDK-Native#30428 Test environment and result as below: +-------------------------------+--------------------+-------------------+------------------+-------------------------+-------------------+ | Environment | dpdk_meson_compile | dpdk_compile_spdk | dpdk_compile_ovs | dpdk_llvm_clang_compile | dpdk_msvc_compile | +===============================+====================+===================+==================+=========================+===================+ | CentOS Stream 10 | PASS | SKIPPED | SKIPPED | SKIPPED | SKIPPED | +-------------------------------+--------------------+-------------------+------------------+-------------------------+-------------------+ | Debian GNU/Linux 12 | PASS | PASS | SKIPPED | SKIPPED | SKIPPED | +-------------------------------+--------------------+-------------------+------------------+-------------------------+-------------------+ | Fedora Linux 42 | PASS | PASS | PASS | SKIPPED | SKIPPED | +-------------------------------+--------------------+-------------------+------------------+-------------------------+-------------------+ | openSUSE Leap 15.6 | PASS | SKIPPED | SKIPPED | SKIPPED | SKIPPED | +-------------------------------+--------------------+-------------------+------------------+-------------------------+-------------------+ | Red Hat Enterprise Linux 8.10 | PASS | SKIPPED | SKIPPED | SKIPPED | SKIPPED | +-------------------------------+--------------------+-------------------+------------------+-------------------------+-------------------+ | Red Hat Enterprise Linux 9.5 | PASS | SKIPPED | SKIPPED | SKIPPED | SKIPPED | +-------------------------------+--------------------+-------------------+------------------+-------------------------+-------------------+ | Ubuntu 22.04 | PASS | PASS | SKIPPED | SKIPPED | SKIPPED | +-------------------------------+--------------------+-------------------+------------------+-------------------------+-------------------+ | Ubuntu 20.04 | PASS | SKIPPED | SKIPPED | SKIPPED | SKIPPED | +-------------------------------+--------------------+-------------------+------------------+-------------------------+-------------------+ | Alpine Linux 3.22.0 | PASS | SKIPPED | SKIPPED | SKIPPED | SKIPPED | +-------------------------------+--------------------+-------------------+------------------+-------------------------+-------------------+ | Ubuntu 24.04 | PASS | PASS | PASS | SKIPPED | SKIPPED | +-------------------------------+--------------------+-------------------+------------------+-------------------------+-------------------+ | FreeBSD 14.2 | PASS | SKIPPED | SKIPPED | SKIPPED | SKIPPED | +-------------------------------+--------------------+-------------------+------------------+-------------------------+-------------------+ | CentOS Stream 9 | PASS | PASS | SKIPPED | SKIPPED | SKIPPED | +-------------------------------+--------------------+-------------------+------------------+-------------------------+-------------------+ | Windows Server 2022 | SKIPPED | SKIPPED | SKIPPED | PASS | PASS | +-------------------------------+--------------------+-------------------+------------------+-------------------------+-------------------+ CentOS Stream 10 Kernel: 5.15 Compiler: gcc gcc (GCC) 14.2.1 20250110 (Red Hat 14.2.1-8) Debian GNU/Linux 12 Kernel: 5.15 Compiler: gcc gcc (Debian 12.2.0-14+deb12u1) 12.2.0 Fedora Linux 42 Kernel: 5.15 Compiler: clang gcc (GCC) 15.1.1 20250521 (Red Hat 15.1.1-2) openSUSE Leap 15.6 Kernel: 5.15 Compiler: gcc gcc (SUSE Linux) 7.5.0 Red Hat Enterprise Linux 8.10 Kernel: 5.15 Compiler: gcc gcc (GCC) 8.5.0 20210514 (Red Hat 8.5.0-22) Red Hat Enterprise Linux 9.5 Kernel: 5.15 Compiler: gcc gcc (GCC) 11.5.0 20240719 (Red Hat 11.5.0-2) Ubuntu 22.04 Kernel: 5.15 Compiler: gcc gcc (Ubuntu 11.4.0-1ubuntu1~22.04) 11.4.0 Ubuntu 20.04 Kernel: 5.15 Compiler: gcc gcc (Ubuntu 9.4.0-1ubuntu1~20.04.2) 9.4.0 Alpine Linux 3.22.0 Kernel: 5.15 Compiler: gcc gcc (Alpine 14.2.0) 14.2.0 Ubuntu 24.04 Kernel: 5.15 Compiler: gcc gcc (Ubuntu 13.3.0-6ubuntu2~24.04) 13.3.0 FreeBSD 14.2 Kernel: 14.2-RELEASE Compiler: clang 18.1.6 CentOS Stream 9 Kernel: 5.15 Compiler: gcc gcc (GCC) 11.5.0 20240719 (Red Hat 11.5.0-7) Windows Server 2022 Kernel: 10.0.20348.2031 Compiler: clang 15.0.7, gcc 14.1.0 (MinGW), and MSVC VS 19.39.33521 To view detailed results, visit: https://lab.dpdk.org/results/dashboard/patchsets/33898/ UNH-IOL DPDK Community Lab To manage your email subscriptions, visit: https://lab.dpdk.org/results/dashboard/preferences/subscriptions/