From mboxrd@z Thu Jan 1 00:00:00 1970 Return-Path: Received: from mails.dpdk.org (mails.dpdk.org [217.70.189.124]) by inbox.dpdk.org (Postfix) with ESMTP id 64B4046D68 for ; Tue, 19 Aug 2025 18:17:05 +0200 (CEST) Received: from mails.dpdk.org (localhost [127.0.0.1]) by mails.dpdk.org (Postfix) with ESMTP id 3D9E0402E4; Tue, 19 Aug 2025 18:17:05 +0200 (CEST) Received: from mail-pg1-f225.google.com (mail-pg1-f225.google.com [209.85.215.225]) by mails.dpdk.org (Postfix) with ESMTP id 6B55B402E4 for ; Tue, 19 Aug 2025 18:17:04 +0200 (CEST) Received: by mail-pg1-f225.google.com with SMTP id 41be03b00d2f7-b4716fa7706so3743419a12.0 for ; Tue, 19 Aug 2025 09:17:04 -0700 (PDT) DKIM-Signature: v=1; a=rsa-sha256; c=relaxed/relaxed; d=iol.unh.edu; s=unh-iol; t=1755620223; x=1756225023; darn=dpdk.org; h=references:in-reply-to:cc:to:from:subject:message-id:date:from:to :cc:subject:date:message-id:reply-to; bh=MV3pPR056YjwZNuwQHdbLdZlduGDjksCKlUKQyDuXHY=; b=YMqnAe5gUQiAaZhW/Wwd6+xGZ3vEkSu5j+fmCglLrLt90rl9n9SAnfrotbirzSkGv3 eAbeJP4XLMa/MbuB3K3wpBYyb9yW+uh0RinCHaM8JYBfJcj0MgVv1b9Fm9Do/ufKvYlJ CNuLD5gx34AW/74UCTSzDrQy+3eCl9AybzXZ4= X-Google-DKIM-Signature: v=1; a=rsa-sha256; c=relaxed/relaxed; d=1e100.net; s=20230601; t=1755620223; x=1756225023; h=references:in-reply-to:cc:to:from:subject:message-id:date :x-gm-message-state:from:to:cc:subject:date:message-id:reply-to; bh=MV3pPR056YjwZNuwQHdbLdZlduGDjksCKlUKQyDuXHY=; b=GwIVqetfVlKuBDTwyXa+z7aAbIe3R2zjQz/ya3msmPjrrspMgW7ARmAeIfdi5Q1wy+ QA/WeFYy4ckFiJSztILdHa9NPzThGiaRvEylhZe0xN8W5fBmX1sJVcviR0IHK/uEXYMh epSluBqxnA0s22P/GJahTEmoABGF81LD5cjUmfgDiOXeATE/cu2MpqWpKzTkSVUYNNnE 4j6T2VeyD9cVIGAIT8HsZcHeTrxU769JXzgAtbfcbdEDk0FdpDuBH18x4NCXznwLTcFN lXABh6CQm8bJLgUTHK2Skk3YQKJHgJ6vRaC/WG60T69R9wR9CbYvIL2gx3KnS0GvkWMn prSA== X-Gm-Message-State: AOJu0YwJUOmCuPEj8r+iLj0QGJZyJp063kqDdGtYngrAOOjszDEv9VFQ IBw5AwuAMNtP2GErdokEQqKmxoav1HHWLDXp0JrZMQ1W7yviabX2oaQhyVKtMbCl1dqZRvPWCiq NCKLhhHQwVxOA3qyGxuPbRLJiU0Svl/a1/HCbJQ8FKTs7jhir7hZ8sWSFs/kW X-Gm-Gg: ASbGnctr3GXZxLSfHHBXl/vQk2F5univWI6/kduYHr+LX1jrHIuYYRn5xNTVHfrS2yi anbwgJz4x1znllXTWi4YhrP7eaBaW8YaFUYv/r2g6AWVV+r/ZmBRKmInh+s9YyfgdXTinf9zEYc OnyMjEm0c2+Y8jXy57J95fx2gDkB32Zyffuh+Zs5EG/SGW+liZAveoAtbmPodjTSv2xBU9SplqB TQi7bPsFSL+fldSqATKsW/w37Mzzbg4a3HqzRoqqfHJztpt1OgXH24db6S2vzYVHHwmiM9uBaJu V6N3oICD7WyaqW5lA/4ePvtf7G+FquEFR0arWRsVf2KdOqH5iQ== X-Google-Smtp-Source: AGHT+IHNWv399KIn+QvCVzZr0X4VYY4f13ip236k/0Vq/sO4KgjGR9nQiNiqgh0o608OKHisBB6kHimAvffu X-Received: by 2002:a17:903:18d:b0:23f:fa2c:3aff with SMTP id d9443c01a7336-245e04f24f6mr35935395ad.52.1755620223503; Tue, 19 Aug 2025 09:17:03 -0700 (PDT) Received: from postal.iol.unh.edu (postal.iol.unh.edu. [2606:4100:3880:1234::84]) by smtp-relay.gmail.com with ESMTPS id d9443c01a7336-245ed4ad9besm116465ad.72.2025.08.19.09.17.03 (version=TLS1_2 cipher=ECDHE-ECDSA-AES128-GCM-SHA256 bits=128/128); Tue, 19 Aug 2025 09:17:03 -0700 (PDT) X-Relaying-Domain: iol.unh.edu Date: Tue, 19 Aug 2025 09:17:03 -0700 (PDT) Message-ID: <68a4a37f.170a0220.30fc48.0b0aSMTPIN_ADDED_MISSING@mx.google.com> Received: from [172.21.0.2] (unknown [172.18.0.240]) by postal.iol.unh.edu (Postfix) with ESMTP id BDB2D604D420; Tue, 19 Aug 2025 12:17:02 -0400 (EDT) Subject: |SUCCESS| pw155980 [PATCH] app/crypto-perf: add ECDSA P384 support From: dpdklab@iol.unh.edu To: Test Report Cc: dpdk-test-reports@iol.unh.edu In-Reply-To: <20250819041517.1638717-1-rchiluka@marvell.com> References: <20250819041517.1638717-1-rchiluka@marvell.com> Content-Type: text/plain X-BeenThere: test-report@dpdk.org X-Mailman-Version: 2.1.29 Precedence: list List-Id: automatic DPDK test reports List-Unsubscribe: , List-Archive: List-Post: List-Help: List-Subscribe: , Errors-To: test-report-bounces@dpdk.org Test-Label: iol-unit-amd64-testing Test-Status: SUCCESS http://dpdk.org/patch/155980 _Testing PASS_ Submitter: Rupesh Chiluka Date: Tuesday, August 19 2025 04:15:17 DPDK git baseline: Repo:dpdk Branch: master CommitID:390cb3d4ea2f9139e18c7541ec68d269bfe3dc37 155980 --> testing pass Upstream job id: Generic-VM-Unit-Test-DPDK#30593 Test environment and result as below: +-------------------------------+----------------+ | Environment | dpdk_unit_test | +===============================+================+ | Fedora Linux 40 | PASS | +-------------------------------+----------------+ | CentOS Stream 10 | PASS | +-------------------------------+----------------+ | CentOS Stream 9 | PASS | +-------------------------------+----------------+ | Debian GNU/Linux 12 | PASS | +-------------------------------+----------------+ | Fedora Linux 41 | PASS | +-------------------------------+----------------+ | Red Hat Enterprise Linux 8.10 | PASS | +-------------------------------+----------------+ | Fedora Linux 42 | PASS | +-------------------------------+----------------+ | Red Hat Enterprise Linux 9.5 | PASS | +-------------------------------+----------------+ | Ubuntu 22.04 | PASS | +-------------------------------+----------------+ | Ubuntu 20.04 | PASS | +-------------------------------+----------------+ | Ubuntu 24.04 | PASS | +-------------------------------+----------------+ | Windows Server 2022 | PASS | +-------------------------------+----------------+ Fedora Linux 40 Kernel: 5.15 Compiler: gcc gcc (GCC) 14.2.1 20240912 (Red Hat 14.2.1-3) CentOS Stream 10 Kernel: 5.15 Compiler: gcc gcc (GCC) 14.2.1 20250110 (Red Hat 14.2.1-8) CentOS Stream 9 Kernel: 5.15 Compiler: gcc gcc (GCC) 11.5.0 20240719 (Red Hat 11.5.0-7) Debian GNU/Linux 12 Kernel: 5.15 Compiler: gcc gcc (Debian 12.2.0-14+deb12u1) 12.2.0 Fedora Linux 41 Kernel: 5.15 Compiler: gcc gcc (GCC) 14.3.1 20250523 (Red Hat 14.3.1-1) Red Hat Enterprise Linux 8.10 Kernel: 5.15 Compiler: gcc gcc (GCC) 8.5.0 20210514 (Red Hat 8.5.0-22) Fedora Linux 42 Kernel: 5.15 Compiler: gcc gcc (GCC) 15.1.1 20250521 (Red Hat 15.1.1-2) Red Hat Enterprise Linux 9.5 Kernel: 5.15 Compiler: gcc gcc (GCC) 11.5.0 20240719 (Red Hat 11.5.0-2) Ubuntu 22.04 Kernel: 5.15 Compiler: gcc gcc (Ubuntu 11.4.0-1ubuntu1~22.04) 11.4.0 Ubuntu 20.04 Kernel: 5.15 Compiler: gcc gcc (Ubuntu 9.4.0-1ubuntu1~20.04.2) 9.4.0 Ubuntu 24.04 Kernel: 5.15 Compiler: gcc gcc (Ubuntu 13.3.0-6ubuntu2~24.04) 13.3.0 Windows Server 2022 Kernel: 10.0.20348.2031 Compiler: clang 15.0.7, gcc 14.1.0 (MinGW), and MSVC VS 19.39.33521 To view detailed results, visit: https://lab.dpdk.org/results/dashboard/patchsets/33898/ UNH-IOL DPDK Community Lab To manage your email subscriptions, visit: https://lab.dpdk.org/results/dashboard/preferences/subscriptions/