From mboxrd@z Thu Jan 1 00:00:00 1970 Return-Path: Received: from mails.dpdk.org (mails.dpdk.org [217.70.189.124]) by inbox.dpdk.org (Postfix) with ESMTP id CAEA546D68 for ; Tue, 19 Aug 2025 18:21:58 +0200 (CEST) Received: from mails.dpdk.org (localhost [127.0.0.1]) by mails.dpdk.org (Postfix) with ESMTP id A4724402E4; Tue, 19 Aug 2025 18:21:58 +0200 (CEST) Received: from mail-pf1-f227.google.com (mail-pf1-f227.google.com [209.85.210.227]) by mails.dpdk.org (Postfix) with ESMTP id 6ABD2402E4 for ; Tue, 19 Aug 2025 18:21:57 +0200 (CEST) Received: by mail-pf1-f227.google.com with SMTP id d2e1a72fcca58-76e2eb20a64so5935592b3a.3 for ; Tue, 19 Aug 2025 09:21:57 -0700 (PDT) DKIM-Signature: v=1; a=rsa-sha256; c=relaxed/relaxed; d=iol.unh.edu; s=unh-iol; t=1755620516; x=1756225316; darn=dpdk.org; h=references:in-reply-to:cc:to:from:subject:message-id:date:from:to :cc:subject:date:message-id:reply-to; bh=/C8ETnrgU345V8DF3jqSx58ErbvwTmQd8nOqMIUyhkY=; b=PysRaauS13OvLx7gMsW0w62CBdpswTBPleJLRUT887ev3OiISqWOcgjRiidPr2eMOf RhC6GbmSi5HIIkXI31uX4N8PoLpQGWfF00zRwA0gwy3PUF7yxT/rpRmvgoA4uYOCu+BA +pajD0qF+LsQtof+JnI30cY2itC7XY7Zidd5E= X-Google-DKIM-Signature: v=1; a=rsa-sha256; c=relaxed/relaxed; d=1e100.net; s=20230601; t=1755620516; x=1756225316; h=references:in-reply-to:cc:to:from:subject:message-id:date :x-gm-message-state:from:to:cc:subject:date:message-id:reply-to; bh=/C8ETnrgU345V8DF3jqSx58ErbvwTmQd8nOqMIUyhkY=; b=m35dhVs09qljPC0GscuJyAmx0/HbFuF6qYAO1W5OXiZdJFQIaixcjFhpAIDUziJdxF nv+iewF6FnEasz7Repqcc3hOksbsjTKHUg9bmjv8JqPvIBtMSBjfyQ2SzN+dzQvx/z6b DT16ymKS/dG+xfQ9yozxy2IL3YeR+sQ+jJMj2QO5tcTRYRvqXFjqAxvQecWq/sRtrFfl MZr1xMFN6uYeb2MgaUxiPo9Xr4VzT8xDP/fAuJqHt3RkZnH70l8gZnya2ng4brokcv1J tw9dTx2oXK6UbJf7YwwvMpT6N9Dl60qvdeUacJNXjtLak+swe0T3YmZ2IsiZM+T/OgpD BBgA== X-Gm-Message-State: AOJu0Yz0LdDHcSEVh1ULtfqD2+QUphM0lOK1aEaepM2FcS0d5SoRrWOJ nUlbEqGz0jpbCrCW73pGbRyxcE4ex5ghLfdpTJ80fQxUABzvdvz3yC3Chkfs6R64dZxw+SJbxB0 Z6EQpftDLntkiuVkPNO/BdTIurX8nOYp8vQ4Y6FlrNavLGim+Gbh05M26E/Bj X-Gm-Gg: ASbGncvdbI+JAdkf5RR0mJcRmjSsSlwLJxZPPy68slBll5r34f3xMY6FI/W3k3PLHLb BDD4kM8OJvC4kBKSm0KXw79aqCllkrHcesx0QtLQ/QQ5FuEkvjZVdJatP4HH3iOBpPHRKml/BjA 27+ZNkrIB8ebUxhtXcZZo3o8RygfklHmCuv0FPRQz0zEF1xxxcZjUXWAb3mUHN2Z7AEzEPj2IEl wCXw4zbnIrAKmuh3h70p62ndZqP8OQdkmmL8y/63rSM9jmcecGNZtgzmI+7Qx6sX6H8oMCjvvrL 80/rla6dUEUBhCSV+PbRQ3XFkEJ4xnPJUL1VHpSNzg/VFI1e6A== X-Google-Smtp-Source: AGHT+IExXGHo3Vdu19D40wjXkM00GfZYYGbz5ToIKmjVu5/v/EveNfBASMBr3QBs2mvUYTRphd/nHijmPvqU X-Received: by 2002:a05:6a00:2d15:b0:748:eedb:902a with SMTP id d2e1a72fcca58-76e81103574mr4556209b3a.17.1755620516591; Tue, 19 Aug 2025 09:21:56 -0700 (PDT) Received: from postal.iol.unh.edu (postal.iol.unh.edu. [2606:4100:3880:1234::84]) by smtp-relay.gmail.com with ESMTPS id d2e1a72fcca58-76e7d0f33f6sm256228b3a.6.2025.08.19.09.21.56 (version=TLS1_2 cipher=ECDHE-ECDSA-AES128-GCM-SHA256 bits=128/128); Tue, 19 Aug 2025 09:21:56 -0700 (PDT) X-Relaying-Domain: iol.unh.edu Date: Tue, 19 Aug 2025 09:21:56 -0700 (PDT) Message-ID: <68a4a4a4.050a0220.1f5955.d910SMTPIN_ADDED_MISSING@mx.google.com> Received: from [172.21.0.2] (unknown [172.18.0.240]) by postal.iol.unh.edu (Postfix) with ESMTP id D51F2604D420; Tue, 19 Aug 2025 12:21:55 -0400 (EDT) Subject: |SUCCESS| pw155980 [PATCH] app/crypto-perf: add ECDSA P384 support From: dpdklab@iol.unh.edu To: Test Report Cc: dpdk-test-reports@iol.unh.edu In-Reply-To: <20250819041517.1638717-1-rchiluka@marvell.com> References: <20250819041517.1638717-1-rchiluka@marvell.com> Content-Type: text/plain X-BeenThere: test-report@dpdk.org X-Mailman-Version: 2.1.29 Precedence: list List-Id: automatic DPDK test reports List-Unsubscribe: , List-Archive: List-Post: List-Help: List-Subscribe: , Errors-To: test-report-bounces@dpdk.org Test-Label: iol-unit-amd64-testing Test-Status: SUCCESS http://dpdk.org/patch/155980 _Testing PASS_ Submitter: Rupesh Chiluka Date: Tuesday, August 19 2025 04:15:17 DPDK git baseline: Repo:dpdk Branch: master CommitID:390cb3d4ea2f9139e18c7541ec68d269bfe3dc37 155980 --> testing pass Upstream job id: Generic-VM-Unit-Test-DPDK#30594 Test environment and result as below: +-------------------------------+----------------+ | Environment | dpdk_unit_test | +===============================+================+ | Fedora Linux 40 | PASS | +-------------------------------+----------------+ | CentOS Stream 10 | PASS | +-------------------------------+----------------+ | CentOS Stream 9 | PASS | +-------------------------------+----------------+ | Debian GNU/Linux 12 | PASS | +-------------------------------+----------------+ | Fedora Linux 41 | PASS | +-------------------------------+----------------+ | Red Hat Enterprise Linux 8.10 | PASS | +-------------------------------+----------------+ | Fedora Linux 42 | PASS | +-------------------------------+----------------+ | Red Hat Enterprise Linux 9.5 | PASS | +-------------------------------+----------------+ | Ubuntu 22.04 | PASS | +-------------------------------+----------------+ | Ubuntu 20.04 | PASS | +-------------------------------+----------------+ | Ubuntu 24.04 | PASS | +-------------------------------+----------------+ | Windows Server 2022 | PASS | +-------------------------------+----------------+ Fedora Linux 40 Kernel: 5.15 Compiler: gcc gcc (GCC) 14.2.1 20240912 (Red Hat 14.2.1-3) CentOS Stream 10 Kernel: 5.15 Compiler: gcc gcc (GCC) 14.2.1 20250110 (Red Hat 14.2.1-8) CentOS Stream 9 Kernel: 5.15 Compiler: gcc gcc (GCC) 11.5.0 20240719 (Red Hat 11.5.0-7) Debian GNU/Linux 12 Kernel: 5.15 Compiler: gcc gcc (Debian 12.2.0-14+deb12u1) 12.2.0 Fedora Linux 41 Kernel: 5.15 Compiler: gcc gcc (GCC) 14.3.1 20250523 (Red Hat 14.3.1-1) Red Hat Enterprise Linux 8.10 Kernel: 5.15 Compiler: gcc gcc (GCC) 8.5.0 20210514 (Red Hat 8.5.0-22) Fedora Linux 42 Kernel: 5.15 Compiler: gcc gcc (GCC) 15.1.1 20250521 (Red Hat 15.1.1-2) Red Hat Enterprise Linux 9.5 Kernel: 5.15 Compiler: gcc gcc (GCC) 11.5.0 20240719 (Red Hat 11.5.0-2) Ubuntu 22.04 Kernel: 5.15 Compiler: gcc gcc (Ubuntu 11.4.0-1ubuntu1~22.04) 11.4.0 Ubuntu 20.04 Kernel: 5.15 Compiler: gcc gcc (Ubuntu 9.4.0-1ubuntu1~20.04.2) 9.4.0 Ubuntu 24.04 Kernel: 5.15 Compiler: gcc gcc (Ubuntu 13.3.0-6ubuntu2~24.04) 13.3.0 Windows Server 2022 Kernel: 10.0.20348.2031 Compiler: clang 15.0.7, gcc 14.1.0 (MinGW), and MSVC VS 19.39.33521 To view detailed results, visit: https://lab.dpdk.org/results/dashboard/patchsets/33898/ UNH-IOL DPDK Community Lab To manage your email subscriptions, visit: https://lab.dpdk.org/results/dashboard/preferences/subscriptions/