From mboxrd@z Thu Jan 1 00:00:00 1970 Return-Path: Received: from mails.dpdk.org (mails.dpdk.org [217.70.189.124]) by inbox.dpdk.org (Postfix) with ESMTP id 5516A46D68 for ; Tue, 19 Aug 2025 18:27:46 +0200 (CEST) Received: from mails.dpdk.org (localhost [127.0.0.1]) by mails.dpdk.org (Postfix) with ESMTP id 2C8A2402E4; Tue, 19 Aug 2025 18:27:46 +0200 (CEST) Received: from mail-oa1-f100.google.com (mail-oa1-f100.google.com [209.85.160.100]) by mails.dpdk.org (Postfix) with ESMTP id 5DED3402E4 for ; Tue, 19 Aug 2025 18:27:45 +0200 (CEST) Received: by mail-oa1-f100.google.com with SMTP id 586e51a60fabf-30cceb07f45so3602623fac.2 for ; Tue, 19 Aug 2025 09:27:45 -0700 (PDT) DKIM-Signature: v=1; a=rsa-sha256; c=relaxed/relaxed; d=iol.unh.edu; s=unh-iol; t=1755620864; x=1756225664; darn=dpdk.org; h=references:in-reply-to:cc:to:from:subject:message-id:date:from:to :cc:subject:date:message-id:reply-to; bh=iOZwIcbRuaAfPpSAtbsn4LQ1lG/LzD3szygy7KBZU4o=; b=e8P6mgTrqtdLgtnSeSpRC6OTuou/ZN2KEU3CZ9DywXxre4tNCKKc5QIF++fUQiiLY/ F5a4H+cWJF3qt0rL/yyIkWx/tXVSdaMmemkZ0tmuBPeay1DK0939q0pBkaK7k/R/SGeF poVLTlBhR4fgYYOvMiD+nVWR9PkJ5qfHrAFOI= X-Google-DKIM-Signature: v=1; a=rsa-sha256; c=relaxed/relaxed; d=1e100.net; s=20230601; t=1755620864; x=1756225664; h=references:in-reply-to:cc:to:from:subject:message-id:date :x-gm-message-state:from:to:cc:subject:date:message-id:reply-to; bh=iOZwIcbRuaAfPpSAtbsn4LQ1lG/LzD3szygy7KBZU4o=; b=fT6TrVfHJfGjovbV/OmKs5j1YaIrEZq7KP2i/hEV7xmCx9hI3LtGnTjYUFLo4hsC7J FdoPnVZWQlQCxfQXTBT9ot18OchzBePj4EJd0/9ppAMcJnYZWzDHs4zis7bdpoEU4Pn5 K2P7oMC6+K3awI8aUhdNWiG2Cds2U1jVzh1LGBQp916bUT5EsdBBkj3LNIsT0D3K8xlD VaUWkdMSelZI/fcOKHQ7JYMsksB19LQDITYUg8M9EEuq3+UQOyUdwPdAlJ/psiwMF7q1 xPalybiWj2ouasRwbkRgrkexLx1v6kvzLwt7YAAyi8ZLdLogkiEKG/r2sTlEoXYZFCft 2saw== X-Gm-Message-State: AOJu0Yy5unwUR10VWvBq0oofTaBxZB71RTNbUZfOcWT4LdZZk1S7rzLi NHsqoPdVQfnMyTClroVJpSaWrpbBNzolXduPbFx/avfpyZVVssLPkyPoe1NQXE/11AaKNQHt3xk bS6PNyVMl7mVEBeTJWLZtXkjDujXebJWirlu6lH8sVf7R X-Gm-Gg: ASbGnctr2ytkDVbhc014vxAAXfJJE6VpOGr+m7rxd+UfXplMx0H7iyzW7up1H74Pj27 +Vydf/pkyzOoRgjigStr4QHXxCyLJvp7/2dvWKltRuPzdn4nTjb/8bUwIBEsloD69H6HcjhdbN3 xTFgxobZzYn16yHJwPBsfyeSTUS0TPxaiW9uL6MhkMK+qj3b5w1R1NgJ2C7JlViuwGNcD18f7uz NXcVBakmkHUgxwlkOPLfOQCR0SHKxBkW6Fgwx+kmTjx6kBiuezHsoZynYG0bWAGEdYvGDKYhHaT qsYlcOgVSfAt/KkqyrrxDjMyY43fJtYnnMRCHuzJdJ3IKrZ4m1sdH8Cm6REg92o3hI9thrWL X-Google-Smtp-Source: AGHT+IEP7IPElVBx+et/tkGv5oEk2BIDio3caKvMOnUvpYd1GPDvx/q4MfUohObWnHODcrrtScRfcl1V02ly X-Received: by 2002:a05:6870:568c:b0:307:ba57:d562 with SMTP id 586e51a60fabf-3110c3f9695mr2502133fac.31.1755620864347; Tue, 19 Aug 2025 09:27:44 -0700 (PDT) Received: from postal.iol.unh.edu (postal.iol.unh.edu. [132.177.123.84]) by smtp-relay.gmail.com with ESMTPS id 586e51a60fabf-310ab531deasm1206628fac.0.2025.08.19.09.27.44 (version=TLS1_2 cipher=ECDHE-ECDSA-AES128-GCM-SHA256 bits=128/128); Tue, 19 Aug 2025 09:27:44 -0700 (PDT) X-Relaying-Domain: iol.unh.edu Date: Tue, 19 Aug 2025 09:27:44 -0700 (PDT) Message-ID: <68a4a600.050a0220.1f0730.baf5SMTPIN_ADDED_MISSING@mx.google.com> Received: from [172.21.0.3] (unknown [172.18.0.240]) by postal.iol.unh.edu (Postfix) with ESMTP id D4EBB604D420; Tue, 19 Aug 2025 12:27:43 -0400 (EDT) Subject: |SUCCESS| pw155979 [PATCH] [v2] bus/vmbus: add device argument to co From: dpdklab@iol.unh.edu To: Test Report Cc: dpdk-test-reports@iol.unh.edu In-Reply-To: <1755563066-2592-1-git-send-email-longli@linuxonhyperv.com> References: <1755563066-2592-1-git-send-email-longli@linuxonhyperv.com> Content-Type: text/plain X-BeenThere: test-report@dpdk.org X-Mailman-Version: 2.1.29 Precedence: list List-Id: automatic DPDK test reports List-Unsubscribe: , List-Archive: List-Post: List-Help: List-Subscribe: , Errors-To: test-report-bounces@dpdk.org Test-Label: iol-compile-amd64-testing Test-Status: SUCCESS http://dpdk.org/patch/155979 _Testing PASS_ Submitter: Long Li Date: Tuesday, August 19 2025 00:24:26 DPDK git baseline: Repo:dpdk Branch: master CommitID:38543d33bd47fc0ee21f59db80a8763620741879 155979 --> testing pass Upstream job id: Windows-Compile-DPDK-VS#6653 Test environment and result as below: +-------------------------------+--------------------+-------------------+------------------+-------------------+ | Environment | dpdk_meson_compile | dpdk_compile_spdk | dpdk_compile_ovs | dpdk_msvc_compile | +===============================+====================+===================+==================+===================+ | CentOS Stream 10 | PASS | SKIPPED | SKIPPED | SKIPPED | +-------------------------------+--------------------+-------------------+------------------+-------------------+ | CentOS Stream 9 | PASS | PASS | SKIPPED | SKIPPED | +-------------------------------+--------------------+-------------------+------------------+-------------------+ | Fedora Linux 42 | PASS | PASS | PASS | SKIPPED | +-------------------------------+--------------------+-------------------+------------------+-------------------+ | Alpine Linux 3.22.0 | PASS | SKIPPED | SKIPPED | SKIPPED | +-------------------------------+--------------------+-------------------+------------------+-------------------+ | Ubuntu 20.04 | PASS | SKIPPED | SKIPPED | SKIPPED | +-------------------------------+--------------------+-------------------+------------------+-------------------+ | Red Hat Enterprise Linux 9.5 | PASS | SKIPPED | SKIPPED | SKIPPED | +-------------------------------+--------------------+-------------------+------------------+-------------------+ | Ubuntu 22.04 | PASS | PASS | SKIPPED | SKIPPED | +-------------------------------+--------------------+-------------------+------------------+-------------------+ | openSUSE Leap 15.6 | PASS | SKIPPED | SKIPPED | SKIPPED | +-------------------------------+--------------------+-------------------+------------------+-------------------+ | FreeBSD 14.2 | PASS | SKIPPED | SKIPPED | SKIPPED | +-------------------------------+--------------------+-------------------+------------------+-------------------+ | Ubuntu 24.04 | PASS | PASS | PASS | SKIPPED | +-------------------------------+--------------------+-------------------+------------------+-------------------+ | Debian GNU/Linux 12 | PASS | PASS | SKIPPED | SKIPPED | +-------------------------------+--------------------+-------------------+------------------+-------------------+ | Red Hat Enterprise Linux 8.10 | PASS | SKIPPED | SKIPPED | SKIPPED | +-------------------------------+--------------------+-------------------+------------------+-------------------+ | Windows Server 2022 | SKIPPED | SKIPPED | SKIPPED | PASS | +-------------------------------+--------------------+-------------------+------------------+-------------------+ CentOS Stream 10 Kernel: 5.15 Compiler: gcc gcc (GCC) 14.2.1 20250110 (Red Hat 14.2.1-8) CentOS Stream 9 Kernel: 5.15 Compiler: gcc gcc (GCC) 11.5.0 20240719 (Red Hat 11.5.0-7) Fedora Linux 42 Kernel: 5.15 Compiler: gcc gcc (GCC) 15.1.1 20250521 (Red Hat 15.1.1-2) Alpine Linux 3.22.0 Kernel: 5.15 Compiler: gcc gcc (Alpine 14.2.0) 14.2.0 Ubuntu 20.04 Kernel: 5.15 Compiler: gcc gcc (Ubuntu 9.4.0-1ubuntu1~20.04.2) 9.4.0 Red Hat Enterprise Linux 9.5 Kernel: 5.15 Compiler: gcc gcc (GCC) 11.5.0 20240719 (Red Hat 11.5.0-2) Ubuntu 22.04 Kernel: 5.15 Compiler: gcc gcc (Ubuntu 11.4.0-1ubuntu1~22.04) 11.4.0 openSUSE Leap 15.6 Kernel: 5.15 Compiler: gcc gcc (SUSE Linux) 7.5.0 FreeBSD 14.2 Kernel: 14.2-RELEASE Compiler: clang 18.1.6 Ubuntu 24.04 Kernel: 5.15 Compiler: gcc gcc (Ubuntu 13.3.0-6ubuntu2~24.04) 13.3.0 Debian GNU/Linux 12 Kernel: 5.15 Compiler: gcc gcc (Debian 12.2.0-14+deb12u1) 12.2.0 Red Hat Enterprise Linux 8.10 Kernel: 5.15 Compiler: gcc gcc (GCC) 8.5.0 20210514 (Red Hat 8.5.0-22) Windows Server 2022 Kernel: 10.0.20348.2031 Compiler: clang 15.0.7, gcc 14.1.0 (MinGW), and MSVC VS 19.39.33521 To view detailed results, visit: https://lab.dpdk.org/results/dashboard/patchsets/33899/ UNH-IOL DPDK Community Lab To manage your email subscriptions, visit: https://lab.dpdk.org/results/dashboard/preferences/subscriptions/