From mboxrd@z Thu Jan 1 00:00:00 1970 Return-Path: Received: from mails.dpdk.org (mails.dpdk.org [217.70.189.124]) by inbox.dpdk.org (Postfix) with ESMTP id 52A3A46D68 for ; Tue, 19 Aug 2025 18:36:49 +0200 (CEST) Received: from mails.dpdk.org (localhost [127.0.0.1]) by mails.dpdk.org (Postfix) with ESMTP id 2865F402E4; Tue, 19 Aug 2025 18:36:49 +0200 (CEST) Received: from mail-pf1-f228.google.com (mail-pf1-f228.google.com [209.85.210.228]) by mails.dpdk.org (Postfix) with ESMTP id DA23E402E4 for ; Tue, 19 Aug 2025 18:36:47 +0200 (CEST) Received: by mail-pf1-f228.google.com with SMTP id d2e1a72fcca58-76e2eb49b83so3575669b3a.3 for ; Tue, 19 Aug 2025 09:36:47 -0700 (PDT) DKIM-Signature: v=1; a=rsa-sha256; c=relaxed/relaxed; d=iol.unh.edu; s=unh-iol; t=1755621407; x=1756226207; darn=dpdk.org; h=references:in-reply-to:cc:to:from:subject:message-id:date:from:to :cc:subject:date:message-id:reply-to; bh=zgu2ENVFYnyPlxFKaCooAW9pL2FfsEEcDpOEE9VH1Jo=; b=hxzRI2bq/QQLx+iUKpNcZxkwNv1NWscxwqUiy245Wj98+mITNnkosbnIDSYdcclBY9 jVThXA4np70EMZASCCH5b8i7GjbSfC9PY2q9XGVoeFoyftcTfTq0OsnXhdGFYfu/rEuS /155TNaFX+OpRZzGPiWWQ77FDSlhWYzOL/iMo= X-Google-DKIM-Signature: v=1; a=rsa-sha256; c=relaxed/relaxed; d=1e100.net; s=20230601; t=1755621407; x=1756226207; h=references:in-reply-to:cc:to:from:subject:message-id:date :x-gm-message-state:from:to:cc:subject:date:message-id:reply-to; bh=zgu2ENVFYnyPlxFKaCooAW9pL2FfsEEcDpOEE9VH1Jo=; b=nzmDUJFTpoV4DkjPIBkzJ1rTORoMu1iLXdvbM207PaPWXkyZVbwlBzh2uAa8K4GVCp I9JVOQx5GtSSN9creHGNt+XLiNkLKi1LoQ1A+gqmvBTK/0r/rp0jJ1D8FZEJezx9SF4/ dsW/3PsyeKcogclMDQoOe3n/jPu29MkkVuoz03I18Rjnrq496fe4RKSjHwc7bIaB7Vk/ wqv/C8Kx3j/TmJm6lzLhVtSVMWlQfgY3qDMui5E11sQynVjzS3yj5J4nsA1c+O3skzzv BYZ/WbH8VvuGPafmFbsVWCYzKBh0rMfp2BuGV2JHRXhIXITA/bM2UFuS5+s1dIqFJSsU Fhvg== X-Gm-Message-State: AOJu0YzfPuNPztgDYO2A6+UEBvJRPKicRAsqYxtqIJ7VH4AvHDezX0RY 9h5BmqfplX/Umar6KEUGT25v+oke8uA2Gx6aYkzwnDkaiFEOz6mjH1c6Rd+Vu9q5aHv5Z6/Bc1b zSe/eQOI3HrTatUuVoN928Dt57Q/0+YZmY+6KVHFAQgZgQwFkDJ7RrnWj+5k3 X-Gm-Gg: ASbGncv/EO4Q1djFe2fnF83jLu+gBEEhN3eFGWiik3PR3o436Grt+zolMDxB+1pMVrN HNnefxAzOeMYge6igALt3gKwWIxq2Gfvhff18FNDPFCgP3JzS7BnlDKI3fSLRRoRAOlz7b1UIDW 6q0HLo/Y3a2yeNZ/jC6Z94MH3sCOuppVFW7jsDN7Aj8cFVH3kMo4tGDTCjzFp/1ss3fh+QMdVgn 8nmMjT2vX3CeIzQ9kocBK4KDhrM8y4eisu9fNaFISbqNLwSYTYk6S6ZsosTv6xWzwVZawBswaPg ZJwQ7ENOE+ZzvcEJdPcD/NAgC3/6kZSosPtLy53jmQES1C0u7g== X-Google-Smtp-Source: AGHT+IEDZld+KVCH6enmDSZttl0U6q/PaqwG3N9gmyNVRDTyMrzyCgVvdHJDSIhRLQsMkdUXTO1jUbEBmnv6 X-Received: by 2002:a17:902:db07:b0:240:49e8:1d3c with SMTP id d9443c01a7336-245e049d5d2mr37233665ad.35.1755621406967; Tue, 19 Aug 2025 09:36:46 -0700 (PDT) Received: from postal.iol.unh.edu (postal.iol.unh.edu. [2606:4100:3880:1234::84]) by smtp-relay.gmail.com with ESMTPS id d9443c01a7336-245ed4ae05bsm151945ad.76.2025.08.19.09.36.46 (version=TLS1_2 cipher=ECDHE-ECDSA-AES128-GCM-SHA256 bits=128/128); Tue, 19 Aug 2025 09:36:46 -0700 (PDT) X-Relaying-Domain: iol.unh.edu Date: Tue, 19 Aug 2025 09:36:46 -0700 (PDT) Message-ID: <68a4a81e.170a0220.31e678.0c35SMTPIN_ADDED_MISSING@mx.google.com> Received: from [172.21.0.3] (unknown [172.18.0.240]) by postal.iol.unh.edu (Postfix) with ESMTP id 35118604D420; Tue, 19 Aug 2025 12:36:46 -0400 (EDT) Subject: |SUCCESS| pw155979 [PATCH] [v2] bus/vmbus: add device argument to co From: dpdklab@iol.unh.edu To: Test Report Cc: dpdk-test-reports@iol.unh.edu In-Reply-To: <1755563066-2592-1-git-send-email-longli@linuxonhyperv.com> References: <1755563066-2592-1-git-send-email-longli@linuxonhyperv.com> Content-Type: text/plain X-BeenThere: test-report@dpdk.org X-Mailman-Version: 2.1.29 Precedence: list List-Id: automatic DPDK test reports List-Unsubscribe: , List-Archive: List-Post: List-Help: List-Subscribe: , Errors-To: test-report-bounces@dpdk.org Test-Label: iol-unit-amd64-testing Test-Status: SUCCESS http://dpdk.org/patch/155979 _Testing PASS_ Submitter: Long Li Date: Tuesday, August 19 2025 00:24:26 DPDK git baseline: Repo:dpdk Branch: master CommitID:38543d33bd47fc0ee21f59db80a8763620741879 155979 --> testing pass Upstream job id: Generic-VM-Unit-Test-DPDK#30595 Test environment and result as below: +-------------------------------+----------------+ | Environment | dpdk_unit_test | +===============================+================+ | Debian GNU/Linux 12 | PASS | +-------------------------------+----------------+ | CentOS Stream 9 | PASS | +-------------------------------+----------------+ | CentOS Stream 10 | PASS | +-------------------------------+----------------+ | Fedora Linux 40 | PASS | +-------------------------------+----------------+ | Fedora Linux 41 | PASS | +-------------------------------+----------------+ | Red Hat Enterprise Linux 8.10 | PASS | +-------------------------------+----------------+ | Fedora Linux 42 | PASS | +-------------------------------+----------------+ | Ubuntu 20.04 | PASS | +-------------------------------+----------------+ | Ubuntu 22.04 | PASS | +-------------------------------+----------------+ | Red Hat Enterprise Linux 9.5 | PASS | +-------------------------------+----------------+ | Ubuntu 24.04 | PASS | +-------------------------------+----------------+ | Windows Server 2022 | PASS | +-------------------------------+----------------+ Debian GNU/Linux 12 Kernel: 5.15 Compiler: gcc gcc (Debian 12.2.0-14+deb12u1) 12.2.0 CentOS Stream 9 Kernel: 5.15 Compiler: gcc gcc (GCC) 11.5.0 20240719 (Red Hat 11.5.0-7) CentOS Stream 10 Kernel: 5.15 Compiler: gcc gcc (GCC) 14.2.1 20250110 (Red Hat 14.2.1-8) Fedora Linux 40 Kernel: 5.15 Compiler: gcc gcc (GCC) 14.2.1 20240912 (Red Hat 14.2.1-3) Fedora Linux 41 Kernel: 5.15 Compiler: clang gcc (GCC) 14.3.1 20250523 (Red Hat 14.3.1-1) Red Hat Enterprise Linux 8.10 Kernel: 5.15 Compiler: gcc gcc (GCC) 8.5.0 20210514 (Red Hat 8.5.0-22) Fedora Linux 42 Kernel: 5.15 Compiler: clang gcc (GCC) 15.1.1 20250521 (Red Hat 15.1.1-2) Ubuntu 20.04 Kernel: 5.15 Compiler: gcc gcc (Ubuntu 9.4.0-1ubuntu1~20.04.2) 9.4.0 Ubuntu 22.04 Kernel: 5.15 Compiler: gcc gcc (Ubuntu 11.4.0-1ubuntu1~22.04) 11.4.0 Red Hat Enterprise Linux 9.5 Kernel: 5.15 Compiler: gcc gcc (GCC) 11.5.0 20240719 (Red Hat 11.5.0-2) Ubuntu 24.04 Kernel: 5.15 Compiler: gcc gcc (Ubuntu 13.3.0-6ubuntu2~24.04) 13.3.0 Windows Server 2022 Kernel: 10.0.20348.2031 Compiler: clang 15.0.7, gcc 14.1.0 (MinGW), and MSVC VS 19.39.33521 To view detailed results, visit: https://lab.dpdk.org/results/dashboard/patchsets/33899/ UNH-IOL DPDK Community Lab To manage your email subscriptions, visit: https://lab.dpdk.org/results/dashboard/preferences/subscriptions/