From mboxrd@z Thu Jan 1 00:00:00 1970 Return-Path: Received: from mails.dpdk.org (mails.dpdk.org [217.70.189.124]) by inbox.dpdk.org (Postfix) with ESMTP id 8DD5F46D68 for ; Tue, 19 Aug 2025 18:39:16 +0200 (CEST) Received: from mails.dpdk.org (localhost [127.0.0.1]) by mails.dpdk.org (Postfix) with ESMTP id 709BC402E4; Tue, 19 Aug 2025 18:39:16 +0200 (CEST) Received: from mail-yb1-f226.google.com (mail-yb1-f226.google.com [209.85.219.226]) by mails.dpdk.org (Postfix) with ESMTP id 5CAD9402E4 for ; Tue, 19 Aug 2025 18:39:15 +0200 (CEST) Received: by mail-yb1-f226.google.com with SMTP id 3f1490d57ef6-e94e40fd4f1so1202581276.2 for ; Tue, 19 Aug 2025 09:39:15 -0700 (PDT) DKIM-Signature: v=1; a=rsa-sha256; c=relaxed/relaxed; d=iol.unh.edu; s=unh-iol; t=1755621554; x=1756226354; darn=dpdk.org; h=references:in-reply-to:cc:to:from:subject:message-id:date:from:to :cc:subject:date:message-id:reply-to; bh=mYffns7c7tShYmyDNZUSyI5m68rw2g1YKQ5c/XkPFFE=; b=ggI/NSHTeGpuMwh+OSYwfQ2LwNeEX0LQ8A/7krZMfM/sp02WsE1iGMEYVsvmpZxEgE dKCsNgs0/2TQkTpQIEddQQKuX8OT53xDOQ03WHMTYL50kb48umqolNaJIn54ZGooIu52 C8uo+vxwzpZpL5cg6/BEMnpztTrRs6mDVGQFg= X-Google-DKIM-Signature: v=1; a=rsa-sha256; c=relaxed/relaxed; d=1e100.net; s=20230601; t=1755621554; x=1756226354; h=references:in-reply-to:cc:to:from:subject:message-id:date :x-gm-message-state:from:to:cc:subject:date:message-id:reply-to; bh=mYffns7c7tShYmyDNZUSyI5m68rw2g1YKQ5c/XkPFFE=; b=CYlJXx/6+rwvl3ggSnz/ySPED83Mqgd/SrQYtA/0qxkT1kRdc0uFXWCaZVRGAlgkY+ tR8LTExdhqp5s7WRV5666vnQ7KezwtHATzwu8JM000f5iro6V603L9Ixpvt7P1hEG0Bm C6mtCVYudKHq3GsiJLxpFhkJVntdBsSt4i6Dx4Tn2GXnsjWyjW4MGaJbHNZMV0x8mCNR l9OdFff3os1d1o9weTlehEg+JqPFpU+rROJndA+WXkLP4GnsTiMwV/dUcf9zF8SwGmLV vQeNoNrUbp0Ti3JtyuvTGHBOhdt684G6q0zfapuFYRyHjg3i1t6lWxP1xn8zJflkpufY rNGw== X-Gm-Message-State: AOJu0YxijWIMX0gX/EMtC4YCKzezNc26FTr5gW4oQBdkwNat60xJbr1j WUL6Mk+Nly7xlfE5YSF/CJb7wO8VKHsxZ3CqNwqfgdnrxtWVZx6bkIY9nZqFFWgGxO8WtJ3fZ3g AWS/y9pDnrFU9Dsjz8p7Mfz7A22U5F/2epCul8QhSiA0B4VRqLIiCuysYKYsa X-Gm-Gg: ASbGnctl4YvJvTZLVMopz8YxWRmYGoR3nAR/2WU7JmXqdXgYk9fS9b1t1kvkwAWoeIf h3Gvrwdxnxk+XVNcJEmxIaWrf9cWEtDuhWxboLiAhQNiAdNDpogO2h85ROsVFJiEJQJRGFCtOGg r3W12+TbCwH9SZc380Gs0NPtIPpGKpesp/a3AxnH6POSR7I5bbS4HWZb8zYPqdHfNXmMo6KJyAE /pn349FA+5Cw0FmyVkxRlBuq0bLFA1EiGd3ePuINyPoRtYajbSbSRFrxY19NAe8ABnbhGhm1c2i Vb8oYMAx7B9U21dwDgwE/gW6DxchEEhkJPljMbE/0F0IKwLPnA== X-Google-Smtp-Source: AGHT+IHWyWdxYPiMvHkWw72siAKCluwwe0z5tV4Ef3FZdD3y+5EkALYske2k2sM0vUivOYxKZJaKDvoo3/II X-Received: by 2002:a05:6902:70f:b0:e93:3f3b:d9c7 with SMTP id 3f1490d57ef6-e94e61bc069mr3747469276.14.1755621554632; Tue, 19 Aug 2025 09:39:14 -0700 (PDT) Received: from postal.iol.unh.edu (postal.iol.unh.edu. [2606:4100:3880:1234::84]) by smtp-relay.gmail.com with ESMTPS id 3f1490d57ef6-e9332874fe9sm862417276.21.2025.08.19.09.39.14 (version=TLS1_2 cipher=ECDHE-ECDSA-AES128-GCM-SHA256 bits=128/128); Tue, 19 Aug 2025 09:39:14 -0700 (PDT) X-Relaying-Domain: iol.unh.edu Date: Tue, 19 Aug 2025 09:39:14 -0700 (PDT) Message-ID: <68a4a8b2.250a0220.3484b2.ac40SMTPIN_ADDED_MISSING@mx.google.com> Received: from [172.21.0.3] (unknown [172.18.0.240]) by postal.iol.unh.edu (Postfix) with ESMTP id 4A996604D420; Tue, 19 Aug 2025 12:39:14 -0400 (EDT) Subject: |SUCCESS| pw155979 [PATCH] [v2] bus/vmbus: add device argument to co From: dpdklab@iol.unh.edu To: Test Report Cc: dpdk-test-reports@iol.unh.edu In-Reply-To: <1755563066-2592-1-git-send-email-longli@linuxonhyperv.com> References: <1755563066-2592-1-git-send-email-longli@linuxonhyperv.com> Content-Type: text/plain X-BeenThere: test-report@dpdk.org X-Mailman-Version: 2.1.29 Precedence: list List-Id: automatic DPDK test reports List-Unsubscribe: , List-Archive: List-Post: List-Help: List-Subscribe: , Errors-To: test-report-bounces@dpdk.org Test-Label: iol-compile-amd64-testing Test-Status: SUCCESS http://dpdk.org/patch/155979 _Testing PASS_ Submitter: Long Li Date: Tuesday, August 19 2025 00:24:26 DPDK git baseline: Repo:dpdk Branch: master CommitID:38543d33bd47fc0ee21f59db80a8763620741879 155979 --> testing pass Upstream job id: Windows-Compile-DPDK-Native#30430 Test environment and result as below: +-------------------------------+--------------------+-------------------+------------------+-------------------+-------------------------+ | Environment | dpdk_meson_compile | dpdk_compile_spdk | dpdk_compile_ovs | dpdk_msvc_compile | dpdk_llvm_clang_compile | +===============================+====================+===================+==================+===================+=========================+ | CentOS Stream 10 | PASS | SKIPPED | SKIPPED | SKIPPED | SKIPPED | +-------------------------------+--------------------+-------------------+------------------+-------------------+-------------------------+ | CentOS Stream 9 | PASS | PASS | SKIPPED | SKIPPED | SKIPPED | +-------------------------------+--------------------+-------------------+------------------+-------------------+-------------------------+ | Fedora Linux 42 | PASS | PASS | PASS | SKIPPED | SKIPPED | +-------------------------------+--------------------+-------------------+------------------+-------------------+-------------------------+ | Alpine Linux 3.22.0 | PASS | SKIPPED | SKIPPED | SKIPPED | SKIPPED | +-------------------------------+--------------------+-------------------+------------------+-------------------+-------------------------+ | Ubuntu 20.04 | PASS | SKIPPED | SKIPPED | SKIPPED | SKIPPED | +-------------------------------+--------------------+-------------------+------------------+-------------------+-------------------------+ | Red Hat Enterprise Linux 9.5 | PASS | SKIPPED | SKIPPED | SKIPPED | SKIPPED | +-------------------------------+--------------------+-------------------+------------------+-------------------+-------------------------+ | Ubuntu 22.04 | PASS | PASS | SKIPPED | SKIPPED | SKIPPED | +-------------------------------+--------------------+-------------------+------------------+-------------------+-------------------------+ | openSUSE Leap 15.6 | PASS | SKIPPED | SKIPPED | SKIPPED | SKIPPED | +-------------------------------+--------------------+-------------------+------------------+-------------------+-------------------------+ | FreeBSD 14.2 | PASS | SKIPPED | SKIPPED | SKIPPED | SKIPPED | +-------------------------------+--------------------+-------------------+------------------+-------------------+-------------------------+ | Ubuntu 24.04 | PASS | PASS | PASS | SKIPPED | SKIPPED | +-------------------------------+--------------------+-------------------+------------------+-------------------+-------------------------+ | Debian GNU/Linux 12 | PASS | PASS | SKIPPED | SKIPPED | SKIPPED | +-------------------------------+--------------------+-------------------+------------------+-------------------+-------------------------+ | Red Hat Enterprise Linux 8.10 | PASS | SKIPPED | SKIPPED | SKIPPED | SKIPPED | +-------------------------------+--------------------+-------------------+------------------+-------------------+-------------------------+ | Windows Server 2022 | SKIPPED | SKIPPED | SKIPPED | PASS | PASS | +-------------------------------+--------------------+-------------------+------------------+-------------------+-------------------------+ CentOS Stream 10 Kernel: 5.15 Compiler: gcc gcc (GCC) 14.2.1 20250110 (Red Hat 14.2.1-8) CentOS Stream 9 Kernel: 5.15 Compiler: gcc gcc (GCC) 11.5.0 20240719 (Red Hat 11.5.0-7) Fedora Linux 42 Kernel: 5.15 Compiler: gcc gcc (GCC) 15.1.1 20250521 (Red Hat 15.1.1-2) Alpine Linux 3.22.0 Kernel: 5.15 Compiler: gcc gcc (Alpine 14.2.0) 14.2.0 Ubuntu 20.04 Kernel: 5.15 Compiler: gcc gcc (Ubuntu 9.4.0-1ubuntu1~20.04.2) 9.4.0 Red Hat Enterprise Linux 9.5 Kernel: 5.15 Compiler: gcc gcc (GCC) 11.5.0 20240719 (Red Hat 11.5.0-2) Ubuntu 22.04 Kernel: 5.15 Compiler: gcc gcc (Ubuntu 11.4.0-1ubuntu1~22.04) 11.4.0 openSUSE Leap 15.6 Kernel: 5.15 Compiler: gcc gcc (SUSE Linux) 7.5.0 FreeBSD 14.2 Kernel: 14.2-RELEASE Compiler: clang 18.1.6 Ubuntu 24.04 Kernel: 5.15 Compiler: gcc gcc (Ubuntu 13.3.0-6ubuntu2~24.04) 13.3.0 Debian GNU/Linux 12 Kernel: 5.15 Compiler: gcc gcc (Debian 12.2.0-14+deb12u1) 12.2.0 Red Hat Enterprise Linux 8.10 Kernel: 5.15 Compiler: gcc gcc (GCC) 8.5.0 20210514 (Red Hat 8.5.0-22) Windows Server 2022 Kernel: 10.0.20348.2031 Compiler: clang 15.0.7, gcc 14.1.0 (MinGW), and MSVC VS 19.39.33521 To view detailed results, visit: https://lab.dpdk.org/results/dashboard/patchsets/33899/ UNH-IOL DPDK Community Lab To manage your email subscriptions, visit: https://lab.dpdk.org/results/dashboard/preferences/subscriptions/