From mboxrd@z Thu Jan 1 00:00:00 1970 Return-Path: Received: from mails.dpdk.org (mails.dpdk.org [217.70.189.124]) by inbox.dpdk.org (Postfix) with ESMTP id D635446D68 for ; Tue, 19 Aug 2025 18:42:03 +0200 (CEST) Received: from mails.dpdk.org (localhost [127.0.0.1]) by mails.dpdk.org (Postfix) with ESMTP id B154D402E4; Tue, 19 Aug 2025 18:42:03 +0200 (CEST) Received: from mail-io1-f100.google.com (mail-io1-f100.google.com [209.85.166.100]) by mails.dpdk.org (Postfix) with ESMTP id D48D7402E4 for ; Tue, 19 Aug 2025 18:42:01 +0200 (CEST) Received: by mail-io1-f100.google.com with SMTP id ca18e2360f4ac-88432cc7e74so40826439f.0 for ; Tue, 19 Aug 2025 09:42:01 -0700 (PDT) DKIM-Signature: v=1; a=rsa-sha256; c=relaxed/relaxed; d=iol.unh.edu; s=unh-iol; t=1755621721; x=1756226521; darn=dpdk.org; h=references:in-reply-to:cc:to:from:subject:message-id:date:from:to :cc:subject:date:message-id:reply-to; bh=8f5UkG42pMAfLSYLD2pKrVHjeGJOPIDbSyIzSgi9LNY=; b=QRgCFEyZJNMynK22ncOaFiq+vYKTQ78jAP+4RAV5ZBtGjR5BsdliXEUVgF3iQpHIvl Rc/6KIw2DgbFn3YqvNa9A10wEVpKlbbCycAZ7VSoHcbh+8OcahNdqfMdfSwdZeu8Nkju Y7FIQAiscOGq6KYx5YU2CwKyEEbWdaJ3zD8NA= X-Google-DKIM-Signature: v=1; a=rsa-sha256; c=relaxed/relaxed; d=1e100.net; s=20230601; t=1755621721; x=1756226521; h=references:in-reply-to:cc:to:from:subject:message-id:date :x-gm-message-state:from:to:cc:subject:date:message-id:reply-to; bh=8f5UkG42pMAfLSYLD2pKrVHjeGJOPIDbSyIzSgi9LNY=; b=bhylDMLSwxFVlCHBIS2BerlQJAeMOl8j5HQ0DLBZE+pR/rCG26xAXKWngISLVgHPQX xWPsFCPlIRofA0Ht6Qej/33VyxxPBg3JXVl4ClH1EIRBwf3vilheS+dyCEdtp7yUQzgO xCIppfYHNuBeM7/gRmyZs6SSqLRPn42Ue+PPTehY/Vl2ubd/jApP9Bri1VE2CM/mvxVj Gr3xuxcZmAWN6cKY9vEPUeu5zyeZC1+vs8lc1LyarP7zJVlidllCKoRgVDWe9XuV3xQg btOiuaa/O5OZsD5S/ftug43+arRfEfsfG+7mdS0TFt85jPneBpwsTTfptlECd984JwHw lwaA== X-Gm-Message-State: AOJu0YyMPcDfRVlj9ipDO9QcwFxkL58e7xHPmqRF5oVCBNMQCZnmZfiC E/tUN7fLdkwNjgxrjx42jMDhQWCpyujFDfePeQDvRGi+fukeBnDHDYXvI7gq4dmPIO0li0VTpdu YJvnbkjgoGtJaC8WshK7j1GPWkNRb1EVFt5+TBmIxK+Wn X-Gm-Gg: ASbGnctImHn4HYatJ6TowDxPtFkjwmCWTE1ram13tgEpZsaI5qDwZ3SrLsrmKqlLp+8 Z9gs0slOsTmWbDCQoRfiqvQe+oEGQLXjv3AjG3e6+ql1krzjBAz2ZVhz3VYrUJPKctYjMvdNRgA WpONPzsgoShBMav3qqLbId76xpRE8XlnwTY8NG6rJNiZRFHuaTw3qJSowW1ahmFQ2X77J/V9l6a IaZglr4kNY73Y9FhPo1bSnDam0lh73vbIn1dJMwCmXWtuGXXr6vmX9yJaDc828yMfsH2AD7/q0/ +QNaEpxuW5ZNxcj3ODbtIuuU0L4q4bjqAKfviKV0Vq5mEo+VA9+0QIKzptCi7WQpO10lS54r X-Google-Smtp-Source: AGHT+IFIHMARqbEhKfjqP2xNUw79Ay3Jire9uaJpZkDvWw4i9Qlx+QUayCg9+uvX1TW7EirCyA4xHP7MkGtx X-Received: by 2002:a05:6e02:17c6:b0:3e5:6bc6:4dcf with SMTP id e9e14a558f8ab-3e6765c8309mr47830425ab.7.1755621721086; Tue, 19 Aug 2025 09:42:01 -0700 (PDT) Received: from postal.iol.unh.edu (postal.iol.unh.edu. [132.177.123.84]) by smtp-relay.gmail.com with ESMTPS id 8926c6da1cb9f-50c948edeffsm661685173.12.2025.08.19.09.42.01 (version=TLS1_2 cipher=ECDHE-ECDSA-AES128-GCM-SHA256 bits=128/128); Tue, 19 Aug 2025 09:42:01 -0700 (PDT) X-Relaying-Domain: iol.unh.edu Date: Tue, 19 Aug 2025 09:42:01 -0700 (PDT) Message-ID: <68a4a959.050a0220.5e045.10b6SMTPIN_ADDED_MISSING@mx.google.com> Received: from [172.21.0.3] (unknown [172.18.0.240]) by postal.iol.unh.edu (Postfix) with ESMTP id 9AF8D604D420; Tue, 19 Aug 2025 12:42:00 -0400 (EDT) Subject: |SUCCESS| pw155979 [PATCH] [v2] bus/vmbus: add device argument to co From: dpdklab@iol.unh.edu To: Test Report Cc: dpdk-test-reports@iol.unh.edu In-Reply-To: <1755563066-2592-1-git-send-email-longli@linuxonhyperv.com> References: <1755563066-2592-1-git-send-email-longli@linuxonhyperv.com> Content-Type: text/plain X-BeenThere: test-report@dpdk.org X-Mailman-Version: 2.1.29 Precedence: list List-Id: automatic DPDK test reports List-Unsubscribe: , List-Archive: List-Post: List-Help: List-Subscribe: , Errors-To: test-report-bounces@dpdk.org Test-Label: iol-unit-amd64-testing Test-Status: SUCCESS http://dpdk.org/patch/155979 _Testing PASS_ Submitter: Long Li Date: Tuesday, August 19 2025 00:24:26 DPDK git baseline: Repo:dpdk Branch: master CommitID:38543d33bd47fc0ee21f59db80a8763620741879 155979 --> testing pass Upstream job id: Generic-VM-Unit-Test-DPDK#30596 Test environment and result as below: +-------------------------------+----------------+ | Environment | dpdk_unit_test | +===============================+================+ | Debian GNU/Linux 12 | PASS | +-------------------------------+----------------+ | CentOS Stream 9 | PASS | +-------------------------------+----------------+ | CentOS Stream 10 | PASS | +-------------------------------+----------------+ | Fedora Linux 40 | PASS | +-------------------------------+----------------+ | Fedora Linux 41 | PASS | +-------------------------------+----------------+ | Red Hat Enterprise Linux 8.10 | PASS | +-------------------------------+----------------+ | Fedora Linux 42 | PASS | +-------------------------------+----------------+ | Ubuntu 20.04 | PASS | +-------------------------------+----------------+ | Ubuntu 22.04 | PASS | +-------------------------------+----------------+ | Red Hat Enterprise Linux 9.5 | PASS | +-------------------------------+----------------+ | Ubuntu 24.04 | PASS | +-------------------------------+----------------+ | Windows Server 2022 | PASS | +-------------------------------+----------------+ Debian GNU/Linux 12 Kernel: 5.15 Compiler: gcc gcc (Debian 12.2.0-14+deb12u1) 12.2.0 CentOS Stream 9 Kernel: 5.15 Compiler: gcc gcc (GCC) 11.5.0 20240719 (Red Hat 11.5.0-7) CentOS Stream 10 Kernel: 5.15 Compiler: gcc gcc (GCC) 14.2.1 20250110 (Red Hat 14.2.1-8) Fedora Linux 40 Kernel: 5.15 Compiler: gcc gcc (GCC) 14.2.1 20240912 (Red Hat 14.2.1-3) Fedora Linux 41 Kernel: 5.15 Compiler: clang gcc (GCC) 14.3.1 20250523 (Red Hat 14.3.1-1) Red Hat Enterprise Linux 8.10 Kernel: 5.15 Compiler: gcc gcc (GCC) 8.5.0 20210514 (Red Hat 8.5.0-22) Fedora Linux 42 Kernel: 5.15 Compiler: clang gcc (GCC) 15.1.1 20250521 (Red Hat 15.1.1-2) Ubuntu 20.04 Kernel: 5.15 Compiler: gcc gcc (Ubuntu 9.4.0-1ubuntu1~20.04.2) 9.4.0 Ubuntu 22.04 Kernel: 5.15 Compiler: gcc gcc (Ubuntu 11.4.0-1ubuntu1~22.04) 11.4.0 Red Hat Enterprise Linux 9.5 Kernel: 5.15 Compiler: gcc gcc (GCC) 11.5.0 20240719 (Red Hat 11.5.0-2) Ubuntu 24.04 Kernel: 5.15 Compiler: gcc gcc (Ubuntu 13.3.0-6ubuntu2~24.04) 13.3.0 Windows Server 2022 Kernel: 10.0.20348.2031 Compiler: clang 15.0.7, gcc 14.1.0 (MinGW), and MSVC VS 19.39.33521 To view detailed results, visit: https://lab.dpdk.org/results/dashboard/patchsets/33899/ UNH-IOL DPDK Community Lab To manage your email subscriptions, visit: https://lab.dpdk.org/results/dashboard/preferences/subscriptions/