From mboxrd@z Thu Jan 1 00:00:00 1970 Return-Path: Received: from mails.dpdk.org (mails.dpdk.org [217.70.189.124]) by inbox.dpdk.org (Postfix) with ESMTP id 74D6946D68 for ; Tue, 19 Aug 2025 18:49:26 +0200 (CEST) Received: from mails.dpdk.org (localhost [127.0.0.1]) by mails.dpdk.org (Postfix) with ESMTP id 6FB85402E4; Tue, 19 Aug 2025 18:49:26 +0200 (CEST) Received: from mail-ot1-f98.google.com (mail-ot1-f98.google.com [209.85.210.98]) by mails.dpdk.org (Postfix) with ESMTP id 1EA4E402E4 for ; Tue, 19 Aug 2025 18:49:25 +0200 (CEST) Received: by mail-ot1-f98.google.com with SMTP id 46e09a7af769-74381fa6b15so3178534a34.2 for ; Tue, 19 Aug 2025 09:49:25 -0700 (PDT) DKIM-Signature: v=1; a=rsa-sha256; c=relaxed/relaxed; d=iol.unh.edu; s=unh-iol; t=1755622164; x=1756226964; darn=dpdk.org; h=references:in-reply-to:cc:to:from:subject:message-id:date:from:to :cc:subject:date:message-id:reply-to; bh=bp5gHLCvczg7lAx5Wdu9pgYDwgVs/BvOD3ywO6j6Hfg=; b=a6RuTmZSpvyOiFvwxu0g97J7fQ95RCX4oJ/eQ65KIC1U6vUUX9A74l0+4wWWkjRI4w MJvzjZB7dj+Mar6dhxVNTUisONaShDBoHrtaI8OOwcBLDagf9tziZxRMcPTlKX5lqAmJ 8MFAS6D/k59+0QEqyrQTXK7EKI5g9ruRXqzm4= X-Google-DKIM-Signature: v=1; a=rsa-sha256; c=relaxed/relaxed; d=1e100.net; s=20230601; t=1755622164; x=1756226964; h=references:in-reply-to:cc:to:from:subject:message-id:date :x-gm-message-state:from:to:cc:subject:date:message-id:reply-to; bh=bp5gHLCvczg7lAx5Wdu9pgYDwgVs/BvOD3ywO6j6Hfg=; b=ERWzEI0NkkIDCbXF9rXg7e0aF2SYKMy1urcFEivs5RxgmBCn6YdJ4znXUSvSn1gZO3 aQFJydeqKP9EMs4NckhGuDVuY7XdX2aBOMILpgunDf/4ZcS/TFkBp6mJRZ2DTTgT3RiT Xc94+Bf85iKuiKHVS6l6pVQMSQ672e1hmlH4FgNvpl+B/VdrmUEBk1oclvw9HtKn9dOa cCA+YFQKD5KIEU8JfDJOfaKjEMALZcNoRSQTCl6FhTAxSl5GhyifKXPFaGiZp0Xf1UDE AdPQvIkueigFb76nQMYC5tv9qHACE9BtAyUhvr4LhkJhglU1p1m5UvQx4eBSh8FOMKX6 9BOA== X-Gm-Message-State: AOJu0YzyF3AcwSFUBfrGmolMThrfkhyepxzfOhLl+Ws/+YHn8rYYQBoK zzBsYtiQsRvR//l+8kT3PCsoZPkpfUlNH1tA6UQe1GZxhkaSrRBnS08z9VlDb3N3fPRa0OlFIhI hQQNetxAFw/BzQQRX8p69v5+N/pPK8AyMgsxj5GyV71L1LuGXGdf8SXXW4Dmp X-Gm-Gg: ASbGncti1IIBhmqfWUCxA4daQF2bIb0Dw98yNfAlh1Jo4pZqPLmRs2NN+Ggjx3oAmpe wbVH797L/e72qCLndJc2yQPwoA3WlbDHbJQDL7xrh6zbuTGHpRbZFi5hAy3ykXcmPfgkIRbFfeV KibR8bavQ2SESrgk5GN2kYehgGwhOUIgRvu6rOxrBQW90kiKJ+jpbOd6NS68QekNWzAGnIUXt3v nLS/AKbLBizxW99vMkhj5eSs1haxS3QGm7/MS1LqE9cHmXuaSBhArteYvXmanwq/Zr/++X4VK0b PhV4awHl4myBmw+bLUnn+Ogr7667V5RWDaNBWPKxmn8H/VLmBw== X-Google-Smtp-Source: AGHT+IF/lYY1fWj6rTJxd1Qa7Z8Xf6QwSUb2PV0ZVDWQEM7Ey+petTGzZNfFYXpguw/h7soepaA3lH4woif5 X-Received: by 2002:a05:6830:6b0c:b0:742:fad4:4b1a with SMTP id 46e09a7af769-744e0a59d7emr2373344a34.12.1755622164256; Tue, 19 Aug 2025 09:49:24 -0700 (PDT) Received: from postal.iol.unh.edu (postal.iol.unh.edu. [2606:4100:3880:1234::84]) by smtp-relay.gmail.com with ESMTPS id 46e09a7af769-74391e0cac5sm203754a34.7.2025.08.19.09.49.24 (version=TLS1_2 cipher=ECDHE-ECDSA-AES128-GCM-SHA256 bits=128/128); Tue, 19 Aug 2025 09:49:24 -0700 (PDT) X-Relaying-Domain: iol.unh.edu Date: Tue, 19 Aug 2025 09:49:24 -0700 (PDT) Message-ID: <68a4ab14.050a0220.12033c.9b65SMTPIN_ADDED_MISSING@mx.google.com> Received: from [172.21.0.2] (unknown [172.18.0.240]) by postal.iol.unh.edu (Postfix) with ESMTP id C12C2604D420; Tue, 19 Aug 2025 12:49:23 -0400 (EDT) Subject: |SUCCESS| pw155979 [PATCH] [v2] bus/vmbus: add device argument to co From: dpdklab@iol.unh.edu To: Test Report Cc: dpdk-test-reports@iol.unh.edu In-Reply-To: <1755563066-2592-1-git-send-email-longli@linuxonhyperv.com> References: <1755563066-2592-1-git-send-email-longli@linuxonhyperv.com> Content-Type: text/plain X-BeenThere: test-report@dpdk.org X-Mailman-Version: 2.1.29 Precedence: list List-Id: automatic DPDK test reports List-Unsubscribe: , List-Archive: List-Post: List-Help: List-Subscribe: , Errors-To: test-report-bounces@dpdk.org Test-Label: iol-compile-amd64-testing Test-Status: SUCCESS http://dpdk.org/patch/155979 _Testing PASS_ Submitter: Long Li Date: Tuesday, August 19 2025 00:24:26 DPDK git baseline: Repo:dpdk Branch: master CommitID:38543d33bd47fc0ee21f59db80a8763620741879 155979 --> testing pass Upstream job id: Windows-Compile-DPDK-Native#30431 Test environment and result as below: +-------------------------------+--------------------+-------------------+------------------+-------------------+-------------------------+----------------------+ | Environment | dpdk_meson_compile | dpdk_compile_spdk | dpdk_compile_ovs | dpdk_msvc_compile | dpdk_llvm_clang_compile | dpdk_mingw64_compile | +===============================+====================+===================+==================+===================+=========================+======================+ | CentOS Stream 10 | PASS | SKIPPED | SKIPPED | SKIPPED | SKIPPED | SKIPPED | +-------------------------------+--------------------+-------------------+------------------+-------------------+-------------------------+----------------------+ | CentOS Stream 9 | PASS | PASS | SKIPPED | SKIPPED | SKIPPED | SKIPPED | +-------------------------------+--------------------+-------------------+------------------+-------------------+-------------------------+----------------------+ | Fedora Linux 42 | PASS | PASS | PASS | SKIPPED | SKIPPED | SKIPPED | +-------------------------------+--------------------+-------------------+------------------+-------------------+-------------------------+----------------------+ | Alpine Linux 3.22.0 | PASS | SKIPPED | SKIPPED | SKIPPED | SKIPPED | SKIPPED | +-------------------------------+--------------------+-------------------+------------------+-------------------+-------------------------+----------------------+ | Ubuntu 20.04 | PASS | SKIPPED | SKIPPED | SKIPPED | SKIPPED | SKIPPED | +-------------------------------+--------------------+-------------------+------------------+-------------------+-------------------------+----------------------+ | Red Hat Enterprise Linux 9.5 | PASS | SKIPPED | SKIPPED | SKIPPED | SKIPPED | SKIPPED | +-------------------------------+--------------------+-------------------+------------------+-------------------+-------------------------+----------------------+ | Ubuntu 22.04 | PASS | PASS | SKIPPED | SKIPPED | SKIPPED | SKIPPED | +-------------------------------+--------------------+-------------------+------------------+-------------------+-------------------------+----------------------+ | openSUSE Leap 15.6 | PASS | SKIPPED | SKIPPED | SKIPPED | SKIPPED | SKIPPED | +-------------------------------+--------------------+-------------------+------------------+-------------------+-------------------------+----------------------+ | FreeBSD 14.2 | PASS | SKIPPED | SKIPPED | SKIPPED | SKIPPED | SKIPPED | +-------------------------------+--------------------+-------------------+------------------+-------------------+-------------------------+----------------------+ | Ubuntu 24.04 | PASS | PASS | PASS | SKIPPED | SKIPPED | SKIPPED | +-------------------------------+--------------------+-------------------+------------------+-------------------+-------------------------+----------------------+ | Debian GNU/Linux 12 | PASS | PASS | SKIPPED | SKIPPED | SKIPPED | SKIPPED | +-------------------------------+--------------------+-------------------+------------------+-------------------+-------------------------+----------------------+ | Red Hat Enterprise Linux 8.10 | PASS | SKIPPED | SKIPPED | SKIPPED | SKIPPED | SKIPPED | +-------------------------------+--------------------+-------------------+------------------+-------------------+-------------------------+----------------------+ | Windows Server 2022 | SKIPPED | SKIPPED | SKIPPED | PASS | PASS | PASS | +-------------------------------+--------------------+-------------------+------------------+-------------------+-------------------------+----------------------+ CentOS Stream 10 Kernel: 5.15 Compiler: gcc gcc (GCC) 14.2.1 20250110 (Red Hat 14.2.1-8) CentOS Stream 9 Kernel: 5.15 Compiler: gcc gcc (GCC) 11.5.0 20240719 (Red Hat 11.5.0-7) Fedora Linux 42 Kernel: 5.15 Compiler: gcc gcc (GCC) 15.1.1 20250521 (Red Hat 15.1.1-2) Alpine Linux 3.22.0 Kernel: 5.15 Compiler: gcc gcc (Alpine 14.2.0) 14.2.0 Ubuntu 20.04 Kernel: 5.15 Compiler: gcc gcc (Ubuntu 9.4.0-1ubuntu1~20.04.2) 9.4.0 Red Hat Enterprise Linux 9.5 Kernel: 5.15 Compiler: gcc gcc (GCC) 11.5.0 20240719 (Red Hat 11.5.0-2) Ubuntu 22.04 Kernel: 5.15 Compiler: gcc gcc (Ubuntu 11.4.0-1ubuntu1~22.04) 11.4.0 openSUSE Leap 15.6 Kernel: 5.15 Compiler: gcc gcc (SUSE Linux) 7.5.0 FreeBSD 14.2 Kernel: 14.2-RELEASE Compiler: clang 18.1.6 Ubuntu 24.04 Kernel: 5.15 Compiler: gcc gcc (Ubuntu 13.3.0-6ubuntu2~24.04) 13.3.0 Debian GNU/Linux 12 Kernel: 5.15 Compiler: gcc gcc (Debian 12.2.0-14+deb12u1) 12.2.0 Red Hat Enterprise Linux 8.10 Kernel: 5.15 Compiler: gcc gcc (GCC) 8.5.0 20210514 (Red Hat 8.5.0-22) Windows Server 2022 Kernel: 10.0.20348.2031 Compiler: clang 15.0.7, gcc 14.1.0 (MinGW), and MSVC VS 19.39.33521 To view detailed results, visit: https://lab.dpdk.org/results/dashboard/patchsets/33899/ UNH-IOL DPDK Community Lab To manage your email subscriptions, visit: https://lab.dpdk.org/results/dashboard/preferences/subscriptions/