From mboxrd@z Thu Jan 1 00:00:00 1970 Return-Path: Received: from mails.dpdk.org (mails.dpdk.org [217.70.189.124]) by inbox.dpdk.org (Postfix) with ESMTP id BE27146D68 for ; Tue, 19 Aug 2025 18:51:35 +0200 (CEST) Received: from mails.dpdk.org (localhost [127.0.0.1]) by mails.dpdk.org (Postfix) with ESMTP id A530D402E4; Tue, 19 Aug 2025 18:51:35 +0200 (CEST) Received: from mail-yw1-f228.google.com (mail-yw1-f228.google.com [209.85.128.228]) by mails.dpdk.org (Postfix) with ESMTP id 4DE58402E4 for ; Tue, 19 Aug 2025 18:51:34 +0200 (CEST) Received: by mail-yw1-f228.google.com with SMTP id 00721157ae682-71d60157747so49672547b3.0 for ; Tue, 19 Aug 2025 09:51:34 -0700 (PDT) DKIM-Signature: v=1; a=rsa-sha256; c=relaxed/relaxed; d=iol.unh.edu; s=unh-iol; t=1755622293; x=1756227093; darn=dpdk.org; h=references:in-reply-to:cc:to:from:subject:message-id:date:from:to :cc:subject:date:message-id:reply-to; bh=5SczSS1/RBAGLixppswX04ieS7XjtkfKcihL9+W+1OQ=; b=Uvp3fO0PKCjQtRyMf80Ze+t6e64V/1YygLDkWEmDFKU3r4jjqnyCjLdF1C3Lnz48TJ MAiVeUb5iAiNyNUULcL72k1n3tLBVUwjdfxtJZ5nFiJS6D/RIiaSEFiC2KpUKHLgMiXd mv0XBHkOh0UfaYgBOpcDR68SptSXuokDdE2HA= X-Google-DKIM-Signature: v=1; a=rsa-sha256; c=relaxed/relaxed; d=1e100.net; s=20230601; t=1755622293; x=1756227093; h=references:in-reply-to:cc:to:from:subject:message-id:date :x-gm-message-state:from:to:cc:subject:date:message-id:reply-to; bh=5SczSS1/RBAGLixppswX04ieS7XjtkfKcihL9+W+1OQ=; b=O1/zrN/7XMnMIQqxQcNnuhkhiyXq1OnqPWQRTb0huE8s7MG91qKzDIJZ31VMlHQrc6 Y12lDCLVPplN91WCgF152MhRxYvroX0Nj0KsK+YftrT+lgoRGIOHG5CZW9tBY5Zp55h+ /sglh+RRH7aTXKfdCDCz5X0ZlJwp8SQHXOum08uyiI92DYJMAmBwfYKwMBI/87TKSov5 5IatY6+sZUlWCaorDwbTANT0QUTShHdZzuvr4JyoZNXn3B603ZGBMBIlgbFW3qSywtX4 28KaPSzu3qxSs5Filps3fw8I/ujWCDJB6Hmx46klKcHJYSHbpsV4MgY+OTL15O0RAENS IUnQ== X-Gm-Message-State: AOJu0YwhsPJ3syezMjulwICMra9zsYUSYNsPFO5PJ/lyIfGyNZXpMyOY T5i6yfS304b+MHLCFHs6fLBrlUWIR761mDtSA7N5WLlBMNnOG1utv4jcVg1YbrkO7eM2IeRxRxB iUda7Cr7mN3v9NaZpNsdDBsarbxhA7Cr2bxkkI5f9WV38cYWYiLYQxUyXnVUO X-Gm-Gg: ASbGncvebUpcDSd4qnLAj2WrGducbT7x+RegtAK4q3yEQi/QNPyYdnIMTIUq0/6vuoH +UhajACir0z5SSTsSAO/GlYmo5mTb6yrpgwNFxzzc/V16mskmSokBLJyWXy/8WdT3n0EmQZb4GM Ne3SzzbsfUxO5Z5IsKGNpDd75EDDnVMoZFxfmvrphumB5pEAVfUun0EU3xt8Yvm+DRc6HAxvozf wNEEJG8OXGXAPgslNuVJizezcRgPGbpfCTJno/7AP37X7cc0TC11yWoym9jOKwyW3i08kyIOp4i 5SsGmwqcDrl5bYRALWmk7L22L2cv+MYv0F4yKQFIYx/CBL4+1w== X-Google-Smtp-Source: AGHT+IF+Ypuk8FAoY5hqsl0lcD0ypbbfCnylip1zXevBavl2otXCuHKTxCJqV4Nufk7/cQPk1BRh+dGThMBC X-Received: by 2002:a05:690c:9c0f:b0:71a:2093:3558 with SMTP id 00721157ae682-71f9d5be0f1mr39367847b3.10.1755622293585; Tue, 19 Aug 2025 09:51:33 -0700 (PDT) Received: from postal.iol.unh.edu (postal.iol.unh.edu. [2606:4100:3880:1234::84]) by smtp-relay.gmail.com with ESMTPS id 00721157ae682-71faf11eda0sm322217b3.4.2025.08.19.09.51.33 (version=TLS1_2 cipher=ECDHE-ECDSA-AES128-GCM-SHA256 bits=128/128); Tue, 19 Aug 2025 09:51:33 -0700 (PDT) X-Relaying-Domain: iol.unh.edu Date: Tue, 19 Aug 2025 09:51:33 -0700 (PDT) Message-ID: <68a4ab95.050a0220.c9ed1.197bSMTPIN_ADDED_MISSING@mx.google.com> Received: from [172.21.0.3] (unknown [172.18.0.240]) by postal.iol.unh.edu (Postfix) with ESMTP id 53099604D420; Tue, 19 Aug 2025 12:51:33 -0400 (EDT) Subject: |SUCCESS| pw155979 [PATCH] [v2] bus/vmbus: add device argument to co From: dpdklab@iol.unh.edu To: Test Report Cc: dpdk-test-reports@iol.unh.edu In-Reply-To: <1755563066-2592-1-git-send-email-longli@linuxonhyperv.com> References: <1755563066-2592-1-git-send-email-longli@linuxonhyperv.com> Content-Type: text/plain X-BeenThere: test-report@dpdk.org X-Mailman-Version: 2.1.29 Precedence: list List-Id: automatic DPDK test reports List-Unsubscribe: , List-Archive: List-Post: List-Help: List-Subscribe: , Errors-To: test-report-bounces@dpdk.org Test-Label: iol-compile-arm64-testing Test-Status: SUCCESS http://dpdk.org/patch/155979 _Testing PASS_ Submitter: Long Li Date: Tuesday, August 19 2025 00:24:26 DPDK git baseline: Repo:dpdk Branch: master CommitID:38543d33bd47fc0ee21f59db80a8763620741879 155979 --> testing pass Upstream job id: Generic-DPDK-Compile-Meson#418380 Test environment and result as below: +------------------------------+--------------------+ | Environment | dpdk_meson_compile | +==============================+====================+ | Red Hat Enterprise Linux 9.5 | PASS | +------------------------------+--------------------+ | Ubuntu 22.04 | PASS | +------------------------------+--------------------+ | Ubuntu 20.04 | PASS | +------------------------------+--------------------+ | Debian GNU/Linux 12 | PASS | +------------------------------+--------------------+ | CentOS Stream 9 | PASS | +------------------------------+--------------------+ | Ubuntu 24.04 | PASS | +------------------------------+--------------------+ | Fedora Linux 42 | PASS | +------------------------------+--------------------+ | CentOS Stream 10 | PASS | +------------------------------+--------------------+ Red Hat Enterprise Linux 9.5 Kernel: 5.4 Compiler: gcc gcc (GCC) 11.5.0 20240719 (Red Hat 11.5.0-2) Ubuntu 22.04 Kernel: 5.4 Compiler: gcc gcc (Ubuntu 11.4.0-1ubuntu1~22.04) 11.4.0 Ubuntu 20.04 Kernel: 5.4 Compiler: gcc gcc (Ubuntu 9.4.0-1ubuntu1~20.04.2) 9.4.0 Debian GNU/Linux 12 Kernel: 5.4 Compiler: gcc gcc (Debian 12.2.0-14+deb12u1) 12.2.0 CentOS Stream 9 Kernel: 5.4 Compiler: gcc gcc (GCC) 11.5.0 20240719 (Red Hat 11.5.0-7) Ubuntu 24.04 Kernel: 5.4 Compiler: gcc gcc (Ubuntu 13.3.0-6ubuntu2~24.04) 13.3.0 Fedora Linux 42 Kernel: 5.4 Compiler: clang gcc (GCC) 15.1.1 20250521 (Red Hat 15.1.1-2) CentOS Stream 10 Kernel: 5.4 Compiler: gcc gcc (GCC) 14.2.1 20250110 (Red Hat 14.2.1-8) To view detailed results, visit: https://lab.dpdk.org/results/dashboard/patchsets/33899/ UNH-IOL DPDK Community Lab To manage your email subscriptions, visit: https://lab.dpdk.org/results/dashboard/preferences/subscriptions/