From mboxrd@z Thu Jan 1 00:00:00 1970 Return-Path: Received: from mails.dpdk.org (mails.dpdk.org [217.70.189.124]) by inbox.dpdk.org (Postfix) with ESMTP id 23A3746D68 for ; Tue, 19 Aug 2025 19:02:09 +0200 (CEST) Received: from mails.dpdk.org (localhost [127.0.0.1]) by mails.dpdk.org (Postfix) with ESMTP id 08F72402E4; Tue, 19 Aug 2025 19:02:09 +0200 (CEST) Received: from mail-yw1-f225.google.com (mail-yw1-f225.google.com [209.85.128.225]) by mails.dpdk.org (Postfix) with ESMTP id D5294402E4 for ; Tue, 19 Aug 2025 19:02:07 +0200 (CEST) Received: by mail-yw1-f225.google.com with SMTP id 00721157ae682-71d60593000so41956757b3.3 for ; Tue, 19 Aug 2025 10:02:07 -0700 (PDT) DKIM-Signature: v=1; a=rsa-sha256; c=relaxed/relaxed; d=iol.unh.edu; s=unh-iol; t=1755622927; x=1756227727; darn=dpdk.org; h=references:in-reply-to:cc:to:from:subject:message-id:date:from:to :cc:subject:date:message-id:reply-to; bh=ALKVupNh8gPghz5o4jnAOyldBDRSUs7ol0pp00qTerY=; b=Wteto/l28lexezUZOSt5q0Bzmj2pNrPzu8YO3ivwKqEADw3zbtnU5EsRbWb4GnA+Nl uC2Pyxdn5RX2lITS+qg1qz6GK8SYCnEBYnoSQik9UDTpbI221UXVKOGnANds6jDQTgUi MTETlKwkKdutLD+wjyJI0Ldeo3/JvDBwpPlns= X-Google-DKIM-Signature: v=1; a=rsa-sha256; c=relaxed/relaxed; d=1e100.net; s=20230601; t=1755622927; x=1756227727; h=references:in-reply-to:cc:to:from:subject:message-id:date :x-gm-message-state:from:to:cc:subject:date:message-id:reply-to; bh=ALKVupNh8gPghz5o4jnAOyldBDRSUs7ol0pp00qTerY=; b=tuBjco5cfh34akd3EgcxcRwbGQ/1KPzWKSCoExsgSKM3NKAjjSql6pwC2IDyVft8cr Bkz+z3A8kvl+Ppo7Dxrp4wMfsytXB4YkUW56Rc3JsBcDsoWknTLNhA95Q3gaA67c78qr wyHV/9/z5vBaAHV++kOp01PfatvHTCv6a30D/4eVRljD7SovWmRWhTexMuybbONuEgqf kkgzqZnIJzC7pnr3EETFf2FjgrpkJYOj0Bwl4tyf+wd3UjP/QvBsxjHJnU1jwZcIx0n1 uBZ0MBiJzaCBBISQO4KM/Hbk5cos0Psu5wFgtxA3aZEcfklVOGcjCCY5yyJL7a7yYDJe cxoA== X-Gm-Message-State: AOJu0YxeL1nfh3CkZc/NiLJTvDH8wEIoa9cZS4j0hxUVvUBoc9nUzEfk WFXXHvGNwC4ziLbiE9ewIquYmRKuuqijOFo3uCnLF2RdvwIj++Lqi0PkVw401TE2Mu+80S47Ve6 K4wCMTEo8hWn/lBVz4eVYdUArKwRPgli3u/Ln81eOguY5 X-Gm-Gg: ASbGncu0OYptraFsfBBjNs9k5VZWMXr5YKluHNqcHYH2XCFK7YKBgLpjf7g0F3N1guy 1kBgbfbC/lSFmkyHGPZ2r2Il4UQl9XYTDz3C5Rnq87RWLeoOBQ6KBa8XbxRS08I2EuTEKGyv5+0 Jp2gApQnKvXglRc1FW3LDsolb1x1J5QndHY6hiyZL8A3D30WICUvGVOlY2qGILfRAvM+wSOEUH/ rTGD+OMME9/dQPMnr03PcBdWOhe9GovkfnFHW/IdBkXGR5028j6LVa6rz9Xlp8ynzKaKUVc4DNq N6FgIg1WTcoeCjsF2bcgeDKeDWzHGJnpveiwJi+THkDxVxM0JGCyctNzkLCD+4X1L5AqD0Qa X-Google-Smtp-Source: AGHT+IHBbwXcZyj6QffbOqFetruCEdDvH4uL4uw9ByEhvd8qBJL58FCjpUQKN95TE/mA87VjWPlCd7UXuEZF X-Received: by 2002:a05:690c:dc3:b0:71e:72de:6127 with SMTP id 00721157ae682-71f9d4ff423mr40591617b3.3.1755622926664; Tue, 19 Aug 2025 10:02:06 -0700 (PDT) Received: from postal.iol.unh.edu (postal.iol.unh.edu. [132.177.123.84]) by smtp-relay.gmail.com with ESMTPS id 00721157ae682-71e6e1cab05sm9170797b3.28.2025.08.19.10.02.06 (version=TLS1_2 cipher=ECDHE-ECDSA-AES128-GCM-SHA256 bits=128/128); Tue, 19 Aug 2025 10:02:06 -0700 (PDT) X-Relaying-Domain: iol.unh.edu Date: Tue, 19 Aug 2025 10:02:06 -0700 (PDT) Message-ID: <68a4ae0e.050a0220.29dcc5.dc93SMTPIN_ADDED_MISSING@mx.google.com> Received: from [172.21.0.2] (unknown [172.18.0.240]) by postal.iol.unh.edu (Postfix) with ESMTP id 48FD3604D420; Tue, 19 Aug 2025 13:02:06 -0400 (EDT) Subject: |SUCCESS| pw155982 [PATCH] [v5,1/1] ethdev: add support to provide l From: dpdklab@iol.unh.edu To: Test Report Cc: dpdk-test-reports@iol.unh.edu In-Reply-To: <20250819055126.2745262-1-skori@marvell.com> References: <20250819055126.2745262-1-skori@marvell.com> Content-Type: text/plain X-BeenThere: test-report@dpdk.org X-Mailman-Version: 2.1.29 Precedence: list List-Id: automatic DPDK test reports List-Unsubscribe: , List-Archive: List-Post: List-Help: List-Subscribe: , Errors-To: test-report-bounces@dpdk.org Test-Label: iol-compile-amd64-testing Test-Status: SUCCESS http://dpdk.org/patch/155982 _Testing PASS_ Submitter: Sunil Kumar Kori Date: Tuesday, August 19 2025 05:51:06 DPDK git baseline: Repo:dpdk Branch: master CommitID:6df5b211fae053219163a3eb301b26198974fb73 155982 --> testing pass Upstream job id: Windows-Compile-DPDK-VS#6656 Test environment and result as below: +-------------------------------+--------------------+------------------+-------------------+-------------------+ | Environment | dpdk_meson_compile | dpdk_compile_ovs | dpdk_compile_spdk | dpdk_msvc_compile | +===============================+====================+==================+===================+===================+ | Fedora Linux 42 | PASS | PASS | PASS | SKIPPED | +-------------------------------+--------------------+------------------+-------------------+-------------------+ | openSUSE Leap 15.6 | PASS | SKIPPED | SKIPPED | SKIPPED | +-------------------------------+--------------------+------------------+-------------------+-------------------+ | Ubuntu 22.04 | PASS | SKIPPED | PASS | SKIPPED | +-------------------------------+--------------------+------------------+-------------------+-------------------+ | Ubuntu 24.04 | PASS | PASS | PASS | SKIPPED | +-------------------------------+--------------------+------------------+-------------------+-------------------+ | Red Hat Enterprise Linux 9.5 | PASS | SKIPPED | SKIPPED | SKIPPED | +-------------------------------+--------------------+------------------+-------------------+-------------------+ | Ubuntu 20.04 | PASS | SKIPPED | SKIPPED | SKIPPED | +-------------------------------+--------------------+------------------+-------------------+-------------------+ | FreeBSD 14.2 | PASS | SKIPPED | SKIPPED | SKIPPED | +-------------------------------+--------------------+------------------+-------------------+-------------------+ | CentOS Stream 9 | PASS | SKIPPED | PASS | SKIPPED | +-------------------------------+--------------------+------------------+-------------------+-------------------+ | Alpine Linux 3.22.0 | PASS | SKIPPED | SKIPPED | SKIPPED | +-------------------------------+--------------------+------------------+-------------------+-------------------+ | Debian GNU/Linux 12 | PASS | SKIPPED | PASS | SKIPPED | +-------------------------------+--------------------+------------------+-------------------+-------------------+ | CentOS Stream 10 | PASS | SKIPPED | SKIPPED | SKIPPED | +-------------------------------+--------------------+------------------+-------------------+-------------------+ | Red Hat Enterprise Linux 8.10 | PASS | SKIPPED | SKIPPED | SKIPPED | +-------------------------------+--------------------+------------------+-------------------+-------------------+ | Windows Server 2022 | SKIPPED | SKIPPED | SKIPPED | PASS | +-------------------------------+--------------------+------------------+-------------------+-------------------+ Fedora Linux 42 Kernel: 5.15 Compiler: clang gcc (GCC) 15.1.1 20250521 (Red Hat 15.1.1-2) openSUSE Leap 15.6 Kernel: 5.15 Compiler: gcc gcc (SUSE Linux) 7.5.0 Ubuntu 22.04 Kernel: 5.15 Compiler: gcc gcc (Ubuntu 11.4.0-1ubuntu1~22.04) 11.4.0 Ubuntu 24.04 Kernel: 5.15 Compiler: gcc gcc (Ubuntu 13.3.0-6ubuntu2~24.04) 13.3.0 Red Hat Enterprise Linux 9.5 Kernel: 5.15 Compiler: gcc gcc (GCC) 11.5.0 20240719 (Red Hat 11.5.0-2) Ubuntu 20.04 Kernel: 5.15 Compiler: gcc gcc (Ubuntu 9.4.0-1ubuntu1~20.04.2) 9.4.0 FreeBSD 14.2 Kernel: 14.2-RELEASE Compiler: clang 18.1.6 CentOS Stream 9 Kernel: 5.15 Compiler: gcc gcc (GCC) 11.5.0 20240719 (Red Hat 11.5.0-7) Alpine Linux 3.22.0 Kernel: 5.15 Compiler: gcc gcc (Alpine 14.2.0) 14.2.0 Debian GNU/Linux 12 Kernel: 5.15 Compiler: gcc gcc (Debian 12.2.0-14+deb12u1) 12.2.0 CentOS Stream 10 Kernel: 5.15 Compiler: gcc gcc (GCC) 14.2.1 20250110 (Red Hat 14.2.1-8) Red Hat Enterprise Linux 8.10 Kernel: 5.15 Compiler: gcc gcc (GCC) 8.5.0 20210514 (Red Hat 8.5.0-22) Windows Server 2022 Kernel: 10.0.20348.2031 Compiler: clang 15.0.7, gcc 14.1.0 (MinGW), and MSVC VS 19.39.33521 To view detailed results, visit: https://lab.dpdk.org/results/dashboard/patchsets/33902/ UNH-IOL DPDK Community Lab To manage your email subscriptions, visit: https://lab.dpdk.org/results/dashboard/preferences/subscriptions/