From mboxrd@z Thu Jan 1 00:00:00 1970 Return-Path: Received: from mails.dpdk.org (mails.dpdk.org [217.70.189.124]) by inbox.dpdk.org (Postfix) with ESMTP id 85C1246D68 for ; Tue, 19 Aug 2025 19:40:09 +0200 (CEST) Received: from mails.dpdk.org (localhost [127.0.0.1]) by mails.dpdk.org (Postfix) with ESMTP id 6A1E0402C9; Tue, 19 Aug 2025 19:40:09 +0200 (CEST) Received: from mail-yw1-f228.google.com (mail-yw1-f228.google.com [209.85.128.228]) by mails.dpdk.org (Postfix) with ESMTP id EE177402C9 for ; Tue, 19 Aug 2025 19:40:07 +0200 (CEST) Received: by mail-yw1-f228.google.com with SMTP id 00721157ae682-71d6051afbfso47451267b3.2 for ; Tue, 19 Aug 2025 10:40:07 -0700 (PDT) DKIM-Signature: v=1; a=rsa-sha256; c=relaxed/relaxed; d=iol.unh.edu; s=unh-iol; t=1755625207; x=1756230007; darn=dpdk.org; h=references:in-reply-to:cc:to:from:subject:message-id:date:from:to :cc:subject:date:message-id:reply-to; bh=Vsnga03ziOwaiabFOaEQCNX5WYvM/xegaMA34SQbazY=; b=gSwdONjrNrfoWTaXRzaWFlb8HeR2+kNIDCC6qFBmbRzylLEUql8Tu+GILs9i6Zt+c6 099uElubnHlz3PiE9V5S22gMBnS41S6HkLy/HK5tmLxDyJ4rXYkneIu5gZcp9ij4qcFb AadHzJzRJaTlrrPtO5BsoKMcIx+D+/TI2W2ng= X-Google-DKIM-Signature: v=1; a=rsa-sha256; c=relaxed/relaxed; d=1e100.net; s=20230601; t=1755625207; x=1756230007; h=references:in-reply-to:cc:to:from:subject:message-id:date :x-gm-message-state:from:to:cc:subject:date:message-id:reply-to; bh=Vsnga03ziOwaiabFOaEQCNX5WYvM/xegaMA34SQbazY=; b=G6W6+ofRK62syeSjRnYSYpeVxFvDXkOgbbm/Ivxa9PRA4KdIhClZler9oSbdyx+PJr LuAI7y/Op7zSNKtNZmxpv2VOsQ9b3CS+12CX+lhGPbrgvUXxhBRRNeFy5sg8qRF5wVg7 y8lJDDhnpcahLF+OJtub+pMfw1V70oz74vkv22z7uuCKA1WJUtkwjHPF32BkgR1SAy/f zh70WwdC6SCoEnksj1rD23t7R+gLZcBgzX8JQmkm6pQ2e5rtxOfK6/EYGnscvuYZX9oQ VTLaKY/NNkdW2nNJHJoQYGI/ajd3FjvfMOot+JT+zoNWIJepgx+JuZ0taYXzoOOIAUk/ DKeA== X-Gm-Message-State: AOJu0Ywk6x7HYAUjlLAsdyF2ZVLligzUKA5UOhrqAj5p20u2pS2YWkop u+1P9niQwTcQjHqSM1lvlwcS02+e3JX6NHh+Z77TId9m5CVdSsraILcFbwd68jDagYh7hjfFqJ/ WSIRDahHOoN44Wtzmg5YTxrymGFBHvWmZZixF1tYbSRMO X-Gm-Gg: ASbGncsGrSqYzJX9u1S//qYPCJkcZZjXiqdKT8ydoz5VJm+FfQdvC6jRR3zttouhNZH oxeKGfLtNQbLnwwL5k6RwyMUdf8ZoJ95ai7W200ih1YntZwGvpn1ngMCiFM7FjQOJmhaArnEhB8 HEyrLfCawpmO3r+c1sKigpBSe2gT7EQ+7VwvPLA7ZoPbyskG7M53UcPhk8BfWq+o9eVl/kuieZ9 mgTZNm4F5BQG0JYB8gXOqgyesCc5ZimjoYVKMJX8UQ1hVRimfiX9fBs0RpJeJA0rQ452j+lqbhD MR0gGdqaChuGBd2IBqSWXT134M6bCQTmJ/oMg9HbuYOqwS7257L05+6IJhBFRs3eyuf46cbA X-Google-Smtp-Source: AGHT+IEN1NarxNLny+tSW3/ONAA3ChJhoNx8yxh6ixoQpOcPUthzVn76lJN3D/uPc5kKyOeltJGuZcuiBt3q X-Received: by 2002:a05:690c:d8b:b0:71b:f6b4:da91 with SMTP id 00721157ae682-71f9d63a848mr43684517b3.24.1755625207208; Tue, 19 Aug 2025 10:40:07 -0700 (PDT) Received: from postal.iol.unh.edu (postal.iol.unh.edu. [132.177.123.84]) by smtp-relay.gmail.com with ESMTPS id 00721157ae682-71e6e22e782sm9079457b3.48.2025.08.19.10.40.07 (version=TLS1_2 cipher=ECDHE-ECDSA-AES128-GCM-SHA256 bits=128/128); Tue, 19 Aug 2025 10:40:07 -0700 (PDT) X-Relaying-Domain: iol.unh.edu Date: Tue, 19 Aug 2025 10:40:07 -0700 (PDT) Message-ID: <68a4b6f7.050a0220.1538de.ceecSMTPIN_ADDED_MISSING@mx.google.com> Received: from [172.21.0.4] (unknown [172.18.0.240]) by postal.iol.unh.edu (Postfix) with ESMTP id D770A604D420; Tue, 19 Aug 2025 13:40:06 -0400 (EDT) Subject: |SUCCESS| pw155982 [PATCH] [v5,1/1] ethdev: add support to provide l From: dpdklab@iol.unh.edu To: Test Report Cc: dpdk-test-reports@iol.unh.edu In-Reply-To: <20250819055126.2745262-1-skori@marvell.com> References: <20250819055126.2745262-1-skori@marvell.com> Content-Type: text/plain X-BeenThere: test-report@dpdk.org X-Mailman-Version: 2.1.29 Precedence: list List-Id: automatic DPDK test reports List-Unsubscribe: , List-Archive: List-Post: List-Help: List-Subscribe: , Errors-To: test-report-bounces@dpdk.org Test-Label: iol-compile-amd64-testing Test-Status: SUCCESS http://dpdk.org/patch/155982 _Testing PASS_ Submitter: Sunil Kumar Kori Date: Tuesday, August 19 2025 05:51:06 DPDK git baseline: Repo:dpdk Branch: master CommitID:6df5b211fae053219163a3eb301b26198974fb73 155982 --> testing pass Upstream job id: Windows-Compile-DPDK-VS#6657 Test environment and result as below: +-------------------------------+--------------------+-------------------+------------------+-------------------+ | Environment | dpdk_meson_compile | dpdk_compile_spdk | dpdk_compile_ovs | dpdk_msvc_compile | +===============================+====================+===================+==================+===================+ | Ubuntu 20.04 | PASS | SKIPPED | SKIPPED | SKIPPED | +-------------------------------+--------------------+-------------------+------------------+-------------------+ | FreeBSD 14.2 | PASS | SKIPPED | SKIPPED | SKIPPED | +-------------------------------+--------------------+-------------------+------------------+-------------------+ | CentOS Stream 9 | PASS | PASS | SKIPPED | SKIPPED | +-------------------------------+--------------------+-------------------+------------------+-------------------+ | Fedora Linux 42 | PASS | PASS | PASS | SKIPPED | +-------------------------------+--------------------+-------------------+------------------+-------------------+ | openSUSE Leap 15.6 | PASS | SKIPPED | SKIPPED | SKIPPED | +-------------------------------+--------------------+-------------------+------------------+-------------------+ | Red Hat Enterprise Linux 8.10 | PASS | SKIPPED | SKIPPED | SKIPPED | +-------------------------------+--------------------+-------------------+------------------+-------------------+ | Red Hat Enterprise Linux 9.5 | PASS | SKIPPED | SKIPPED | SKIPPED | +-------------------------------+--------------------+-------------------+------------------+-------------------+ | Ubuntu 22.04 | PASS | PASS | SKIPPED | SKIPPED | +-------------------------------+--------------------+-------------------+------------------+-------------------+ | Ubuntu 24.04 | PASS | PASS | PASS | SKIPPED | +-------------------------------+--------------------+-------------------+------------------+-------------------+ | Alpine Linux 3.22.0 | PASS | SKIPPED | SKIPPED | SKIPPED | +-------------------------------+--------------------+-------------------+------------------+-------------------+ | CentOS Stream 10 | PASS | SKIPPED | SKIPPED | SKIPPED | +-------------------------------+--------------------+-------------------+------------------+-------------------+ | Debian GNU/Linux 12 | PASS | PASS | SKIPPED | SKIPPED | +-------------------------------+--------------------+-------------------+------------------+-------------------+ | Windows Server 2022 | SKIPPED | SKIPPED | SKIPPED | PASS | +-------------------------------+--------------------+-------------------+------------------+-------------------+ Ubuntu 20.04 Kernel: 4.19 Compiler: gcc gcc (Ubuntu 9.4.0-1ubuntu1~20.04.2) 9.4.0 FreeBSD 14.2 Kernel: 14.2-RELEASE Compiler: clang 18.1.6 CentOS Stream 9 Kernel: 5.15 Compiler: gcc gcc (GCC) 11.5.0 20240719 (Red Hat 11.5.0-7) Fedora Linux 42 Kernel: 5.15 Compiler: gcc gcc (GCC) 15.1.1 20250521 (Red Hat 15.1.1-2) openSUSE Leap 15.6 Kernel: 5.15 Compiler: gcc gcc (SUSE Linux) 7.5.0 Red Hat Enterprise Linux 8.10 Kernel: 5.15 Compiler: gcc gcc (GCC) 8.5.0 20210514 (Red Hat 8.5.0-22) Red Hat Enterprise Linux 9.5 Kernel: 5.15 Compiler: gcc gcc (GCC) 11.5.0 20240719 (Red Hat 11.5.0-2) Ubuntu 22.04 Kernel: 5.15 Compiler: gcc gcc (Ubuntu 11.4.0-1ubuntu1~22.04) 11.4.0 Ubuntu 24.04 Kernel: 5.15 Compiler: gcc gcc (Ubuntu 13.3.0-6ubuntu2~24.04) 13.3.0 Alpine Linux 3.22.0 Kernel: 5.15 Compiler: gcc gcc (Alpine 14.2.0) 14.2.0 CentOS Stream 10 Kernel: 5.15 Compiler: gcc gcc (GCC) 14.2.1 20250110 (Red Hat 14.2.1-8) Debian GNU/Linux 12 Kernel: 5.15 Compiler: gcc gcc (Debian 12.2.0-14+deb12u1) 12.2.0 Windows Server 2022 Kernel: 10.0.20348.2031 Compiler: clang 15.0.7, gcc 14.1.0 (MinGW), and MSVC VS 19.39.33521 To view detailed results, visit: https://lab.dpdk.org/results/dashboard/patchsets/33902/ UNH-IOL DPDK Community Lab To manage your email subscriptions, visit: https://lab.dpdk.org/results/dashboard/preferences/subscriptions/