From mboxrd@z Thu Jan 1 00:00:00 1970 Return-Path: Received: from mails.dpdk.org (mails.dpdk.org [217.70.189.124]) by inbox.dpdk.org (Postfix) with ESMTP id 75B2E46D69 for ; Tue, 19 Aug 2025 20:08:50 +0200 (CEST) Received: from mails.dpdk.org (localhost [127.0.0.1]) by mails.dpdk.org (Postfix) with ESMTP id 535F3402C9; Tue, 19 Aug 2025 20:08:50 +0200 (CEST) Received: from mail-pl1-f225.google.com (mail-pl1-f225.google.com [209.85.214.225]) by mails.dpdk.org (Postfix) with ESMTP id 06031402C9 for ; Tue, 19 Aug 2025 20:08:48 +0200 (CEST) Received: by mail-pl1-f225.google.com with SMTP id d9443c01a7336-24457fe9704so43366665ad.0 for ; Tue, 19 Aug 2025 11:08:48 -0700 (PDT) DKIM-Signature: v=1; a=rsa-sha256; c=relaxed/relaxed; d=iol.unh.edu; s=unh-iol; t=1755626928; x=1756231728; darn=dpdk.org; h=references:in-reply-to:cc:to:from:subject:message-id:date:from:to :cc:subject:date:message-id:reply-to; bh=nu7G2NPEGPmxdGTPp0d1BqWxWa+VERzqSl3E0gMIrO0=; b=LTXsnekMLW49Q9EVz2zSreaaXc3/Yerf8Tyq/Eb2QQPOAuqpaODoCVYT2jNAp/4Vpp EzS8u/umB1bUt9XXsx0mBYKaemG5o1GikDl5HorRGaOLPHq8207iGc2QETMv+kpUDd7R W/BlCdjDMQxq++OMiHtdm/HF3Fv4WoOr5cyt4= X-Google-DKIM-Signature: v=1; a=rsa-sha256; c=relaxed/relaxed; d=1e100.net; s=20230601; t=1755626928; x=1756231728; h=references:in-reply-to:cc:to:from:subject:message-id:date :x-gm-message-state:from:to:cc:subject:date:message-id:reply-to; bh=nu7G2NPEGPmxdGTPp0d1BqWxWa+VERzqSl3E0gMIrO0=; b=J8831/semGvXViIwv8VDgqJ2DnaDyMib8PBuamKVXfFR7zc7TjEskwuwQAaa30L6Lf 7KvEMtolHdxJVTW1/Keyn16X83r7s5YXjVvC2MwfGJ8gw0sPQCL0KRunpbDSK2orM/ZZ dst+Bu07hFmqoTfp86hmTGd0Q1jDzomxZKaWMwTktma2xB+w5mgsr4lEHHo0gIcG9sC3 dMlZMjSrEXVN+1HnpsGK0rAgqLWXA06/mdWqao+4HewqXGe20HvmyGrLikMHps5TYh5l ws1HqjF8Srlf58ubMd94xuvNw46zvJrBF5vdbT657Waz3yx5zscBrIxJsk86oKhFYGNz SDtg== X-Gm-Message-State: AOJu0YwPgrSZqYtOZ9sSubeKK/LD9bqxL/lZfO3E1/+8hUgo0F+k1gmV YcsA4iPDrc3y98mhJVE8VLWcG2SB501E9D6Vy8rCImC1EY2TgwEwkdaIei3pb7agvaE+W1t/tP/ 39xQLqeT3bazATiegBcNjMqs0beHiHthP0axMkgiWn52g3DDOkZL68q25bswX X-Gm-Gg: ASbGnctDMvQ92Cf4qwsC7+85PKXP0NP+a5Arr0CHZSD1d/lEM38gWIsT5Wb5T/ec2h9 KGr+n/0U8982qk5e6182bRY0PnuM/YFgAPckTPDnZWAkM+aWaIC9u/p5qz1i6NK3gy/qOjnHJee gs+/dwMz6yOC99WurjgkznvD52RRZ0W9URtK+LGe+G8Le1ZksGbCg5iGqAJwjaMLSLY3suROnnR bdpXRqREqctCyRTCAhF3jKK3nJAH65JNx5hBI8lUZSuysEONRpU7riJpJQnO8efUI6fnsG0tKdr a9DUjx80oAXDTwk4yUOfmMl/eE2W7+fOIwDsdrRnYLTzUtoTFw== X-Google-Smtp-Source: AGHT+IE0ITZSyv1i0Ys97FALCjcaoQqLGvvUhZ7ZOMF9Qm0oqbpbV4JwOuq6oZD7JAUSGUpgYLLwMxsJ6qXP X-Received: by 2002:a17:902:e884:b0:244:7bce:9530 with SMTP id d9443c01a7336-245e0461ca1mr41510005ad.18.1755626928071; Tue, 19 Aug 2025 11:08:48 -0700 (PDT) Received: from postal.iol.unh.edu (postal.iol.unh.edu. [2606:4100:3880:1234::84]) by smtp-relay.gmail.com with ESMTPS id d9443c01a7336-245ed47a139sm323785ad.41.2025.08.19.11.08.47 (version=TLS1_2 cipher=ECDHE-ECDSA-AES128-GCM-SHA256 bits=128/128); Tue, 19 Aug 2025 11:08:48 -0700 (PDT) X-Relaying-Domain: iol.unh.edu Date: Tue, 19 Aug 2025 11:08:48 -0700 (PDT) Message-ID: <68a4bdb0.170a0220.2a625f.1ad8SMTPIN_ADDED_MISSING@mx.google.com> Received: from [172.21.0.3] (unknown [172.18.0.240]) by postal.iol.unh.edu (Postfix) with ESMTP id 4377B60003E7; Tue, 19 Aug 2025 14:08:47 -0400 (EDT) Subject: |SUCCESS| pw155983-155998 [PATCH] [v5,17/17] net/nbl: nbl device sup From: dpdklab@iol.unh.edu To: Test Report Cc: dpdk-test-reports@iol.unh.edu In-Reply-To: <20250819102237.3067518-18-dimon.zhao@nebula-matrix.com> References: <20250819102237.3067518-18-dimon.zhao@nebula-matrix.com> Content-Type: text/plain X-BeenThere: test-report@dpdk.org X-Mailman-Version: 2.1.29 Precedence: list List-Id: automatic DPDK test reports List-Unsubscribe: , List-Archive: List-Post: List-Help: List-Subscribe: , Errors-To: test-report-bounces@dpdk.org Test-Label: iol-compile-amd64-testing Test-Status: SUCCESS http://dpdk.org/patch/155998 _Testing PASS_ Submitter: Dimon Zhao Date: Tuesday, August 19 2025 10:22:37 DPDK git baseline: Repo:dpdk Branch: master CommitID:6df5b211fae053219163a3eb301b26198974fb73 155983-155998 --> testing pass Upstream job id: Generic-DPDK-Compile-Meson#418507 Test environment and result as below: +-------------------------------+--------------------+-------------------+------------------+-------------------+ | Environment | dpdk_meson_compile | dpdk_compile_spdk | dpdk_compile_ovs | dpdk_msvc_compile | +===============================+====================+===================+==================+===================+ | FreeBSD 14.2 | PASS | SKIPPED | SKIPPED | SKIPPED | +-------------------------------+--------------------+-------------------+------------------+-------------------+ | Ubuntu 20.04 | PASS | SKIPPED | SKIPPED | SKIPPED | +-------------------------------+--------------------+-------------------+------------------+-------------------+ | CentOS Stream 9 | PASS | PASS | SKIPPED | SKIPPED | +-------------------------------+--------------------+-------------------+------------------+-------------------+ | Debian GNU/Linux 12 | PASS | PASS | SKIPPED | SKIPPED | +-------------------------------+--------------------+-------------------+------------------+-------------------+ | Fedora Linux 42 | PASS | PASS | PASS | SKIPPED | +-------------------------------+--------------------+-------------------+------------------+-------------------+ | openSUSE Leap 15.6 | PASS | SKIPPED | SKIPPED | SKIPPED | +-------------------------------+--------------------+-------------------+------------------+-------------------+ | Ubuntu 22.04 | PASS | PASS | SKIPPED | SKIPPED | +-------------------------------+--------------------+-------------------+------------------+-------------------+ | CentOS Stream 10 | PASS | SKIPPED | SKIPPED | SKIPPED | +-------------------------------+--------------------+-------------------+------------------+-------------------+ | Red Hat Enterprise Linux 8.10 | PASS | SKIPPED | SKIPPED | SKIPPED | +-------------------------------+--------------------+-------------------+------------------+-------------------+ | Red Hat Enterprise Linux 9.5 | PASS | SKIPPED | SKIPPED | SKIPPED | +-------------------------------+--------------------+-------------------+------------------+-------------------+ | Alpine Linux 3.22.0 | PASS | SKIPPED | SKIPPED | SKIPPED | +-------------------------------+--------------------+-------------------+------------------+-------------------+ | Ubuntu 24.04 | PASS | PASS | PASS | SKIPPED | +-------------------------------+--------------------+-------------------+------------------+-------------------+ | Windows Server 2022 | SKIPPED | SKIPPED | SKIPPED | PASS | +-------------------------------+--------------------+-------------------+------------------+-------------------+ FreeBSD 14.2 Kernel: 14.2-RELEASE Compiler: clang 18.1.6 Ubuntu 20.04 Kernel: 4.19 Compiler: gcc gcc (Ubuntu 9.4.0-1ubuntu1~20.04.2) 9.4.0 CentOS Stream 9 Kernel: 5.15 Compiler: gcc gcc (GCC) 11.5.0 20240719 (Red Hat 11.5.0-7) Debian GNU/Linux 12 Kernel: 5.15 Compiler: gcc gcc (Debian 12.2.0-14+deb12u1) 12.2.0 Fedora Linux 42 Kernel: 5.15 Compiler: clang gcc (GCC) 15.1.1 20250521 (Red Hat 15.1.1-2) openSUSE Leap 15.6 Kernel: 5.15 Compiler: gcc gcc (SUSE Linux) 7.5.0 Ubuntu 22.04 Kernel: 5.15 Compiler: gcc gcc (Ubuntu 11.4.0-1ubuntu1~22.04) 11.4.0 CentOS Stream 10 Kernel: 5.15 Compiler: gcc gcc (GCC) 14.2.1 20250110 (Red Hat 14.2.1-8) Red Hat Enterprise Linux 8.10 Kernel: 5.15 Compiler: gcc gcc (GCC) 8.5.0 20210514 (Red Hat 8.5.0-22) Red Hat Enterprise Linux 9.5 Kernel: 5.15 Compiler: gcc gcc (GCC) 11.5.0 20240719 (Red Hat 11.5.0-2) Alpine Linux 3.22.0 Kernel: 5.15 Compiler: gcc gcc (Alpine 14.2.0) 14.2.0 Ubuntu 24.04 Kernel: 5.15 Compiler: gcc gcc (Ubuntu 13.3.0-6ubuntu2~24.04) 13.3.0 Windows Server 2022 Kernel: 10.0.20348.2031 Compiler: clang 15.0.7, gcc 14.1.0 (MinGW), and MSVC VS 19.39.33521 To view detailed results, visit: https://lab.dpdk.org/results/dashboard/patchsets/33903/ UNH-IOL DPDK Community Lab To manage your email subscriptions, visit: https://lab.dpdk.org/results/dashboard/preferences/subscriptions/