From mboxrd@z Thu Jan 1 00:00:00 1970 Return-Path: Received: from mails.dpdk.org (mails.dpdk.org [217.70.189.124]) by inbox.dpdk.org (Postfix) with ESMTP id 1D4BD46D69 for ; Tue, 19 Aug 2025 20:15:39 +0200 (CEST) Received: from mails.dpdk.org (localhost [127.0.0.1]) by mails.dpdk.org (Postfix) with ESMTP id F2DDB4021E; Tue, 19 Aug 2025 20:15:38 +0200 (CEST) Received: from mail-yw1-f225.google.com (mail-yw1-f225.google.com [209.85.128.225]) by mails.dpdk.org (Postfix) with ESMTP id 90E364021E for ; Tue, 19 Aug 2025 20:15:37 +0200 (CEST) Received: by mail-yw1-f225.google.com with SMTP id 00721157ae682-71d603cebd9so61396047b3.1 for ; Tue, 19 Aug 2025 11:15:37 -0700 (PDT) DKIM-Signature: v=1; a=rsa-sha256; c=relaxed/relaxed; d=iol.unh.edu; s=unh-iol; t=1755627337; x=1756232137; darn=dpdk.org; h=references:in-reply-to:cc:to:from:subject:message-id:date:from:to :cc:subject:date:message-id:reply-to; bh=MdhfKHJfHk3Gf0EL3yHkwPtClRbjJsZymkzaci+SRSM=; b=jwWL0eL2KRC5hU98o3Gy/2Nzw20V9piMAmwIHH+Yh9nbkmhxmLRU8TRE/h1xM5LzNz QeIC4/UZRCyg2c+QgpXIE9wxUxmgfaVLzqNfnRBtrOwHaC5688P1nNj7515vcg01gRSS 6HebiXagRx9G0BaFk6J2Zm4VETz1Jst2YLr5Q= X-Google-DKIM-Signature: v=1; a=rsa-sha256; c=relaxed/relaxed; d=1e100.net; s=20230601; t=1755627337; x=1756232137; h=references:in-reply-to:cc:to:from:subject:message-id:date :x-gm-message-state:from:to:cc:subject:date:message-id:reply-to; bh=MdhfKHJfHk3Gf0EL3yHkwPtClRbjJsZymkzaci+SRSM=; b=sZ/JswvfNF2mXzRRsTlsp1AZHIu63r/UenzVFvesCfdQ6RRDU9oV1N9+oPCippEVys C0aB8E03NQ7iLj2nPNv4A8rxqB1s4M2rcQNIOoulThVEWyjsl1p5lkLoWskkNlYhOklS hcgl75byz15VLdXRXX2n+5HaXx0Cih4Tlk1FwNVtJDKxUndsYCqoxLp4NeUW1P9vYhX4 LCLIS6Db/pLlARglP65NchqR3HZLXUwxUL/tqmxNGgAIIknjisz81/u7ySVEqdl9Tm89 C8ePagXfWfY7iX73gMkFv/rucqtBNFGyWmSq/ZXE8sRImPapx2wKRG7HEP+w7loG6Tbs kvyw== X-Gm-Message-State: AOJu0YyLPH+WRwDS34IcI/ZBA3d3QzRdRBa20kPo595jrItW3AwuN5SI KjhWft/vOWscNG4hsJi5aAyrr04s+wKdq7egscn19Fe2ZCaN1FiVT+qdrnatvalg7Dp+uw2Z8qf mC3JU8iDPwPMyldLOabd5vwHIcZP/fIL33HGgmcM7/buiGDbMVaImDnL67hKT X-Gm-Gg: ASbGncsWVZuFBGofMSS4Q1ekO3wVSBFjWZ+MdnVo0ifdyf9xkeXYDaNQeg94NHAjlHh QgMKc1otws+9gMVO6r79Ikii1n5NF46Bn28arKDHjs7ob34Blp5kyq3AwCT1eykxH6i/tzs5ttq 9r7FOuPU7g/i2xK8fd6pnOZ2vJMgGeKPJu9sTVvJInjaFbhvOHk570xNuDzHkGrQqMXxR00IRzW VjnSikycypLvdZbDPdTKKP9xIBALF0zlO9G1Oa/Kb/M8Q0IzX+6ZRflfEq+WShYeMM+Jv1o+H1R YaxefO9rGoqdRGK3oJppMCxPdaVtopgr1rEvth8c2CeEXmFELQ== X-Google-Smtp-Source: AGHT+IHF1tMSZkhzl0hoPcSY8QOXm+SyZeqbpFGAGggmvmRExgV1uVoIF0QJ6SsZNnMRTkZ9B5hIhwOIKCpZ X-Received: by 2002:a05:690c:2782:b0:70e:923:2173 with SMTP id 00721157ae682-71fb30c5e15mr1865387b3.5.1755627336609; Tue, 19 Aug 2025 11:15:36 -0700 (PDT) Received: from postal.iol.unh.edu (postal.iol.unh.edu. [2606:4100:3880:1234::84]) by smtp-relay.gmail.com with ESMTPS id 00721157ae682-71faf11eda0sm446087b3.4.2025.08.19.11.15.36 (version=TLS1_2 cipher=ECDHE-ECDSA-AES128-GCM-SHA256 bits=128/128); Tue, 19 Aug 2025 11:15:36 -0700 (PDT) X-Relaying-Domain: iol.unh.edu Date: Tue, 19 Aug 2025 11:15:36 -0700 (PDT) Message-ID: <68a4bf48.050a0220.c9ed1.246fSMTPIN_ADDED_MISSING@mx.google.com> Received: from [172.21.0.2] (unknown [172.18.0.240]) by postal.iol.unh.edu (Postfix) with ESMTP id 0B2526051830; Tue, 19 Aug 2025 14:15:36 -0400 (EDT) Subject: |SUCCESS| pw156000-156001 [PATCH] [v3,2/2] virtio: simplify use of p From: dpdklab@iol.unh.edu To: Test Report Cc: dpdk-test-reports@iol.unh.edu In-Reply-To: <20250819112521.1608207-2-bruce.richardson@intel.com> References: <20250819112521.1608207-2-bruce.richardson@intel.com> Content-Type: text/plain X-BeenThere: test-report@dpdk.org X-Mailman-Version: 2.1.29 Precedence: list List-Id: automatic DPDK test reports List-Unsubscribe: , List-Archive: List-Post: List-Help: List-Subscribe: , Errors-To: test-report-bounces@dpdk.org Test-Label: iol-compile-amd64-testing Test-Status: SUCCESS http://dpdk.org/patch/156001 _Testing PASS_ Submitter: Bruce Richardson Date: Tuesday, August 19 2025 11:25:21 DPDK git baseline: Repo:dpdk Branch: master CommitID:38543d33bd47fc0ee21f59db80a8763620741879 156000-156001 --> testing pass Upstream job id: Generic-DPDK-Compile-Meson#418560 Test environment and result as below: +-------------------------------+--------------------+-------------------+------------------+ | Environment | dpdk_meson_compile | dpdk_compile_spdk | dpdk_compile_ovs | +===============================+====================+===================+==================+ | Ubuntu 20.04 | PASS | SKIPPED | SKIPPED | +-------------------------------+--------------------+-------------------+------------------+ | FreeBSD 14.2 | PASS | SKIPPED | SKIPPED | +-------------------------------+--------------------+-------------------+------------------+ | CentOS Stream 9 | PASS | PASS | SKIPPED | +-------------------------------+--------------------+-------------------+------------------+ | CentOS Stream 10 | PASS | SKIPPED | SKIPPED | +-------------------------------+--------------------+-------------------+------------------+ | Fedora Linux 42 | PASS | PASS | PASS | +-------------------------------+--------------------+-------------------+------------------+ | openSUSE Leap 15.6 | PASS | SKIPPED | SKIPPED | +-------------------------------+--------------------+-------------------+------------------+ | Red Hat Enterprise Linux 8.10 | PASS | SKIPPED | SKIPPED | +-------------------------------+--------------------+-------------------+------------------+ | Ubuntu 22.04 | PASS | PASS | SKIPPED | +-------------------------------+--------------------+-------------------+------------------+ | Alpine Linux 3.22.0 | PASS | SKIPPED | SKIPPED | +-------------------------------+--------------------+-------------------+------------------+ | Ubuntu 24.04 | PASS | PASS | PASS | +-------------------------------+--------------------+-------------------+------------------+ | Debian GNU/Linux 12 | PASS | PASS | SKIPPED | +-------------------------------+--------------------+-------------------+------------------+ | Red Hat Enterprise Linux 9.5 | PASS | SKIPPED | SKIPPED | +-------------------------------+--------------------+-------------------+------------------+ Ubuntu 20.04 Kernel: 4.19 Compiler: gcc gcc (Ubuntu 9.4.0-1ubuntu1~20.04.2) 9.4.0 FreeBSD 14.2 Kernel: 14.2-RELEASE Compiler: clang 18.1.6 CentOS Stream 9 Kernel: 5.15 Compiler: gcc gcc (GCC) 11.5.0 20240719 (Red Hat 11.5.0-7) CentOS Stream 10 Kernel: 5.15 Compiler: gcc gcc (GCC) 14.2.1 20250110 (Red Hat 14.2.1-8) Fedora Linux 42 Kernel: 5.15 Compiler: gcc gcc (GCC) 15.1.1 20250521 (Red Hat 15.1.1-2) openSUSE Leap 15.6 Kernel: 5.15 Compiler: gcc gcc (SUSE Linux) 7.5.0 Red Hat Enterprise Linux 8.10 Kernel: 5.15 Compiler: gcc gcc (GCC) 8.5.0 20210514 (Red Hat 8.5.0-22) Ubuntu 22.04 Kernel: 5.15 Compiler: gcc gcc (Ubuntu 11.4.0-1ubuntu1~22.04) 11.4.0 Alpine Linux 3.22.0 Kernel: 5.15 Compiler: gcc gcc (Alpine 14.2.0) 14.2.0 Ubuntu 24.04 Kernel: 5.15 Compiler: gcc gcc (Ubuntu 13.3.0-6ubuntu2~24.04) 13.3.0 Debian GNU/Linux 12 Kernel: 5.15 Compiler: gcc gcc (Debian 12.2.0-14+deb12u1) 12.2.0 Red Hat Enterprise Linux 9.5 Kernel: 5.15 Compiler: gcc gcc (GCC) 11.5.0 20240719 (Red Hat 11.5.0-2) To view detailed results, visit: https://lab.dpdk.org/results/dashboard/patchsets/33905/ UNH-IOL DPDK Community Lab To manage your email subscriptions, visit: https://lab.dpdk.org/results/dashboard/preferences/subscriptions/