From mboxrd@z Thu Jan 1 00:00:00 1970 Return-Path: Received: from mails.dpdk.org (mails.dpdk.org [217.70.189.124]) by inbox.dpdk.org (Postfix) with ESMTP id B9CF146D69 for ; Tue, 19 Aug 2025 20:22:33 +0200 (CEST) Received: from mails.dpdk.org (localhost [127.0.0.1]) by mails.dpdk.org (Postfix) with ESMTP id 90B314021E; Tue, 19 Aug 2025 20:22:33 +0200 (CEST) Received: from mail-io1-f97.google.com (mail-io1-f97.google.com [209.85.166.97]) by mails.dpdk.org (Postfix) with ESMTP id 5A12B4021E for ; Tue, 19 Aug 2025 20:22:32 +0200 (CEST) Received: by mail-io1-f97.google.com with SMTP id ca18e2360f4ac-88432cbf3fbso419565039f.0 for ; Tue, 19 Aug 2025 11:22:32 -0700 (PDT) DKIM-Signature: v=1; a=rsa-sha256; c=relaxed/relaxed; d=iol.unh.edu; s=unh-iol; t=1755627751; x=1756232551; darn=dpdk.org; h=references:in-reply-to:cc:to:from:subject:message-id:date:from:to :cc:subject:date:message-id:reply-to; bh=1XhW0DZqfN5MgB/hv/kiTU5fuicg0KJGtyTxFI7tOBo=; b=PP+7qKOjF8oYi1n1XkNnnjmRipWb1PVq6E1QLjCGBiR8UDXSZ9PJwp28SBOOrgOfWL ZvxrJLHyz2zHzwMku4yBgOjLTOyk3wEM8hTDF/7qUDnziRpOf3I4S4fIZTqlfOvwsd42 XKM+txz3MG2USO4EiVsOh85SddPrXC4fGpcik= X-Google-DKIM-Signature: v=1; a=rsa-sha256; c=relaxed/relaxed; d=1e100.net; s=20230601; t=1755627751; x=1756232551; h=references:in-reply-to:cc:to:from:subject:message-id:date :x-gm-message-state:from:to:cc:subject:date:message-id:reply-to; bh=1XhW0DZqfN5MgB/hv/kiTU5fuicg0KJGtyTxFI7tOBo=; b=xF6uIgWSIlbBVDtss+Elz5heIEPXc4NIJNEJDssINwPSd0cuU9nFZQic4Ec9MUsKC2 TRSoqevQ0OTUXQdSvh+S8ToASM2zyBmgFU/ydqfpfn/MYOHFtjOYFoxCJFSZqXKTDmFI o5U3E5ONSQNvbHHySmDz+dBxDcnyPoW1nO6pxH6IFXeIawMhdpEX3AX4OkjOt0syIeC1 4zqA4mI+GqQ2xHdy475cBaF9lC0V/1CybpKYhzKoc30eFzX1JuH5qU1g274NXrIsyPFu C9YW3mbgd0GvSbCcwSE+zEXWd2IurEJ1j+OjFIPEoQa9LmFdSJ0ETjyQT0MLmZtAH4ln oxQA== X-Gm-Message-State: AOJu0Yz2a/cAb9RTobFM6VDbaZxEGFHSyqhaihwWWahaQ0+KRgP1c8Y2 6ImRd0ECAJFqJ1DYN3oSF8Fk/Rjl/3A/f1idAokDQjD+mU5e8bJOFVbUAE2tcVfFYw3Tk27E9PP LoNxESFgm05eX4LThfi5vHhONUNrYADD3dU1t4QFJ9xFE X-Gm-Gg: ASbGncvpkov6AgMzbq8lUTRW5xIJMmqPnih0/kxEPvaVAzzrWSgy/HBBtQtNWgQmYp+ vcU8ZkMmBhBJdmJQ1drUX+Uc3w1XM9G/uWIw1/hzhyE1pNcGE4FDx9osxaVWjMul7h/aJaMdaQr f/BEtiYZCGABtlj5AjRdKLmgLACd2pT2rp7rG0CKiX6vmWZurrH4GzMrcuTYMQtAJsG/tssL94L cG1jn+Xiy8Pt1n0DleXR9kayVxyZOHEkW8N/TREmKytm4fvGVJFNqQ7WTnr/ilu9vFFrLMMTJs/ Vr/Fxy7N3XZ7Ah7YOn7vORiXF4MI3ChnZ0vvw/s0VbcHhf6PwjAv2pl6FLjD7TyPg7BKiEaa X-Google-Smtp-Source: AGHT+IH3/9V00CptCGrG6wHhoubEeuV+3zi/d+hNbgec/V/TpmMRFyxqW58xFQb13mntQtaOC68RNIaZ0UkC X-Received: by 2002:a05:6e02:380b:b0:3e6:7981:1fdc with SMTP id e9e14a558f8ab-3e67ca4983emr1537675ab.21.1755627751462; Tue, 19 Aug 2025 11:22:31 -0700 (PDT) Received: from postal.iol.unh.edu (postal.iol.unh.edu. [132.177.123.84]) by smtp-relay.gmail.com with ESMTPS id 8926c6da1cb9f-50c948cd2b5sm700594173.2.2025.08.19.11.22.31 (version=TLS1_2 cipher=ECDHE-ECDSA-AES128-GCM-SHA256 bits=128/128); Tue, 19 Aug 2025 11:22:31 -0700 (PDT) X-Relaying-Domain: iol.unh.edu Date: Tue, 19 Aug 2025 11:22:31 -0700 (PDT) Message-ID: <68a4c0e7.050a0220.ab8c4.1e8dSMTPIN_ADDED_MISSING@mx.google.com> Received: from [172.21.0.2] (unknown [172.18.0.240]) by postal.iol.unh.edu (Postfix) with ESMTP id E992D6051830; Tue, 19 Aug 2025 14:22:30 -0400 (EDT) Subject: |SUCCESS| pw155982 [PATCH] [v5,1/1] ethdev: add support to provide l From: dpdklab@iol.unh.edu To: Test Report Cc: dpdk-test-reports@iol.unh.edu In-Reply-To: <20250819055126.2745262-1-skori@marvell.com> References: <20250819055126.2745262-1-skori@marvell.com> Content-Type: text/plain X-BeenThere: test-report@dpdk.org X-Mailman-Version: 2.1.29 Precedence: list List-Id: automatic DPDK test reports List-Unsubscribe: , List-Archive: List-Post: List-Help: List-Subscribe: , Errors-To: test-report-bounces@dpdk.org Test-Label: iol-unit-amd64-testing Test-Status: SUCCESS http://dpdk.org/patch/155982 _Testing PASS_ Submitter: Sunil Kumar Kori Date: Tuesday, August 19 2025 05:51:06 DPDK git baseline: Repo:dpdk Branch: master CommitID:6df5b211fae053219163a3eb301b26198974fb73 155982 --> testing pass Upstream job id: Generic-VM-Unit-Test-DPDK#30602 Test environment and result as below: +-------------------------------+----------------+ | Environment | dpdk_unit_test | +===============================+================+ | Fedora Linux 41 | PASS | +-------------------------------+----------------+ | Debian GNU/Linux 12 | PASS | +-------------------------------+----------------+ | Fedora Linux 40 | PASS | +-------------------------------+----------------+ | CentOS Stream 10 | PASS | +-------------------------------+----------------+ | Fedora Linux 42 | PASS | +-------------------------------+----------------+ | CentOS Stream 9 | PASS | +-------------------------------+----------------+ | Red Hat Enterprise Linux 8.10 | PASS | +-------------------------------+----------------+ | Red Hat Enterprise Linux 9.5 | PASS | +-------------------------------+----------------+ | Ubuntu 22.04 | PASS | +-------------------------------+----------------+ | Ubuntu 20.04 | PASS | +-------------------------------+----------------+ | Ubuntu 24.04 | PASS | +-------------------------------+----------------+ | Windows Server 2022 | PASS | +-------------------------------+----------------+ Fedora Linux 41 Kernel: 5.15 Compiler: clang gcc (GCC) 14.3.1 20250523 (Red Hat 14.3.1-1) Debian GNU/Linux 12 Kernel: 5.15 Compiler: gcc gcc (Debian 12.2.0-14+deb12u1) 12.2.0 Fedora Linux 40 Kernel: 5.15 Compiler: gcc gcc (GCC) 14.2.1 20240912 (Red Hat 14.2.1-3) CentOS Stream 10 Kernel: 5.15 Compiler: gcc gcc (GCC) 14.2.1 20250110 (Red Hat 14.2.1-8) Fedora Linux 42 Kernel: 5.15 Compiler: gcc gcc (GCC) 15.1.1 20250521 (Red Hat 15.1.1-2) CentOS Stream 9 Kernel: 5.15 Compiler: gcc gcc (GCC) 11.5.0 20240719 (Red Hat 11.5.0-7) Red Hat Enterprise Linux 8.10 Kernel: 5.15 Compiler: gcc gcc (GCC) 8.5.0 20210514 (Red Hat 8.5.0-22) Red Hat Enterprise Linux 9.5 Kernel: 5.15 Compiler: gcc gcc (GCC) 11.5.0 20240719 (Red Hat 11.5.0-2) Ubuntu 22.04 Kernel: 5.15 Compiler: gcc gcc (Ubuntu 11.4.0-1ubuntu1~22.04) 11.4.0 Ubuntu 20.04 Kernel: 5.15 Compiler: gcc gcc (Ubuntu 9.4.0-1ubuntu1~20.04.2) 9.4.0 Ubuntu 24.04 Kernel: 5.15 Compiler: gcc gcc (Ubuntu 13.3.0-6ubuntu2~24.04) 13.3.0 Windows Server 2022 Kernel: 10.0.20348.2031 Compiler: clang 15.0.7, gcc 14.1.0 (MinGW), and MSVC VS 19.39.33521 To view detailed results, visit: https://lab.dpdk.org/results/dashboard/patchsets/33902/ UNH-IOL DPDK Community Lab To manage your email subscriptions, visit: https://lab.dpdk.org/results/dashboard/preferences/subscriptions/