From mboxrd@z Thu Jan 1 00:00:00 1970 Return-Path: Received: from mails.dpdk.org (mails.dpdk.org [217.70.189.124]) by inbox.dpdk.org (Postfix) with ESMTP id 4712446D69 for ; Tue, 19 Aug 2025 20:27:32 +0200 (CEST) Received: from mails.dpdk.org (localhost [127.0.0.1]) by mails.dpdk.org (Postfix) with ESMTP id 1C5864021E; Tue, 19 Aug 2025 20:27:32 +0200 (CEST) Received: from mail-pl1-f226.google.com (mail-pl1-f226.google.com [209.85.214.226]) by mails.dpdk.org (Postfix) with ESMTP id C52774021E for ; Tue, 19 Aug 2025 20:27:30 +0200 (CEST) Received: by mail-pl1-f226.google.com with SMTP id d9443c01a7336-24458317464so63772955ad.3 for ; Tue, 19 Aug 2025 11:27:30 -0700 (PDT) DKIM-Signature: v=1; a=rsa-sha256; c=relaxed/relaxed; d=iol.unh.edu; s=unh-iol; t=1755628050; x=1756232850; darn=dpdk.org; h=references:in-reply-to:cc:to:from:subject:message-id:date:from:to :cc:subject:date:message-id:reply-to; bh=D5q14ugqM3TjdnPKionlsJ71wLAhU0knroQmKpAWmfk=; b=QW3Uox+tCE4reXmhCplI95kMUk1l+Y5h5bvxPxwOlD5AlOGkSaawYQlQ5BExqqiDEV Ay9zi5qw6hhXAg23DfhyWxiE5tLjaW6u3eig4sAZmkC3x4p4zx/y1uK+9SjrSJ5lIVV7 odWTuZs6ggJ3hwvRSHJrUGIEw7rElAUXlS3n4= X-Google-DKIM-Signature: v=1; a=rsa-sha256; c=relaxed/relaxed; d=1e100.net; s=20230601; t=1755628050; x=1756232850; h=references:in-reply-to:cc:to:from:subject:message-id:date :x-gm-message-state:from:to:cc:subject:date:message-id:reply-to; bh=D5q14ugqM3TjdnPKionlsJ71wLAhU0knroQmKpAWmfk=; b=vjrk18R/YpiHgs+JNGvRKHiB4EAb1ftdCG9KqQPmMdftoeo7fS0o9bpOa01al734HH 2/hpGUkULcHFnH9c2qchijd0TIoZSWCt7iCg7lNmWleNq5tHHJGcLaKVvu8vqdYZbZrb CGAarW4ffldyC26uDn5Jv0pdnPkFQbjah2MbRYFveabLR6rDA8o3qzZwhF5jRMT9ygNr 7Nnmqc6YG1WdQ66FTf42Av+IX1CCi6bXxhzmzFX8Hgfd1z5B9OhVXSXI+Zzx4eGCkJJN Cey7TpTyWLLrNdOb/FdnoPpRKXSNCncM2a13fGBqgHLI3FlhCHf2C5rMh95CUwYfg0vg rgfw== X-Gm-Message-State: AOJu0Yw67t6Tn5T5PvGOWF/5dN3vBDOdvW1nG7JtAqmPwzs1Ih2BqYb4 vrlwEMxZgLiZrtn7k6tdOjds+pMRAjJ8Vu4TqCLjaKTbl2m7XvFaFtF/4lj5g/EC+IbxF2NV4Xt PJTcaVF1sq+Neek/xkQBduQIe4NX2Em9LqDMEqS9fX+er X-Gm-Gg: ASbGnctbtRqbhzPQSK0SBe3rdm2lzkfo9z7Ptfe4+3L48QzxfZceqviDru8XTlgMyMZ aTBtDNuyZd7N8rs07VD1zwK5vhvYntfBg0zRAYpaJNYz/4V6pRDnlwEpLI45q2T3x3bGVOCju3Z QjOhcVSEHteQejXjt6etfzQpZKFjFEC/5Gj087RaDwZFysnowasU9TSAN4oNZcKVvaPyUcbvF1o UFNHnz3+oCbCn3edoiQPX8HfI+Do+qRXjEME9TGbHe4cv6BHsjGpzxXYXzyQ4LclB0h9x8SJUmP CPFoUuANZx2Nfa979WMfEMl0smyE+WK6x5gscvTiitEalP3DbLJEtb4Zh0uoNJ2oVOAl78wF X-Google-Smtp-Source: AGHT+IFSkk+NCOCHhPjBxLQhGdD8B4B4CVYVezjO/av6gqA+j7IpyplJD8QumBgPmthXDTuNGxrHWyaH3zjW X-Received: by 2002:a17:902:da88:b0:240:99f7:6c10 with SMTP id d9443c01a7336-245ef0c99a2mr68035ad.1.1755628049843; Tue, 19 Aug 2025 11:27:29 -0700 (PDT) Received: from postal.iol.unh.edu (postal.iol.unh.edu. [132.177.123.84]) by smtp-relay.gmail.com with ESMTPS id d9443c01a7336-245ed4ae05bsm366615ad.76.2025.08.19.11.27.29 (version=TLS1_2 cipher=ECDHE-ECDSA-AES128-GCM-SHA256 bits=128/128); Tue, 19 Aug 2025 11:27:29 -0700 (PDT) X-Relaying-Domain: iol.unh.edu Date: Tue, 19 Aug 2025 11:27:29 -0700 (PDT) Message-ID: <68a4c211.170a0220.31e678.1fe2SMTPIN_ADDED_MISSING@mx.google.com> Received: from [172.21.0.3] (unknown [172.18.0.240]) by postal.iol.unh.edu (Postfix) with ESMTP id ECA4E604D420; Tue, 19 Aug 2025 14:27:28 -0400 (EDT) Subject: |SUCCESS| pw155982 [PATCH] [v5,1/1] ethdev: add support to provide l From: dpdklab@iol.unh.edu To: Test Report Cc: dpdk-test-reports@iol.unh.edu In-Reply-To: <20250819055126.2745262-1-skori@marvell.com> References: <20250819055126.2745262-1-skori@marvell.com> Content-Type: text/plain X-BeenThere: test-report@dpdk.org X-Mailman-Version: 2.1.29 Precedence: list List-Id: automatic DPDK test reports List-Unsubscribe: , List-Archive: List-Post: List-Help: List-Subscribe: , Errors-To: test-report-bounces@dpdk.org Test-Label: iol-compile-amd64-testing Test-Status: SUCCESS http://dpdk.org/patch/155982 _Testing PASS_ Submitter: Sunil Kumar Kori Date: Tuesday, August 19 2025 05:51:06 DPDK git baseline: Repo:dpdk Branch: master CommitID:6df5b211fae053219163a3eb301b26198974fb73 155982 --> testing pass Upstream job id: Windows-Compile-DPDK-Native#30436 Test environment and result as below: +-------------------------------+--------------------+------------------+-------------------+-------------------+-------------------------+ | Environment | dpdk_meson_compile | dpdk_compile_ovs | dpdk_compile_spdk | dpdk_msvc_compile | dpdk_llvm_clang_compile | +===============================+====================+==================+===================+===================+=========================+ | Fedora Linux 42 | PASS | PASS | PASS | SKIPPED | SKIPPED | +-------------------------------+--------------------+------------------+-------------------+-------------------+-------------------------+ | openSUSE Leap 15.6 | PASS | SKIPPED | SKIPPED | SKIPPED | SKIPPED | +-------------------------------+--------------------+------------------+-------------------+-------------------+-------------------------+ | Ubuntu 22.04 | PASS | SKIPPED | PASS | SKIPPED | SKIPPED | +-------------------------------+--------------------+------------------+-------------------+-------------------+-------------------------+ | Ubuntu 24.04 | PASS | PASS | PASS | SKIPPED | SKIPPED | +-------------------------------+--------------------+------------------+-------------------+-------------------+-------------------------+ | Red Hat Enterprise Linux 9.5 | PASS | SKIPPED | SKIPPED | SKIPPED | SKIPPED | +-------------------------------+--------------------+------------------+-------------------+-------------------+-------------------------+ | Ubuntu 20.04 | PASS | SKIPPED | SKIPPED | SKIPPED | SKIPPED | +-------------------------------+--------------------+------------------+-------------------+-------------------+-------------------------+ | FreeBSD 14.2 | PASS | SKIPPED | SKIPPED | SKIPPED | SKIPPED | +-------------------------------+--------------------+------------------+-------------------+-------------------+-------------------------+ | CentOS Stream 9 | PASS | SKIPPED | PASS | SKIPPED | SKIPPED | +-------------------------------+--------------------+------------------+-------------------+-------------------+-------------------------+ | Alpine Linux 3.22.0 | PASS | SKIPPED | SKIPPED | SKIPPED | SKIPPED | +-------------------------------+--------------------+------------------+-------------------+-------------------+-------------------------+ | Debian GNU/Linux 12 | PASS | SKIPPED | PASS | SKIPPED | SKIPPED | +-------------------------------+--------------------+------------------+-------------------+-------------------+-------------------------+ | CentOS Stream 10 | PASS | SKIPPED | SKIPPED | SKIPPED | SKIPPED | +-------------------------------+--------------------+------------------+-------------------+-------------------+-------------------------+ | Red Hat Enterprise Linux 8.10 | PASS | SKIPPED | SKIPPED | SKIPPED | SKIPPED | +-------------------------------+--------------------+------------------+-------------------+-------------------+-------------------------+ | Windows Server 2022 | SKIPPED | SKIPPED | SKIPPED | PASS | PASS | +-------------------------------+--------------------+------------------+-------------------+-------------------+-------------------------+ Fedora Linux 42 Kernel: 5.15 Compiler: clang gcc (GCC) 15.1.1 20250521 (Red Hat 15.1.1-2) openSUSE Leap 15.6 Kernel: 5.15 Compiler: gcc gcc (SUSE Linux) 7.5.0 Ubuntu 22.04 Kernel: 5.15 Compiler: gcc gcc (Ubuntu 11.4.0-1ubuntu1~22.04) 11.4.0 Ubuntu 24.04 Kernel: 5.15 Compiler: gcc gcc (Ubuntu 13.3.0-6ubuntu2~24.04) 13.3.0 Red Hat Enterprise Linux 9.5 Kernel: 5.15 Compiler: gcc gcc (GCC) 11.5.0 20240719 (Red Hat 11.5.0-2) Ubuntu 20.04 Kernel: 5.15 Compiler: gcc gcc (Ubuntu 9.4.0-1ubuntu1~20.04.2) 9.4.0 FreeBSD 14.2 Kernel: 14.2-RELEASE Compiler: clang 18.1.6 CentOS Stream 9 Kernel: 5.15 Compiler: gcc gcc (GCC) 11.5.0 20240719 (Red Hat 11.5.0-7) Alpine Linux 3.22.0 Kernel: 5.15 Compiler: gcc gcc (Alpine 14.2.0) 14.2.0 Debian GNU/Linux 12 Kernel: 5.15 Compiler: gcc gcc (Debian 12.2.0-14+deb12u1) 12.2.0 CentOS Stream 10 Kernel: 5.15 Compiler: gcc gcc (GCC) 14.2.1 20250110 (Red Hat 14.2.1-8) Red Hat Enterprise Linux 8.10 Kernel: 5.15 Compiler: gcc gcc (GCC) 8.5.0 20210514 (Red Hat 8.5.0-22) Windows Server 2022 Kernel: 10.0.20348.2031 Compiler: clang 15.0.7, gcc 14.1.0 (MinGW), and MSVC VS 19.39.33521 To view detailed results, visit: https://lab.dpdk.org/results/dashboard/patchsets/33902/ UNH-IOL DPDK Community Lab To manage your email subscriptions, visit: https://lab.dpdk.org/results/dashboard/preferences/subscriptions/