From mboxrd@z Thu Jan 1 00:00:00 1970 Return-Path: Received: from mails.dpdk.org (mails.dpdk.org [217.70.189.124]) by inbox.dpdk.org (Postfix) with ESMTP id 3433C46D69 for ; Tue, 19 Aug 2025 20:38:42 +0200 (CEST) Received: from mails.dpdk.org (localhost [127.0.0.1]) by mails.dpdk.org (Postfix) with ESMTP id 0B5D34021E; Tue, 19 Aug 2025 20:38:42 +0200 (CEST) Received: from mail-yw1-f228.google.com (mail-yw1-f228.google.com [209.85.128.228]) by mails.dpdk.org (Postfix) with ESMTP id 5659F4021E for ; Tue, 19 Aug 2025 20:38:41 +0200 (CEST) Received: by mail-yw1-f228.google.com with SMTP id 00721157ae682-71d6051aeafso47063347b3.2 for ; Tue, 19 Aug 2025 11:38:41 -0700 (PDT) DKIM-Signature: v=1; a=rsa-sha256; c=relaxed/relaxed; d=iol.unh.edu; s=unh-iol; t=1755628720; x=1756233520; darn=dpdk.org; h=references:in-reply-to:cc:to:from:subject:message-id:date:from:to :cc:subject:date:message-id:reply-to; bh=8uuZiTZk4CygtkBwrj9LX1o3dfC57cgigHXWKGcWGUA=; b=N/Cu2H2ajMqB6X6Fal0tYJv0A41BhKUZ+R4Gu5uxOLg04BRehFbd+USuT69osuyuj7 JRcZjz/wOFnRk+U6kHA9C4HqyZlQUAlQQNTlaTduA0yiCHVjKCqQQ3zBF47PVmnac6Xq nSWrsXrGq4HsM7Vl0k7Mlys7SNGrmuI1s6X1M= X-Google-DKIM-Signature: v=1; a=rsa-sha256; c=relaxed/relaxed; d=1e100.net; s=20230601; t=1755628720; x=1756233520; h=references:in-reply-to:cc:to:from:subject:message-id:date :x-gm-message-state:from:to:cc:subject:date:message-id:reply-to; bh=8uuZiTZk4CygtkBwrj9LX1o3dfC57cgigHXWKGcWGUA=; b=AQocWPUwAHouUpdJXXh9VELhZBJZj1CsWw0eU1m6NZxyheJ/U3AiCzpi99jE1BVIdx G10ncu/UEcpUOvf6Ro7Ktr9ALDJXgjBJ6RS0qT1Heem8N7JCm0YNu7BY8+Hsk+/Kfm9E OYSfMZC0MmNPGInGeMnwVj0BGMAjDfcBGJiRdvwjvfx5u3FTA6AErVef8jcFapQtY2ma fz5DHRqfGrkj7LesAUNRmJ7Umslj3ioicUrr0TFeWia2ysjFIncBkGBDW2SlM7XNSRM7 ZWcYfJHPFHsQJK9S+xXoqh1eS6WVAG1RPM7nR08c1Fwxfz5GXLWxuFnmLWnpfMPTeT4T i/cA== X-Gm-Message-State: AOJu0Yz6wmpNr4mxvHzdkOk+KG0SC5guWCrp3/SCCsHpzyBArK5GIV9t IvtvQGo8tfEIZySF+t0Pu0nmj2sTK9QrpLPkr910ic2t/ZzjgYdoSrw36rzVUefw1Epg+811gjJ SZT+oCC298B15ccrW9sNmfNDses7mW/zms/1tXwqlLIYFh+rQ7RTe+cL7m8oX X-Gm-Gg: ASbGnctL51q2TV38WOWQsKnFiVtTE7/mVGBCiroXnNgHnrE5t8zF8ZrDwASF0AEhTcO jVx7qF5CIWiQBGO//Pbb3VQ0GQnP1PHc35KxKUb0rdc/utGYoGcLJy0JewIXFa2ze9/aDYC1gjh wSH8A3Tn69N76gwPoiolTPj8eupLob7g65tSqOR6mlw/VezFL08IiIYzKX35uMYbSBhVe5KoKwB loqbfcQ3aiwZ3W8G+AIh6BMWMYjOTE/SzMUl+Nr4XUs+U+HN86yJr7ONOpvkKMRK9zzNqoqwvMY bXUtQO6zVa3LGT9MrjkWlwfROGS7C/jBU3v1hBN60yv+2YkRsA== X-Google-Smtp-Source: AGHT+IHKQ9+FglyPqhQ4eS+JG4PaF6D3bsyX6t3Q9m+BtPjAkij4/NxBf6IBplmvbyxyLAFWirQBFM+aWzqq X-Received: by 2002:a05:690c:4b8c:b0:71c:8de:8846 with SMTP id 00721157ae682-71fb30b80c9mr2546457b3.6.1755628720640; Tue, 19 Aug 2025 11:38:40 -0700 (PDT) Received: from postal.iol.unh.edu (postal.iol.unh.edu. [2606:4100:3880:1234::84]) by smtp-relay.gmail.com with ESMTPS id 00721157ae682-71e71945189sm8519987b3.33.2025.08.19.11.38.40 (version=TLS1_2 cipher=ECDHE-ECDSA-AES128-GCM-SHA256 bits=128/128); Tue, 19 Aug 2025 11:38:40 -0700 (PDT) X-Relaying-Domain: iol.unh.edu Date: Tue, 19 Aug 2025 11:38:40 -0700 (PDT) Message-ID: <68a4c4b0.050a0220.5072f.a080SMTPIN_ADDED_MISSING@mx.google.com> Received: from [172.21.0.3] (unknown [172.18.0.240]) by postal.iol.unh.edu (Postfix) with ESMTP id 5003F604D420; Tue, 19 Aug 2025 14:38:40 -0400 (EDT) Subject: |SUCCESS| pw156000-156001 [PATCH] [v3,2/2] virtio: simplify use of p From: dpdklab@iol.unh.edu To: Test Report Cc: dpdk-test-reports@iol.unh.edu In-Reply-To: <20250819112521.1608207-2-bruce.richardson@intel.com> References: <20250819112521.1608207-2-bruce.richardson@intel.com> Content-Type: text/plain X-BeenThere: test-report@dpdk.org X-Mailman-Version: 2.1.29 Precedence: list List-Id: automatic DPDK test reports List-Unsubscribe: , List-Archive: List-Post: List-Help: List-Subscribe: , Errors-To: test-report-bounces@dpdk.org Test-Label: iol-compile-amd64-testing Test-Status: SUCCESS http://dpdk.org/patch/156001 _Testing PASS_ Submitter: Bruce Richardson Date: Tuesday, August 19 2025 11:25:21 DPDK git baseline: Repo:dpdk Branch: master CommitID:38543d33bd47fc0ee21f59db80a8763620741879 156000-156001 --> testing pass Upstream job id: Windows-Compile-DPDK-VS#6660 Test environment and result as below: +-------------------------------+--------------------+-------------------+------------------+-------------------+ | Environment | dpdk_meson_compile | dpdk_compile_spdk | dpdk_compile_ovs | dpdk_msvc_compile | +===============================+====================+===================+==================+===================+ | Ubuntu 20.04 | PASS | SKIPPED | SKIPPED | SKIPPED | +-------------------------------+--------------------+-------------------+------------------+-------------------+ | FreeBSD 14.2 | PASS | SKIPPED | SKIPPED | SKIPPED | +-------------------------------+--------------------+-------------------+------------------+-------------------+ | CentOS Stream 9 | PASS | PASS | SKIPPED | SKIPPED | +-------------------------------+--------------------+-------------------+------------------+-------------------+ | CentOS Stream 10 | PASS | SKIPPED | SKIPPED | SKIPPED | +-------------------------------+--------------------+-------------------+------------------+-------------------+ | Fedora Linux 42 | PASS | PASS | PASS | SKIPPED | +-------------------------------+--------------------+-------------------+------------------+-------------------+ | openSUSE Leap 15.6 | PASS | SKIPPED | SKIPPED | SKIPPED | +-------------------------------+--------------------+-------------------+------------------+-------------------+ | Red Hat Enterprise Linux 8.10 | PASS | SKIPPED | SKIPPED | SKIPPED | +-------------------------------+--------------------+-------------------+------------------+-------------------+ | Ubuntu 22.04 | PASS | PASS | SKIPPED | SKIPPED | +-------------------------------+--------------------+-------------------+------------------+-------------------+ | Alpine Linux 3.22.0 | PASS | SKIPPED | SKIPPED | SKIPPED | +-------------------------------+--------------------+-------------------+------------------+-------------------+ | Ubuntu 24.04 | PASS | PASS | PASS | SKIPPED | +-------------------------------+--------------------+-------------------+------------------+-------------------+ | Debian GNU/Linux 12 | PASS | PASS | SKIPPED | SKIPPED | +-------------------------------+--------------------+-------------------+------------------+-------------------+ | Red Hat Enterprise Linux 9.5 | PASS | SKIPPED | SKIPPED | SKIPPED | +-------------------------------+--------------------+-------------------+------------------+-------------------+ | Windows Server 2022 | SKIPPED | SKIPPED | SKIPPED | PASS | +-------------------------------+--------------------+-------------------+------------------+-------------------+ Ubuntu 20.04 Kernel: 4.19 Compiler: gcc gcc (Ubuntu 9.4.0-1ubuntu1~20.04.2) 9.4.0 FreeBSD 14.2 Kernel: 14.2-RELEASE Compiler: clang 18.1.6 CentOS Stream 9 Kernel: 5.15 Compiler: gcc gcc (GCC) 11.5.0 20240719 (Red Hat 11.5.0-7) CentOS Stream 10 Kernel: 5.15 Compiler: gcc gcc (GCC) 14.2.1 20250110 (Red Hat 14.2.1-8) Fedora Linux 42 Kernel: 5.15 Compiler: gcc gcc (GCC) 15.1.1 20250521 (Red Hat 15.1.1-2) openSUSE Leap 15.6 Kernel: 5.15 Compiler: gcc gcc (SUSE Linux) 7.5.0 Red Hat Enterprise Linux 8.10 Kernel: 5.15 Compiler: gcc gcc (GCC) 8.5.0 20210514 (Red Hat 8.5.0-22) Ubuntu 22.04 Kernel: 5.15 Compiler: gcc gcc (Ubuntu 11.4.0-1ubuntu1~22.04) 11.4.0 Alpine Linux 3.22.0 Kernel: 5.15 Compiler: gcc gcc (Alpine 14.2.0) 14.2.0 Ubuntu 24.04 Kernel: 5.15 Compiler: gcc gcc (Ubuntu 13.3.0-6ubuntu2~24.04) 13.3.0 Debian GNU/Linux 12 Kernel: 5.15 Compiler: gcc gcc (Debian 12.2.0-14+deb12u1) 12.2.0 Red Hat Enterprise Linux 9.5 Kernel: 5.15 Compiler: gcc gcc (GCC) 11.5.0 20240719 (Red Hat 11.5.0-2) Windows Server 2022 Kernel: 10.0.20348.2031 Compiler: clang 15.0.7, gcc 14.1.0 (MinGW), and MSVC VS 19.39.33521 To view detailed results, visit: https://lab.dpdk.org/results/dashboard/patchsets/33905/ UNH-IOL DPDK Community Lab To manage your email subscriptions, visit: https://lab.dpdk.org/results/dashboard/preferences/subscriptions/