From mboxrd@z Thu Jan 1 00:00:00 1970 Return-Path: Received: from mails.dpdk.org (mails.dpdk.org [217.70.189.124]) by inbox.dpdk.org (Postfix) with ESMTP id 4077046D69 for ; Tue, 19 Aug 2025 20:46:54 +0200 (CEST) Received: from mails.dpdk.org (localhost [127.0.0.1]) by mails.dpdk.org (Postfix) with ESMTP id 1424E402DD; Tue, 19 Aug 2025 20:46:54 +0200 (CEST) Received: from mail-oa1-f98.google.com (mail-oa1-f98.google.com [209.85.160.98]) by mails.dpdk.org (Postfix) with ESMTP id 12268402DD for ; Tue, 19 Aug 2025 20:46:53 +0200 (CEST) Received: by mail-oa1-f98.google.com with SMTP id 586e51a60fabf-30cceb3be82so4602852fac.2 for ; Tue, 19 Aug 2025 11:46:53 -0700 (PDT) DKIM-Signature: v=1; a=rsa-sha256; c=relaxed/relaxed; d=iol.unh.edu; s=unh-iol; t=1755629212; x=1756234012; darn=dpdk.org; h=references:in-reply-to:cc:to:from:subject:message-id:date:from:to :cc:subject:date:message-id:reply-to; bh=Vdf3FwZvyGn0/broh9y8Nlz+kASzdHX+r5FBIuR5hyA=; b=Uuqpurb/mkiwaSGgRsLcmwvFOpWI4mXk1siTJVCxuzl5YFy+4yX2oogRBqogo/dAl7 ENgNupjUXXi+tx7JSmDL0cjzWXQ5LPHcGNgUgQR3RYgS4oPHulY475iM6ZIqLFyiHsVr IhQjAObvA1bbl484ov96JXwY3IDFAbe5AbA3U= X-Google-DKIM-Signature: v=1; a=rsa-sha256; c=relaxed/relaxed; d=1e100.net; s=20230601; t=1755629212; x=1756234012; h=references:in-reply-to:cc:to:from:subject:message-id:date :x-gm-message-state:from:to:cc:subject:date:message-id:reply-to; bh=Vdf3FwZvyGn0/broh9y8Nlz+kASzdHX+r5FBIuR5hyA=; b=pAM0medumeb8VtIfDQ8HwgADAg3zQdzFFMZ+IU0+9ygxssWZcHafTLlbQkBj+mMpGC 8N72uhB6FfHAVLEIvWlNvOFIjpMBAuoNaNC6b9I004apie06BaDfuFSIiZjfHgLxEer9 IwNMObvEPtGSBDnnGZr7r0xxyc7/H6gJZMV0iFgeXg6o4KVv0bSVCorUfO5prxdKyDd9 h22YcEB2lBhYZLmoU3ebXTkmuYHBo5sKTaoGYUqSOK4qZjE/qUwYvZEDFp57ubytN9JD pctzW9S9UM0/+NrhiyiNzRnhNh+saxgUw9jvq1ePRLqRnuIIKPeKc8zQvCvMc0yiMBvs 4vFQ== X-Gm-Message-State: AOJu0Yy7MvwpzwYWpcgCSESa0gD5DMQS3/eMunyf3HKk0v9VJJzto+M3 fP2sCaPTuEXKRfFRDt7HW2IoAvDDySWGIL2RXI9sNqtzb8A7IMBPQ6Lbz898/whgdb+DTQPQFX1 T/RNyOh64WZoMN+Y7dqgUKGTsgBXQTy0TbQ4FxvrGTlRr X-Gm-Gg: ASbGncu87VzdISoUEVBQ3TXQy0nT2YYoDvL/7iiMHilf7pp8PJ+J6JRKmNXbzb5RhiN 47rYwmsSc3qJ3BtHDYYpntMz95RQphciTXfXcaos1VdfPUeooYLjZTSfUqVxRL4EvwddLt6ZnKk w3s9RVZUkM8t4jCabP0Jw9gCGxsTYdEgiGFggxBw4vYpdliU6cVYr4rzvaU2iY/ZDX0K9oHdn92 IftJk5N5DX9vIMmmqx9QKsIi86KnqAjeR1rbqiRTYAHrwOADolGWEGb2NVHps5AkaVoI6l883/K PKMXayNilb6sk7HT0eEMNulM9gFrgtlOwUhaJHkHS7YYPL59rVQk+wL525Fg/nSPiDX1r9B+ X-Google-Smtp-Source: AGHT+IGVbI5YayhV56zBHzR5hQhMrujg5UYQefrACLe2bWR8j8KcErw/TeugE2N8HE14pMy98aUGcX7nGtRz X-Received: by 2002:a05:6870:d893:b0:308:fc2b:b7b with SMTP id 586e51a60fabf-31122a498d1mr54738fac.44.1755629212292; Tue, 19 Aug 2025 11:46:52 -0700 (PDT) Received: from postal.iol.unh.edu (postal.iol.unh.edu. [132.177.123.84]) by smtp-relay.gmail.com with ESMTPS id 586e51a60fabf-310abc6bc83sm1241863fac.27.2025.08.19.11.46.52 (version=TLS1_2 cipher=ECDHE-ECDSA-AES128-GCM-SHA256 bits=128/128); Tue, 19 Aug 2025 11:46:52 -0700 (PDT) X-Relaying-Domain: iol.unh.edu Date: Tue, 19 Aug 2025 11:46:52 -0700 (PDT) Message-ID: <68a4c69c.050a0220.245cc8.d4ffSMTPIN_ADDED_MISSING@mx.google.com> Received: from [172.21.0.2] (unknown [172.18.0.240]) by postal.iol.unh.edu (Postfix) with ESMTP id C830E604D420; Tue, 19 Aug 2025 14:46:51 -0400 (EDT) Subject: |SUCCESS| pw155982 [PATCH] [v5,1/1] ethdev: add support to provide l From: dpdklab@iol.unh.edu To: Test Report Cc: dpdk-test-reports@iol.unh.edu In-Reply-To: <20250819055126.2745262-1-skori@marvell.com> References: <20250819055126.2745262-1-skori@marvell.com> Content-Type: text/plain X-BeenThere: test-report@dpdk.org X-Mailman-Version: 2.1.29 Precedence: list List-Id: automatic DPDK test reports List-Unsubscribe: , List-Archive: List-Post: List-Help: List-Subscribe: , Errors-To: test-report-bounces@dpdk.org Test-Label: iol-unit-amd64-testing Test-Status: SUCCESS http://dpdk.org/patch/155982 _Testing PASS_ Submitter: Sunil Kumar Kori Date: Tuesday, August 19 2025 05:51:06 DPDK git baseline: Repo:dpdk Branch: master CommitID:6df5b211fae053219163a3eb301b26198974fb73 155982 --> testing pass Upstream job id: Generic-VM-Unit-Test-DPDK#30603 Test environment and result as below: +-------------------------------+----------------+ | Environment | dpdk_unit_test | +===============================+================+ | CentOS Stream 9 | PASS | +-------------------------------+----------------+ | Fedora Linux 40 | PASS | +-------------------------------+----------------+ | CentOS Stream 10 | PASS | +-------------------------------+----------------+ | Debian GNU/Linux 12 | PASS | +-------------------------------+----------------+ | Fedora Linux 41 | PASS | +-------------------------------+----------------+ | Fedora Linux 42 | PASS | +-------------------------------+----------------+ | Red Hat Enterprise Linux 9.5 | PASS | +-------------------------------+----------------+ | Ubuntu 22.04 | PASS | +-------------------------------+----------------+ | Red Hat Enterprise Linux 8.10 | PASS | +-------------------------------+----------------+ | Ubuntu 20.04 | PASS | +-------------------------------+----------------+ | Ubuntu 24.04 | PASS | +-------------------------------+----------------+ | Windows Server 2022 | PASS | +-------------------------------+----------------+ CentOS Stream 9 Kernel: 5.15 Compiler: gcc gcc (GCC) 11.5.0 20240719 (Red Hat 11.5.0-7) Fedora Linux 40 Kernel: 5.15 Compiler: gcc gcc (GCC) 14.2.1 20240912 (Red Hat 14.2.1-3) CentOS Stream 10 Kernel: 5.15 Compiler: gcc gcc (GCC) 14.2.1 20250110 (Red Hat 14.2.1-8) Debian GNU/Linux 12 Kernel: 5.15 Compiler: gcc gcc (Debian 12.2.0-14+deb12u1) 12.2.0 Fedora Linux 41 Kernel: 5.15 Compiler: gcc gcc (GCC) 14.3.1 20250523 (Red Hat 14.3.1-1) Fedora Linux 42 Kernel: 5.15 Compiler: gcc gcc (GCC) 15.1.1 20250521 (Red Hat 15.1.1-2) Red Hat Enterprise Linux 9.5 Kernel: 5.15 Compiler: gcc gcc (GCC) 11.5.0 20240719 (Red Hat 11.5.0-2) Ubuntu 22.04 Kernel: 5.15 Compiler: gcc gcc (Ubuntu 11.4.0-1ubuntu1~22.04) 11.4.0 Red Hat Enterprise Linux 8.10 Kernel: 5.15 Compiler: gcc gcc (GCC) 8.5.0 20210514 (Red Hat 8.5.0-22) Ubuntu 20.04 Kernel: 5.15 Compiler: gcc gcc (Ubuntu 9.4.0-1ubuntu1~20.04.2) 9.4.0 Ubuntu 24.04 Kernel: 5.15 Compiler: gcc gcc (Ubuntu 13.3.0-6ubuntu2~24.04) 13.3.0 Windows Server 2022 Kernel: 10.0.20348.2031 Compiler: clang 15.0.7, gcc 14.1.0 (MinGW), and MSVC VS 19.39.33521 To view detailed results, visit: https://lab.dpdk.org/results/dashboard/patchsets/33902/ UNH-IOL DPDK Community Lab To manage your email subscriptions, visit: https://lab.dpdk.org/results/dashboard/preferences/subscriptions/