From mboxrd@z Thu Jan 1 00:00:00 1970 Return-Path: Received: from mails.dpdk.org (mails.dpdk.org [217.70.189.124]) by inbox.dpdk.org (Postfix) with ESMTP id C0D7346D69 for ; Tue, 19 Aug 2025 20:52:08 +0200 (CEST) Received: from mails.dpdk.org (localhost [127.0.0.1]) by mails.dpdk.org (Postfix) with ESMTP id 9EABD402DD; Tue, 19 Aug 2025 20:52:08 +0200 (CEST) Received: from mail-pl1-f228.google.com (mail-pl1-f228.google.com [209.85.214.228]) by mails.dpdk.org (Postfix) with ESMTP id 726C0402DD for ; Tue, 19 Aug 2025 20:52:07 +0200 (CEST) Received: by mail-pl1-f228.google.com with SMTP id d9443c01a7336-24458195495so36519105ad.2 for ; Tue, 19 Aug 2025 11:52:07 -0700 (PDT) DKIM-Signature: v=1; a=rsa-sha256; c=relaxed/relaxed; d=iol.unh.edu; s=unh-iol; t=1755629526; x=1756234326; darn=dpdk.org; h=references:in-reply-to:cc:to:from:subject:message-id:date:from:to :cc:subject:date:message-id:reply-to; bh=45jSzthuAaME2bPh8QCkwprx6Pq7F9moyuDc0E5jufw=; b=hSRrkhtm079QhGfgKQYKngqr9mTTQz8j1DlcM/K4ghtz9WEutxbyugj3Io7DBmz8Jy lo/bZivKcrceLXLEf6qagBEAUoAZPPVpwcqsNfV856uTTte5jAmLnSRFP1sAJeStas1W jSftPhgI0mZFXJ0olgkQROkT9VOh+5kerUTIg= X-Google-DKIM-Signature: v=1; a=rsa-sha256; c=relaxed/relaxed; d=1e100.net; s=20230601; t=1755629526; x=1756234326; h=references:in-reply-to:cc:to:from:subject:message-id:date :x-gm-message-state:from:to:cc:subject:date:message-id:reply-to; bh=45jSzthuAaME2bPh8QCkwprx6Pq7F9moyuDc0E5jufw=; b=MI99W/hiWWYVE5g5fMeHcS2rXx2fESwXQ+c+KRBaf6qEKyVJXl7aYQE1H1i56f/BOT DR+2pi4SwXcLY7zQxGCU6lYDBgc6m4TXxWFI0g38pIcLmqZgIBjlWFUQy9F2THx9p2Wb zTuF409J9PW0d3dkC+ogn3r/cpw+YPz1ylE4fReWVq9W0Rx6gOXwJXHNBPN0BwAYGEK5 vpCdJMJSA1xUxuLcC0uEVfRyYHdcdfZx7U34uZWIgWRbtsQ3lHw4HytWpAoFG9x0gxpj T/8Dl7eTEECsUepy1Vu3LUKCSI9YvAK+MGfQvdmkCeia7RJw9gVpUErMwy1keNqfnr2g nPcw== X-Gm-Message-State: AOJu0YxM8unIVBaR/bE/jgkdKnRYWHI2bwPOytg0N475ucbtGvsdhSbm SDsPcuqydWYJLXeHk6gFJdDEouBBgihkBW9A4Q3FaLmbff0dghdyCCNRaeO49srJp22Llqz2/YQ XPln8oNw6R7lJVW4FjQ3yQh2jOsc0sCjhou7bzjjjJfl4 X-Gm-Gg: ASbGnct3Q9Fs9ZNT4di/j7AI9esSLr9g2lYah4q7jA1N/3rfsSf5vIbSBiAhD3S1dzS 3K7jAU98NxWZJ2aQf+Q7GZhv3BOvOaWBmcjHWpCvj0LjG1tyxK6u4Kb96GpO72TWrcNZbn/P0QN 3HRriLO6rPkJdu/De+XJ13dEoIF/Viq2/7H0Tcq3kTHCbOPDEp5AedrEKZEUXrFnI+WtEV4LC71 6sbno73zEU1KcKamJl65jJOLzfJvuFMfJasjVTsdIkt5FVKs5wCxO6Y3bkHZUrb80NX2ZDaE0cV WMOWtrnDd30YRUNAjpWdmH/lMduiIou7hOYBue74PJeehfzQAnYBIBuJtRsJOMJTN0Uag0Oi X-Google-Smtp-Source: AGHT+IGOSSvbfz+mVVQv8Vu/WPrivV4dzv52zTH2CvpexzkMDePCwkDJE2khb3EwePsGAjrjND2FAlq2hcpO X-Received: by 2002:a17:903:17c8:b0:243:b39:285f with SMTP id d9443c01a7336-245ef1194abmr817795ad.13.1755629526590; Tue, 19 Aug 2025 11:52:06 -0700 (PDT) Received: from postal.iol.unh.edu (postal.iol.unh.edu. [132.177.123.84]) by smtp-relay.gmail.com with ESMTPS id d9443c01a7336-245ed4ad753sm401165ad.75.2025.08.19.11.52.06 (version=TLS1_2 cipher=ECDHE-ECDSA-AES128-GCM-SHA256 bits=128/128); Tue, 19 Aug 2025 11:52:06 -0700 (PDT) X-Relaying-Domain: iol.unh.edu Date: Tue, 19 Aug 2025 11:52:06 -0700 (PDT) Message-ID: <68a4c7d6.170a0220.2c3b11.2339SMTPIN_ADDED_MISSING@mx.google.com> Received: from [172.21.0.2] (unknown [172.18.0.240]) by postal.iol.unh.edu (Postfix) with ESMTP id DA219604D420; Tue, 19 Aug 2025 14:52:05 -0400 (EDT) Subject: |SUCCESS| pw155982 [PATCH] [v5,1/1] ethdev: add support to provide l From: dpdklab@iol.unh.edu To: Test Report Cc: dpdk-test-reports@iol.unh.edu In-Reply-To: <20250819055126.2745262-1-skori@marvell.com> References: <20250819055126.2745262-1-skori@marvell.com> Content-Type: text/plain X-BeenThere: test-report@dpdk.org X-Mailman-Version: 2.1.29 Precedence: list List-Id: automatic DPDK test reports List-Unsubscribe: , List-Archive: List-Post: List-Help: List-Subscribe: , Errors-To: test-report-bounces@dpdk.org Test-Label: iol-unit-amd64-testing Test-Status: SUCCESS http://dpdk.org/patch/155982 _Testing PASS_ Submitter: Sunil Kumar Kori Date: Tuesday, August 19 2025 05:51:06 DPDK git baseline: Repo:dpdk Branch: master CommitID:6df5b211fae053219163a3eb301b26198974fb73 155982 --> testing pass Upstream job id: Generic-VM-Unit-Test-DPDK#30604 Test environment and result as below: +-------------------------------+----------------+ | Environment | dpdk_unit_test | +===============================+================+ | CentOS Stream 9 | PASS | +-------------------------------+----------------+ | Fedora Linux 40 | PASS | +-------------------------------+----------------+ | CentOS Stream 10 | PASS | +-------------------------------+----------------+ | Debian GNU/Linux 12 | PASS | +-------------------------------+----------------+ | Fedora Linux 41 | PASS | +-------------------------------+----------------+ | Fedora Linux 42 | PASS | +-------------------------------+----------------+ | Red Hat Enterprise Linux 9.5 | PASS | +-------------------------------+----------------+ | Ubuntu 22.04 | PASS | +-------------------------------+----------------+ | Red Hat Enterprise Linux 8.10 | PASS | +-------------------------------+----------------+ | Ubuntu 20.04 | PASS | +-------------------------------+----------------+ | Ubuntu 24.04 | PASS | +-------------------------------+----------------+ | Windows Server 2022 | PASS | +-------------------------------+----------------+ CentOS Stream 9 Kernel: 5.15 Compiler: gcc gcc (GCC) 11.5.0 20240719 (Red Hat 11.5.0-7) Fedora Linux 40 Kernel: 5.15 Compiler: gcc gcc (GCC) 14.2.1 20240912 (Red Hat 14.2.1-3) CentOS Stream 10 Kernel: 5.15 Compiler: gcc gcc (GCC) 14.2.1 20250110 (Red Hat 14.2.1-8) Debian GNU/Linux 12 Kernel: 5.15 Compiler: gcc gcc (Debian 12.2.0-14+deb12u1) 12.2.0 Fedora Linux 41 Kernel: 5.15 Compiler: gcc gcc (GCC) 14.3.1 20250523 (Red Hat 14.3.1-1) Fedora Linux 42 Kernel: 5.15 Compiler: gcc gcc (GCC) 15.1.1 20250521 (Red Hat 15.1.1-2) Red Hat Enterprise Linux 9.5 Kernel: 5.15 Compiler: gcc gcc (GCC) 11.5.0 20240719 (Red Hat 11.5.0-2) Ubuntu 22.04 Kernel: 5.15 Compiler: gcc gcc (Ubuntu 11.4.0-1ubuntu1~22.04) 11.4.0 Red Hat Enterprise Linux 8.10 Kernel: 5.15 Compiler: gcc gcc (GCC) 8.5.0 20210514 (Red Hat 8.5.0-22) Ubuntu 20.04 Kernel: 5.15 Compiler: gcc gcc (Ubuntu 9.4.0-1ubuntu1~20.04.2) 9.4.0 Ubuntu 24.04 Kernel: 5.15 Compiler: gcc gcc (Ubuntu 13.3.0-6ubuntu2~24.04) 13.3.0 Windows Server 2022 Kernel: 10.0.20348.2031 Compiler: clang 15.0.7, gcc 14.1.0 (MinGW), and MSVC VS 19.39.33521 To view detailed results, visit: https://lab.dpdk.org/results/dashboard/patchsets/33902/ UNH-IOL DPDK Community Lab To manage your email subscriptions, visit: https://lab.dpdk.org/results/dashboard/preferences/subscriptions/