From mboxrd@z Thu Jan 1 00:00:00 1970 Return-Path: Received: from mails.dpdk.org (mails.dpdk.org [217.70.189.124]) by inbox.dpdk.org (Postfix) with ESMTP id B464A46D69 for ; Tue, 19 Aug 2025 20:52:23 +0200 (CEST) Received: from mails.dpdk.org (localhost [127.0.0.1]) by mails.dpdk.org (Postfix) with ESMTP id AF600402DD; Tue, 19 Aug 2025 20:52:23 +0200 (CEST) Received: from mail-yb1-f225.google.com (mail-yb1-f225.google.com [209.85.219.225]) by mails.dpdk.org (Postfix) with ESMTP id 3CDAB402DD for ; Tue, 19 Aug 2025 20:52:22 +0200 (CEST) Received: by mail-yb1-f225.google.com with SMTP id 3f1490d57ef6-e94eec0de32so692999276.0 for ; Tue, 19 Aug 2025 11:52:22 -0700 (PDT) DKIM-Signature: v=1; a=rsa-sha256; c=relaxed/relaxed; d=iol.unh.edu; s=unh-iol; t=1755629541; x=1756234341; darn=dpdk.org; h=references:in-reply-to:cc:to:from:subject:message-id:date:from:to :cc:subject:date:message-id:reply-to; bh=YgRNSWcNuGsMSH+hdU2n6BNL+tu21DEO8fwQ8Brs+4M=; b=dNiOo4bX3LycDAu6sNTSnj2bcoDyMnNLVPciBly8I7QHyN2n+Jxq3Q17JB3V9b50Db kGFTB4+KRgejStJcv1lzOEIgCQUZkRIyUDgzRFQKBcVibymbD81M/ljAhtvD+piXbH3Z 3oUhElxfSWlb7RqJUgEZysx1Sj9+2He+2/sEY= X-Google-DKIM-Signature: v=1; a=rsa-sha256; c=relaxed/relaxed; d=1e100.net; s=20230601; t=1755629541; x=1756234341; h=references:in-reply-to:cc:to:from:subject:message-id:date :x-gm-message-state:from:to:cc:subject:date:message-id:reply-to; bh=YgRNSWcNuGsMSH+hdU2n6BNL+tu21DEO8fwQ8Brs+4M=; b=VOkv90ODMWJ+H0YZSX+oxVA4fV6tMSgv53C2nrIew9IvT0CM3XLoX8BFLD14Sv85Lu wBsrSsV9Q8/Mppt7Iv1B9CYCjnqJRdbJZJ9564KiXdMezih/4oenD1IlO10bGKKc7/sL +4KB67q+iGq2np5pqwJHuWnz/rxn23dhVL0jPYhaJmlchRAGpmTSH4TWp/i3raybC5FB cwSrzNCyfX4UiutTmZVKqNUtB4hWTI2DzFnd49lDWMGoWUUVbrcnwvWeGHbVmtva413e kKAhyLWVvNAvXg3NOlLKSO/e6ExTwjPj9Sp+Fs8h2i1UOYgEnP9evf8OQYSFMem6zASq 8RUQ== X-Gm-Message-State: AOJu0Yx3fpZlFwJpsCMjgVOyzSZJeT2RGdDLq0AB7UtUkk3Ss58hca57 bVYHbqm/WZe2t405Ad2dk++0TX0aMTrJANFpwUpO1i3sLnURTm3AlLwDVOj/MayJhy5aEU/FcCc xew8h7+Sl35lDrtdIww/3pQi5tVCqq4XtB9OBYGFJ/afjH9TmpLl+QMlsds70 X-Gm-Gg: ASbGnctRLYM228HYxxY9WqOUqIWepTqCnoos5IIdLLSw67Wq2RchJMNaOHTZ2h10Bhi 4/jweymumkkhcxTPBbu/SKws5phfHhg0VpjQvd4C8MmHxgm06GPEYwaLofY0Hz2OKTzm9EiDj4H E8C/uYJOWg0eZXfRjyQ9DnXobj+zZ5EN6hnM+bmD4r7m3vb0q2E3KmcAPZMFleT98YZsf6ii0KU KU2sQhdTqXaUASSKBZ3IZuKpwfcARmsEHFdWT7DbDpvmrQLdI9bW8nBfaiuAJkBqU1oJ7HIKw61 jXLsPzbUCV45vU067JEIZUxLzxiATOISOaAnNakKxRg4on7FwQ== X-Google-Smtp-Source: AGHT+IFen6yNTCpI15j1ajLgNrr1qNEQSITySEEtmJ3oQ8XdO8+9AsD93JUW7iBKkFTZ+xMRXgwXMYtv/NLE X-Received: by 2002:a05:690c:450d:b0:71e:7640:5e84 with SMTP id 00721157ae682-71fb30d1110mr3216967b3.9.1755629541594; Tue, 19 Aug 2025 11:52:21 -0700 (PDT) Received: from postal.iol.unh.edu (postal.iol.unh.edu. [2606:4100:3880:1234::84]) by smtp-relay.gmail.com with ESMTPS id 00721157ae682-71e6dff5e9fsm9763127b3.12.2025.08.19.11.52.21 (version=TLS1_2 cipher=ECDHE-ECDSA-AES128-GCM-SHA256 bits=128/128); Tue, 19 Aug 2025 11:52:21 -0700 (PDT) X-Relaying-Domain: iol.unh.edu Date: Tue, 19 Aug 2025 11:52:21 -0700 (PDT) Message-ID: <68a4c7e5.050a0220.29e7a1.1dacSMTPIN_ADDED_MISSING@mx.google.com> Received: from [172.21.0.2] (unknown [172.18.0.240]) by postal.iol.unh.edu (Postfix) with ESMTP id 475D2604D420; Tue, 19 Aug 2025 14:52:21 -0400 (EDT) Subject: |SUCCESS| pw155982 [PATCH] [v5,1/1] ethdev: add support to provide l From: dpdklab@iol.unh.edu To: Test Report Cc: dpdk-test-reports@iol.unh.edu In-Reply-To: <20250819055126.2745262-1-skori@marvell.com> References: <20250819055126.2745262-1-skori@marvell.com> Content-Type: text/plain X-BeenThere: test-report@dpdk.org X-Mailman-Version: 2.1.29 Precedence: list List-Id: automatic DPDK test reports List-Unsubscribe: , List-Archive: List-Post: List-Help: List-Subscribe: , Errors-To: test-report-bounces@dpdk.org Test-Label: iol-compile-amd64-testing Test-Status: SUCCESS http://dpdk.org/patch/155982 _Testing PASS_ Submitter: Sunil Kumar Kori Date: Tuesday, August 19 2025 05:51:06 DPDK git baseline: Repo:dpdk Branch: master CommitID:6df5b211fae053219163a3eb301b26198974fb73 155982 --> testing pass Upstream job id: Windows-Compile-DPDK-Native#30438 Test environment and result as below: +-------------------------------+--------------------+-------------------+------------------+-------------------+-------------------------+ | Environment | dpdk_meson_compile | dpdk_compile_spdk | dpdk_compile_ovs | dpdk_msvc_compile | dpdk_llvm_clang_compile | +===============================+====================+===================+==================+===================+=========================+ | Ubuntu 20.04 | PASS | SKIPPED | SKIPPED | SKIPPED | SKIPPED | +-------------------------------+--------------------+-------------------+------------------+-------------------+-------------------------+ | FreeBSD 14.2 | PASS | SKIPPED | SKIPPED | SKIPPED | SKIPPED | +-------------------------------+--------------------+-------------------+------------------+-------------------+-------------------------+ | CentOS Stream 9 | PASS | PASS | SKIPPED | SKIPPED | SKIPPED | +-------------------------------+--------------------+-------------------+------------------+-------------------+-------------------------+ | Fedora Linux 42 | PASS | PASS | PASS | SKIPPED | SKIPPED | +-------------------------------+--------------------+-------------------+------------------+-------------------+-------------------------+ | openSUSE Leap 15.6 | PASS | SKIPPED | SKIPPED | SKIPPED | SKIPPED | +-------------------------------+--------------------+-------------------+------------------+-------------------+-------------------------+ | Red Hat Enterprise Linux 8.10 | PASS | SKIPPED | SKIPPED | SKIPPED | SKIPPED | +-------------------------------+--------------------+-------------------+------------------+-------------------+-------------------------+ | Red Hat Enterprise Linux 9.5 | PASS | SKIPPED | SKIPPED | SKIPPED | SKIPPED | +-------------------------------+--------------------+-------------------+------------------+-------------------+-------------------------+ | Ubuntu 22.04 | PASS | PASS | SKIPPED | SKIPPED | SKIPPED | +-------------------------------+--------------------+-------------------+------------------+-------------------+-------------------------+ | Ubuntu 24.04 | PASS | PASS | PASS | SKIPPED | SKIPPED | +-------------------------------+--------------------+-------------------+------------------+-------------------+-------------------------+ | Alpine Linux 3.22.0 | PASS | SKIPPED | SKIPPED | SKIPPED | SKIPPED | +-------------------------------+--------------------+-------------------+------------------+-------------------+-------------------------+ | CentOS Stream 10 | PASS | SKIPPED | SKIPPED | SKIPPED | SKIPPED | +-------------------------------+--------------------+-------------------+------------------+-------------------+-------------------------+ | Debian GNU/Linux 12 | PASS | PASS | SKIPPED | SKIPPED | SKIPPED | +-------------------------------+--------------------+-------------------+------------------+-------------------+-------------------------+ | Windows Server 2022 | SKIPPED | SKIPPED | SKIPPED | PASS | PASS | +-------------------------------+--------------------+-------------------+------------------+-------------------+-------------------------+ Ubuntu 20.04 Kernel: 4.19 Compiler: gcc gcc (Ubuntu 9.4.0-1ubuntu1~20.04.2) 9.4.0 FreeBSD 14.2 Kernel: 14.2-RELEASE Compiler: clang 18.1.6 CentOS Stream 9 Kernel: 5.15 Compiler: gcc gcc (GCC) 11.5.0 20240719 (Red Hat 11.5.0-7) Fedora Linux 42 Kernel: 5.15 Compiler: gcc gcc (GCC) 15.1.1 20250521 (Red Hat 15.1.1-2) openSUSE Leap 15.6 Kernel: 5.15 Compiler: gcc gcc (SUSE Linux) 7.5.0 Red Hat Enterprise Linux 8.10 Kernel: 5.15 Compiler: gcc gcc (GCC) 8.5.0 20210514 (Red Hat 8.5.0-22) Red Hat Enterprise Linux 9.5 Kernel: 5.15 Compiler: gcc gcc (GCC) 11.5.0 20240719 (Red Hat 11.5.0-2) Ubuntu 22.04 Kernel: 5.15 Compiler: gcc gcc (Ubuntu 11.4.0-1ubuntu1~22.04) 11.4.0 Ubuntu 24.04 Kernel: 5.15 Compiler: gcc gcc (Ubuntu 13.3.0-6ubuntu2~24.04) 13.3.0 Alpine Linux 3.22.0 Kernel: 5.15 Compiler: gcc gcc (Alpine 14.2.0) 14.2.0 CentOS Stream 10 Kernel: 5.15 Compiler: gcc gcc (GCC) 14.2.1 20250110 (Red Hat 14.2.1-8) Debian GNU/Linux 12 Kernel: 5.15 Compiler: gcc gcc (Debian 12.2.0-14+deb12u1) 12.2.0 Windows Server 2022 Kernel: 10.0.20348.2031 Compiler: clang 15.0.7, gcc 14.1.0 (MinGW), and MSVC VS 19.39.33521 To view detailed results, visit: https://lab.dpdk.org/results/dashboard/patchsets/33902/ UNH-IOL DPDK Community Lab To manage your email subscriptions, visit: https://lab.dpdk.org/results/dashboard/preferences/subscriptions/