From mboxrd@z Thu Jan 1 00:00:00 1970 Return-Path: Received: from mails.dpdk.org (mails.dpdk.org [217.70.189.124]) by inbox.dpdk.org (Postfix) with ESMTP id 1E47246D69 for ; Tue, 19 Aug 2025 20:55:44 +0200 (CEST) Received: from mails.dpdk.org (localhost [127.0.0.1]) by mails.dpdk.org (Postfix) with ESMTP id 053DA402DD; Tue, 19 Aug 2025 20:55:44 +0200 (CEST) Received: from mail-yb1-f227.google.com (mail-yb1-f227.google.com [209.85.219.227]) by mails.dpdk.org (Postfix) with ESMTP id E31FE402DD for ; Tue, 19 Aug 2025 20:55:42 +0200 (CEST) Received: by mail-yb1-f227.google.com with SMTP id 3f1490d57ef6-e94ee2f1fe2so659402276.1 for ; Tue, 19 Aug 2025 11:55:42 -0700 (PDT) DKIM-Signature: v=1; a=rsa-sha256; c=relaxed/relaxed; d=iol.unh.edu; s=unh-iol; t=1755629742; x=1756234542; darn=dpdk.org; h=references:in-reply-to:cc:to:from:subject:message-id:date:from:to :cc:subject:date:message-id:reply-to; bh=4VY6li8IF9TrIpLaB8eh09Fkn6FjL0onM+aqpWcEXSQ=; b=ghCzyRI4eUahqHnA+irbYrOE7HJnfKIfZ3uG2Iik+AAVgMI7Q7LpRsxjNlrrwy+IEF KF6J0Y1mBtdEMlun0OAiWk6VXCLH2z79oH0VwnmmE3GyacBxoKHcJNDnbsi2RvWTyzbx WI/mUeo5tAKiujtl4rcG/6PbrZNe5tnwhW/7k= X-Google-DKIM-Signature: v=1; a=rsa-sha256; c=relaxed/relaxed; d=1e100.net; s=20230601; t=1755629742; x=1756234542; h=references:in-reply-to:cc:to:from:subject:message-id:date :x-gm-message-state:from:to:cc:subject:date:message-id:reply-to; bh=4VY6li8IF9TrIpLaB8eh09Fkn6FjL0onM+aqpWcEXSQ=; b=IBfFl5D53rK8tLKRRqMTS8LFZxyBS/N3g+Xb8qN4Wq034eQwG0h/rB3ZsDZ8GFpxZg YSRKCc/uKmW0gUgh339gfuTtZJoTPeCo4FaXr5k2rP7w3EdLnRoiL+Atu69SvsNLmEPu MmCNv2xfMiYFtUzAQfRZSaEiqn/x9myp5Uucod+TtlUk8PXVTR8tUvrsPAB4y/xBjCmr zu65CXoHGG/wZ9mpFhN6IHnzPSPu9OA5HVUAAUiU3UmDHYeRnWg/B2osV0p4+zn0pFqS NYk9gOBVVACbivQdOEjpcXgqnlZ01SnoZr24xrF3ITkeWvXNzW25SGTd1Lk8xYJ14IV5 h+mQ== X-Gm-Message-State: AOJu0YxCgrvkM/C1TAROaXyW2NgyEMsFyLX1ZBDpLuwVBeRDF/RyDbkH nH49CfESbYraFf6TQzDW0ANx2Fx7OO6p0E/OKXkcXp7JFYmYF0tP8m9Zubdqz41bhBiCcQErw4Y KtW9jXZYPE+q1K+X2nNw8D+l79pyKkCoD3BTEjRX6B+boJ4gmQni30FrTISIc X-Gm-Gg: ASbGncva9997UYIK6FPMYofENSuQcZ4yHBwmC8Gq3XQ7eEJLvfEQcAopnGJ2rh2xWk6 eVmn3kONDQoXSxLpDjmMlSvZT9b6tywy0Cd1CTe9SMsivu3K/WGLQcih/gIFddwPWwNartsa8P5 H189uwgqJ4L1t+VpeqBJGa4U39PqXcoz3zbtBdhWTOhVCDHX4hS6QnONc4wpiE+MUX1jptRIEtc VLKVBpl0CPXnqQydV6zrzDwcjQTlP3cLWliUWEqXaddUBZ0bF8UmwTnMwYytNa5SKMlYDrYbqM2 MPJZ6C/YgopgoN49vfnjFNY9Y/rrxpmJbmj1p5IFyfG+KySdnw== X-Google-Smtp-Source: AGHT+IFGd3pRUCh7Rfit8jz0FmfXSOaAa6zOQZM5M8xVdB0sqCRPGSfPdDvonQLCdYaRfPc57qkvfSNHKcZE X-Received: by 2002:a05:6902:2190:b0:e94:e1e5:37f5 with SMTP id 3f1490d57ef6-e94f670a014mr213180276.51.1755629742158; Tue, 19 Aug 2025 11:55:42 -0700 (PDT) Received: from postal.iol.unh.edu (postal.iol.unh.edu. [2606:4100:3880:1234::84]) by smtp-relay.gmail.com with ESMTPS id 3f1490d57ef6-e94e43474c9sm210838276.18.2025.08.19.11.55.42 (version=TLS1_2 cipher=ECDHE-ECDSA-AES128-GCM-SHA256 bits=128/128); Tue, 19 Aug 2025 11:55:42 -0700 (PDT) X-Relaying-Domain: iol.unh.edu Date: Tue, 19 Aug 2025 11:55:42 -0700 (PDT) Message-ID: <68a4c8ae.250a0220.30be51.9b82SMTPIN_ADDED_MISSING@mx.google.com> Received: from [172.21.0.3] (unknown [172.18.0.240]) by postal.iol.unh.edu (Postfix) with ESMTP id CCF7F604D420; Tue, 19 Aug 2025 14:55:41 -0400 (EDT) Subject: |SUCCESS| pw155982 [PATCH] [v5,1/1] ethdev: add support to provide l From: dpdklab@iol.unh.edu To: Test Report Cc: dpdk-test-reports@iol.unh.edu In-Reply-To: <20250819055126.2745262-1-skori@marvell.com> References: <20250819055126.2745262-1-skori@marvell.com> Content-Type: text/plain X-BeenThere: test-report@dpdk.org X-Mailman-Version: 2.1.29 Precedence: list List-Id: automatic DPDK test reports List-Unsubscribe: , List-Archive: List-Post: List-Help: List-Subscribe: , Errors-To: test-report-bounces@dpdk.org Test-Label: iol-compile-amd64-testing Test-Status: SUCCESS http://dpdk.org/patch/155982 _Testing PASS_ Submitter: Sunil Kumar Kori Date: Tuesday, August 19 2025 05:51:06 DPDK git baseline: Repo:dpdk Branch: master CommitID:6df5b211fae053219163a3eb301b26198974fb73 155982 --> testing pass Upstream job id: Windows-Compile-DPDK-Native#30439 Test environment and result as below: +-------------------------------+--------------------+-------------------+------------------+-------------------+-------------------------+----------------------+ | Environment | dpdk_meson_compile | dpdk_compile_spdk | dpdk_compile_ovs | dpdk_msvc_compile | dpdk_llvm_clang_compile | dpdk_mingw64_compile | +===============================+====================+===================+==================+===================+=========================+======================+ | Ubuntu 20.04 | PASS | SKIPPED | SKIPPED | SKIPPED | SKIPPED | SKIPPED | +-------------------------------+--------------------+-------------------+------------------+-------------------+-------------------------+----------------------+ | FreeBSD 14.2 | PASS | SKIPPED | SKIPPED | SKIPPED | SKIPPED | SKIPPED | +-------------------------------+--------------------+-------------------+------------------+-------------------+-------------------------+----------------------+ | CentOS Stream 9 | PASS | PASS | SKIPPED | SKIPPED | SKIPPED | SKIPPED | +-------------------------------+--------------------+-------------------+------------------+-------------------+-------------------------+----------------------+ | Fedora Linux 42 | PASS | PASS | PASS | SKIPPED | SKIPPED | SKIPPED | +-------------------------------+--------------------+-------------------+------------------+-------------------+-------------------------+----------------------+ | openSUSE Leap 15.6 | PASS | SKIPPED | SKIPPED | SKIPPED | SKIPPED | SKIPPED | +-------------------------------+--------------------+-------------------+------------------+-------------------+-------------------------+----------------------+ | Red Hat Enterprise Linux 8.10 | PASS | SKIPPED | SKIPPED | SKIPPED | SKIPPED | SKIPPED | +-------------------------------+--------------------+-------------------+------------------+-------------------+-------------------------+----------------------+ | Red Hat Enterprise Linux 9.5 | PASS | SKIPPED | SKIPPED | SKIPPED | SKIPPED | SKIPPED | +-------------------------------+--------------------+-------------------+------------------+-------------------+-------------------------+----------------------+ | Ubuntu 22.04 | PASS | PASS | SKIPPED | SKIPPED | SKIPPED | SKIPPED | +-------------------------------+--------------------+-------------------+------------------+-------------------+-------------------------+----------------------+ | Ubuntu 24.04 | PASS | PASS | PASS | SKIPPED | SKIPPED | SKIPPED | +-------------------------------+--------------------+-------------------+------------------+-------------------+-------------------------+----------------------+ | Alpine Linux 3.22.0 | PASS | SKIPPED | SKIPPED | SKIPPED | SKIPPED | SKIPPED | +-------------------------------+--------------------+-------------------+------------------+-------------------+-------------------------+----------------------+ | CentOS Stream 10 | PASS | SKIPPED | SKIPPED | SKIPPED | SKIPPED | SKIPPED | +-------------------------------+--------------------+-------------------+------------------+-------------------+-------------------------+----------------------+ | Debian GNU/Linux 12 | PASS | PASS | SKIPPED | SKIPPED | SKIPPED | SKIPPED | +-------------------------------+--------------------+-------------------+------------------+-------------------+-------------------------+----------------------+ | Windows Server 2022 | SKIPPED | SKIPPED | SKIPPED | PASS | PASS | PASS | +-------------------------------+--------------------+-------------------+------------------+-------------------+-------------------------+----------------------+ Ubuntu 20.04 Kernel: 4.19 Compiler: gcc gcc (Ubuntu 9.4.0-1ubuntu1~20.04.2) 9.4.0 FreeBSD 14.2 Kernel: 14.2-RELEASE Compiler: clang 18.1.6 CentOS Stream 9 Kernel: 5.15 Compiler: gcc gcc (GCC) 11.5.0 20240719 (Red Hat 11.5.0-7) Fedora Linux 42 Kernel: 5.15 Compiler: gcc gcc (GCC) 15.1.1 20250521 (Red Hat 15.1.1-2) openSUSE Leap 15.6 Kernel: 5.15 Compiler: gcc gcc (SUSE Linux) 7.5.0 Red Hat Enterprise Linux 8.10 Kernel: 5.15 Compiler: gcc gcc (GCC) 8.5.0 20210514 (Red Hat 8.5.0-22) Red Hat Enterprise Linux 9.5 Kernel: 5.15 Compiler: gcc gcc (GCC) 11.5.0 20240719 (Red Hat 11.5.0-2) Ubuntu 22.04 Kernel: 5.15 Compiler: gcc gcc (Ubuntu 11.4.0-1ubuntu1~22.04) 11.4.0 Ubuntu 24.04 Kernel: 5.15 Compiler: gcc gcc (Ubuntu 13.3.0-6ubuntu2~24.04) 13.3.0 Alpine Linux 3.22.0 Kernel: 5.15 Compiler: gcc gcc (Alpine 14.2.0) 14.2.0 CentOS Stream 10 Kernel: 5.15 Compiler: gcc gcc (GCC) 14.2.1 20250110 (Red Hat 14.2.1-8) Debian GNU/Linux 12 Kernel: 5.15 Compiler: gcc gcc (Debian 12.2.0-14+deb12u1) 12.2.0 Windows Server 2022 Kernel: 10.0.20348.2031 Compiler: clang 15.0.7, gcc 14.1.0 (MinGW), and MSVC VS 19.39.33521 To view detailed results, visit: https://lab.dpdk.org/results/dashboard/patchsets/33902/ UNH-IOL DPDK Community Lab To manage your email subscriptions, visit: https://lab.dpdk.org/results/dashboard/preferences/subscriptions/