From mboxrd@z Thu Jan 1 00:00:00 1970 Return-Path: Received: from mails.dpdk.org (mails.dpdk.org [217.70.189.124]) by inbox.dpdk.org (Postfix) with ESMTP id 3714D46D69 for ; Tue, 19 Aug 2025 21:03:35 +0200 (CEST) Received: from mails.dpdk.org (localhost [127.0.0.1]) by mails.dpdk.org (Postfix) with ESMTP id 086E140151; Tue, 19 Aug 2025 21:03:35 +0200 (CEST) Received: from mail-pl1-f225.google.com (mail-pl1-f225.google.com [209.85.214.225]) by mails.dpdk.org (Postfix) with ESMTP id 8D29840151 for ; Tue, 19 Aug 2025 21:03:34 +0200 (CEST) Received: by mail-pl1-f225.google.com with SMTP id d9443c01a7336-24458317464so64165075ad.3 for ; Tue, 19 Aug 2025 12:03:34 -0700 (PDT) DKIM-Signature: v=1; a=rsa-sha256; c=relaxed/relaxed; d=iol.unh.edu; s=unh-iol; t=1755630213; x=1756235013; darn=dpdk.org; h=references:in-reply-to:cc:to:from:subject:message-id:date:from:to :cc:subject:date:message-id:reply-to; bh=OrEp/fr7E5K3NDFE6+5G5LOdGrgRXyHiZOcqj91zew4=; b=eaq1vIGXYtjalvtw7HHPudIaPNAnEp91+RH3wpUXzUau6U8e+ABidhKvaTzpgjJ3HM hlGFrsbMRp0VmPpuTq6mdJqKvZ6fxWOXpl2aBsvS6hMLhg5oInnXB+xtT+bDnSrDJHR7 KF0g5kePPy0xHb2cRhnFX06Vpxxn4QTlxougU= X-Google-DKIM-Signature: v=1; a=rsa-sha256; c=relaxed/relaxed; d=1e100.net; s=20230601; t=1755630213; x=1756235013; h=references:in-reply-to:cc:to:from:subject:message-id:date :x-gm-message-state:from:to:cc:subject:date:message-id:reply-to; bh=OrEp/fr7E5K3NDFE6+5G5LOdGrgRXyHiZOcqj91zew4=; b=ngbfsDwUQIbYsxZtn+JzxRD7aakh3Bq7qmm3oBeRnXiBgEhnqYFSxIpVSZZqAaHdXu Gb/EhRSIbDQqwcwNG0YHmChGedlabcKW0+3JuaQ3ChkTGMwuXUQgZwOdnAmQf7vvREsn Saev9lKKs+9ROWv4gUEs2pvvEyDeDB0jtEMpsyApTdeyqu3uR58fUx89D2NUm6uyOwpB TOKbwzT+kIlwSiDLJrIRZ40zvTYqGs3f0Kvva55imK6ZJxFdp0d2dYzGtI0nVrssvZeY BAr/YytOUw/WXhkfQ6dGvHTkZzG2TAIeg9B0thl9CZMxbz6ZsxgfYwvNkj+1C5MyFC1g LGaA== X-Gm-Message-State: AOJu0Yw4NDchLljRKBpp6nUokFMBDSZojIW9xycwcQ+pE22kropk4EEc +12hBQhQr2KMfugiJ2lOBDOTE4orhRISyNwB3CMMpUYOZq2vfvfRmlWq7G/RBYOoNEuA/cZemGZ ua827JjbL9iyP37UbXByz1r/RfQL3Xdt42htW1AMLaBKYZ4cRZoBe1P0z+VXD X-Gm-Gg: ASbGncuJBzKbuWbthq/W9nXM+i8bqB+s9dsHQsZwpzWyicitjyDEpiXXuNVmq7NqrAJ WA1FVEFNGx0WoWBxkehrPC3BKvtDQo5vS8pEW2HndrahqiVeYtSOQlOJpjXsfpumQ8jA/meVq/D 09e8+ITyai9YIs92Ize7ApKiKCjGKCu4uQWNN18iCzViqFMDZVjAe9KxCt4BGOxpUA2LkA+cbZx 4ZseMLCEtFlfpE0Z59mSkEwQar11lxD+9Crco9FHqRa5EIeu03Ofm0GXjOKMQo0sXich0v+sitX fMVZEoK4A9TV/L2SnetdBicjWAYdsjiQ0KS1ISu1U+iHq2LEPg== X-Google-Smtp-Source: AGHT+IE3Bys+3oXu56SaTOkrKHaftlFmHxUK86QfmakEoiZKrk1WgXqeHyWv7fmkWTN0+LcMwJIN/du3XU70 X-Received: by 2002:a17:903:198c:b0:240:483:dc0b with SMTP id d9443c01a7336-245ef2716d7mr611055ad.52.1755630213374; Tue, 19 Aug 2025 12:03:33 -0700 (PDT) Received: from postal.iol.unh.edu (postal.iol.unh.edu. [2606:4100:3880:1234::84]) by smtp-relay.gmail.com with ESMTPS id d9443c01a7336-245ed4ad0dasm439625ad.71.2025.08.19.12.03.33 (version=TLS1_2 cipher=ECDHE-ECDSA-AES128-GCM-SHA256 bits=128/128); Tue, 19 Aug 2025 12:03:33 -0700 (PDT) X-Relaying-Domain: iol.unh.edu Date: Tue, 19 Aug 2025 12:03:33 -0700 (PDT) Message-ID: <68a4ca85.170a0220.237961.2379SMTPIN_ADDED_MISSING@mx.google.com> Received: from [172.21.0.2] (unknown [172.18.0.240]) by postal.iol.unh.edu (Postfix) with ESMTP id 9D3BB604D420; Tue, 19 Aug 2025 15:03:32 -0400 (EDT) Subject: |SUCCESS| pw155982 [PATCH] [v5,1/1] ethdev: add support to provide l From: dpdklab@iol.unh.edu To: Test Report Cc: dpdk-test-reports@iol.unh.edu In-Reply-To: <20250819055126.2745262-1-skori@marvell.com> References: <20250819055126.2745262-1-skori@marvell.com> Content-Type: text/plain X-BeenThere: test-report@dpdk.org X-Mailman-Version: 2.1.29 Precedence: list List-Id: automatic DPDK test reports List-Unsubscribe: , List-Archive: List-Post: List-Help: List-Subscribe: , Errors-To: test-report-bounces@dpdk.org Test-Label: iol-unit-arm64-testing Test-Status: SUCCESS http://dpdk.org/patch/155982 _Testing PASS_ Submitter: Sunil Kumar Kori Date: Tuesday, August 19 2025 05:51:06 DPDK git baseline: Repo:dpdk Branch: master CommitID:6df5b211fae053219163a3eb301b26198974fb73 155982 --> testing pass Upstream job id: Generic-Unit-Test-DPDK#363819 Test environment and result as below: +------------------------------+----------------+------------------------------+--------------+---------------------------+ | Environment | dpdk_unit_test | cryptodev_sw_snow3g_autotest | lpm_autotest | cryptodev_sw_zuc_autotest | +==============================+================+==============================+==============+===========================+ | Fedora Linux 40 | PASS | SKIPPED | SKIPPED | SKIPPED | +------------------------------+----------------+------------------------------+--------------+---------------------------+ | Fedora Linux 41 | PASS | SKIPPED | SKIPPED | SKIPPED | +------------------------------+----------------+------------------------------+--------------+---------------------------+ | Debian GNU/Linux 12 | PASS | SKIPPED | SKIPPED | SKIPPED | +------------------------------+----------------+------------------------------+--------------+---------------------------+ | CentOS Stream 9 | PASS | SKIPPED | SKIPPED | SKIPPED | +------------------------------+----------------+------------------------------+--------------+---------------------------+ | CentOS Stream 10 | PASS | SKIPPED | SKIPPED | SKIPPED | +------------------------------+----------------+------------------------------+--------------+---------------------------+ | Ubuntu 22.04 | PASS | SKIPPED | SKIPPED | SKIPPED | +------------------------------+----------------+------------------------------+--------------+---------------------------+ | Red Hat Enterprise Linux 9.5 | PASS | SKIPPED | SKIPPED | SKIPPED | +------------------------------+----------------+------------------------------+--------------+---------------------------+ | Ubuntu 24.04 | PASS | SKIPPED | SKIPPED | SKIPPED | +------------------------------+----------------+------------------------------+--------------+---------------------------+ | Ubuntu 20.04 | PASS | SKIPPED | PASS | SKIPPED | +------------------------------+----------------+------------------------------+--------------+---------------------------+ | Fedora Linux 42 | PASS | SKIPPED | SKIPPED | SKIPPED | +------------------------------+----------------+------------------------------+--------------+---------------------------+ | Debian 12 (arm) | SKIPPED | PASS | SKIPPED | PASS | +------------------------------+----------------+------------------------------+--------------+---------------------------+ Fedora Linux 40 Kernel: 5.4 Compiler: clang gcc (GCC) 14.2.1 20240912 (Red Hat 14.2.1-3) Fedora Linux 41 Kernel: 5.4 Compiler: clang gcc (GCC) 14.3.1 20250523 (Red Hat 14.3.1-1) Debian GNU/Linux 12 Kernel: 5.4 Compiler: gcc gcc (Debian 12.2.0-14+deb12u1) 12.2.0 CentOS Stream 9 Kernel: 5.4 Compiler: gcc gcc (GCC) 11.5.0 20240719 (Red Hat 11.5.0-7) CentOS Stream 10 Kernel: 5.4 Compiler: gcc gcc (GCC) 14.2.1 20250110 (Red Hat 14.2.1-8) Ubuntu 22.04 Kernel: 5.4 Compiler: gcc gcc (Ubuntu 11.4.0-1ubuntu1~22.04) 11.4.0 Red Hat Enterprise Linux 9.5 Kernel: 5.4 Compiler: gcc gcc (GCC) 11.5.0 20240719 (Red Hat 11.5.0-2) Ubuntu 24.04 Kernel: 5.4 Compiler: gcc gcc (Ubuntu 13.3.0-6ubuntu2~24.04) 13.3.0 Ubuntu 20.04 Kernel: 5.4 Compiler: gcc gcc (Ubuntu 9.4.0-1ubuntu1~20.04.2) 9.4.0 Fedora Linux 42 Kernel: 5.4 Compiler: gcc gcc (GCC) 15.1.1 20250521 (Red Hat 15.1.1-2) Debian 12 (arm) Kernel: Depends on container host Compiler: gcc (Debian 12.2.0-14) 12.2.0 To view detailed results, visit: https://lab.dpdk.org/results/dashboard/patchsets/33902/ UNH-IOL DPDK Community Lab To manage your email subscriptions, visit: https://lab.dpdk.org/results/dashboard/preferences/subscriptions/