From mboxrd@z Thu Jan 1 00:00:00 1970 Return-Path: Received: from mails.dpdk.org (mails.dpdk.org [217.70.189.124]) by inbox.dpdk.org (Postfix) with ESMTP id 237DA46D69 for ; Tue, 19 Aug 2025 21:03:53 +0200 (CEST) Received: from mails.dpdk.org (localhost [127.0.0.1]) by mails.dpdk.org (Postfix) with ESMTP id 1E2DA40151; Tue, 19 Aug 2025 21:03:53 +0200 (CEST) Received: from mail-pl1-f227.google.com (mail-pl1-f227.google.com [209.85.214.227]) by mails.dpdk.org (Postfix) with ESMTP id 1EFD540151 for ; Tue, 19 Aug 2025 21:03:52 +0200 (CEST) Received: by mail-pl1-f227.google.com with SMTP id d9443c01a7336-2445827be70so63171695ad.3 for ; Tue, 19 Aug 2025 12:03:52 -0700 (PDT) DKIM-Signature: v=1; a=rsa-sha256; c=relaxed/relaxed; d=iol.unh.edu; s=unh-iol; t=1755630231; x=1756235031; darn=dpdk.org; h=references:in-reply-to:cc:to:from:subject:message-id:date:from:to :cc:subject:date:message-id:reply-to; bh=O6ULZUblsqWYh9+BGN8d5o8A8cS5orNgheSFVs7qoSg=; b=SKcPwL5C88NbfeXC/9kfk6GayGNt6enNQF/H44vxPo5NlGSYxYToGwpCelIOGLnKb9 jgy+L7NlU+vmhEwQw6sH5qdG/sX+zGIoJQgqsJr9biD3j0LFz+NQ8XWnarr1Xdk7vgYN Y6TlnuRbf6PdKlWfvnkDTlvhc5EmgKeYOZYVE= X-Google-DKIM-Signature: v=1; a=rsa-sha256; c=relaxed/relaxed; d=1e100.net; s=20230601; t=1755630231; x=1756235031; h=references:in-reply-to:cc:to:from:subject:message-id:date :x-gm-message-state:from:to:cc:subject:date:message-id:reply-to; bh=O6ULZUblsqWYh9+BGN8d5o8A8cS5orNgheSFVs7qoSg=; b=NqYR30B1Xwv6Xd29tOj4Ie/etC8hNbRhPofOoQ9fLbBem2pWRPN2QCs1Pa5IA75L96 QkBv/3/mx2j8Gol/+KfWZfhGb+Pnx9CiMBSRfqykMuExNTeuQvFh6xhP8Gg3WJ4c1hXl +0UB4e0snZok4gy5aws/zvqllQYL8KiIuO4xIGHVzqeDzXNLWkJaJOUj+kQ1x2YMwh2N l7EMzBMt1B1REE++rIGZ5LFnfgg4sLPjC/3XxJlvfDRENFa+upXb00XG7Rcqoo19U2S0 JwfIYkzWDHlGGxIZdN7w3NjK7+MvIMPkL70lf0pJ+KqwCWWbtQ/ETjR4pMirq7vqn1j0 MT8Q== X-Gm-Message-State: AOJu0YzVHE6qsUTD33kKmEHUCj3z0l1BJ5rW+V+A9VTo14tjJH8PIZqi M4x+Ob1cyblmxNuo1wbRUGzKT8EPXNDZC57G1RZmIMw2UrfHaDgtBL9igJwLk6a+8vSGh5rlmU5 Lu30IcdXfhMUWf5YMJXM2eT1QD11BaTgLa8Ggjm/QZi9DibVwI1pKfiW6JkHu X-Gm-Gg: ASbGncvGQkSXqruPY48dwGztXCY7walpkiHhEbHa3+t6M0XXRQRxw5uTDEnf5V7AoNB fzOmkAATwtZ8HAHzxANagc2FHocHzIo7pmOPuHAyn7VrlqRuXAOHtBRdB378GMxSRxKdi6ESQqW QWR0Zm+uTymU+4mj7lRHkEBHe2wu7ZEgDCueOz6ug15/F5Ghhl9hRwfj0Pu0R3mmjF2hExmFDm0 dZuTlO6YBhyEurQ3reeTfv+XVm6u6n8LXFhD551AGz6L+sFdkL+2MJbYjpZ/AocO3dkydK5WIDn 9KxJKjEOp2q+sMQivz+PgxYwZTgeSrT+UzaDybXOTxZmFrjnBw== X-Google-Smtp-Source: AGHT+IErTvrRNy9U1UWkSoz+6oI+AXjuTQvGNDsUhX0iUnXJ4+CimQYNNIx2rGXk/2rO20OqFks1lYqrej7+ X-Received: by 2002:a17:903:244b:b0:242:126:476e with SMTP id d9443c01a7336-245ef1e6ae1mr954955ad.32.1755630231361; Tue, 19 Aug 2025 12:03:51 -0700 (PDT) Received: from postal.iol.unh.edu (postal.iol.unh.edu. [2606:4100:3880:1234::84]) by smtp-relay.gmail.com with ESMTPS id d9443c01a7336-245ed492196sm438745ad.60.2025.08.19.12.03.51 (version=TLS1_2 cipher=ECDHE-ECDSA-AES128-GCM-SHA256 bits=128/128); Tue, 19 Aug 2025 12:03:51 -0700 (PDT) X-Relaying-Domain: iol.unh.edu Date: Tue, 19 Aug 2025 12:03:51 -0700 (PDT) Message-ID: <68a4ca97.170a0220.a7009.22ccSMTPIN_ADDED_MISSING@mx.google.com> Received: from [172.21.0.2] (unknown [172.18.0.240]) by postal.iol.unh.edu (Postfix) with ESMTP id A1F3D604D420; Tue, 19 Aug 2025 15:03:50 -0400 (EDT) Subject: |SUCCESS| pw155983-155998 [PATCH] [v5,17/17] net/nbl: nbl device sup From: dpdklab@iol.unh.edu To: Test Report Cc: dpdk-test-reports@iol.unh.edu In-Reply-To: <20250819102237.3067518-18-dimon.zhao@nebula-matrix.com> References: <20250819102237.3067518-18-dimon.zhao@nebula-matrix.com> Content-Type: text/plain X-BeenThere: test-report@dpdk.org X-Mailman-Version: 2.1.29 Precedence: list List-Id: automatic DPDK test reports List-Unsubscribe: , List-Archive: List-Post: List-Help: List-Subscribe: , Errors-To: test-report-bounces@dpdk.org Test-Label: iol-unit-amd64-testing Test-Status: SUCCESS http://dpdk.org/patch/155998 _Testing PASS_ Submitter: Dimon Zhao Date: Tuesday, August 19 2025 10:22:37 DPDK git baseline: Repo:dpdk Branch: master CommitID:6df5b211fae053219163a3eb301b26198974fb73 155983-155998 --> testing pass Upstream job id: Generic-VM-Unit-Test-DPDK#30605 Test environment and result as below: +-------------------------------+----------------+ | Environment | dpdk_unit_test | +===============================+================+ | CentOS Stream 10 | PASS | +-------------------------------+----------------+ | Fedora Linux 40 | PASS | +-------------------------------+----------------+ | CentOS Stream 9 | PASS | +-------------------------------+----------------+ | Debian GNU/Linux 12 | PASS | +-------------------------------+----------------+ | Fedora Linux 41 | PASS | +-------------------------------+----------------+ | Red Hat Enterprise Linux 9.5 | PASS | +-------------------------------+----------------+ | Fedora Linux 42 | PASS | +-------------------------------+----------------+ | Red Hat Enterprise Linux 8.10 | PASS | +-------------------------------+----------------+ | Ubuntu 20.04 | PASS | +-------------------------------+----------------+ | Ubuntu 22.04 | PASS | +-------------------------------+----------------+ | Ubuntu 24.04 | PASS | +-------------------------------+----------------+ | Windows Server 2022 | PASS | +-------------------------------+----------------+ CentOS Stream 10 Kernel: 5.15 Compiler: gcc gcc (GCC) 14.2.1 20250110 (Red Hat 14.2.1-8) Fedora Linux 40 Kernel: 5.15 Compiler: gcc gcc (GCC) 14.2.1 20240912 (Red Hat 14.2.1-3) CentOS Stream 9 Kernel: 5.15 Compiler: gcc gcc (GCC) 11.5.0 20240719 (Red Hat 11.5.0-7) Debian GNU/Linux 12 Kernel: 5.15 Compiler: gcc gcc (Debian 12.2.0-14+deb12u1) 12.2.0 Fedora Linux 41 Kernel: 5.15 Compiler: gcc gcc (GCC) 14.3.1 20250523 (Red Hat 14.3.1-1) Red Hat Enterprise Linux 9.5 Kernel: 5.15 Compiler: gcc gcc (GCC) 11.5.0 20240719 (Red Hat 11.5.0-2) Fedora Linux 42 Kernel: 5.15 Compiler: gcc gcc (GCC) 15.1.1 20250521 (Red Hat 15.1.1-2) Red Hat Enterprise Linux 8.10 Kernel: 5.15 Compiler: gcc gcc (GCC) 8.5.0 20210514 (Red Hat 8.5.0-22) Ubuntu 20.04 Kernel: 5.15 Compiler: gcc gcc (Ubuntu 9.4.0-1ubuntu1~20.04.2) 9.4.0 Ubuntu 22.04 Kernel: 5.15 Compiler: gcc gcc (Ubuntu 11.4.0-1ubuntu1~22.04) 11.4.0 Ubuntu 24.04 Kernel: 5.15 Compiler: gcc gcc (Ubuntu 13.3.0-6ubuntu2~24.04) 13.3.0 Windows Server 2022 Kernel: 10.0.20348.2031 Compiler: clang 15.0.7, gcc 14.1.0 (MinGW), and MSVC VS 19.39.33521 To view detailed results, visit: https://lab.dpdk.org/results/dashboard/patchsets/33903/ UNH-IOL DPDK Community Lab To manage your email subscriptions, visit: https://lab.dpdk.org/results/dashboard/preferences/subscriptions/