From mboxrd@z Thu Jan 1 00:00:00 1970 Return-Path: Received: from mails.dpdk.org (mails.dpdk.org [217.70.189.124]) by inbox.dpdk.org (Postfix) with ESMTP id 74EDA46D69 for ; Tue, 19 Aug 2025 21:05:58 +0200 (CEST) Received: from mails.dpdk.org (localhost [127.0.0.1]) by mails.dpdk.org (Postfix) with ESMTP id 52F4540151; Tue, 19 Aug 2025 21:05:58 +0200 (CEST) Received: from mail-yw1-f228.google.com (mail-yw1-f228.google.com [209.85.128.228]) by mails.dpdk.org (Postfix) with ESMTP id 6616E40151 for ; Tue, 19 Aug 2025 21:05:57 +0200 (CEST) Received: by mail-yw1-f228.google.com with SMTP id 00721157ae682-71d603acc23so47167957b3.1 for ; Tue, 19 Aug 2025 12:05:57 -0700 (PDT) DKIM-Signature: v=1; a=rsa-sha256; c=relaxed/relaxed; d=iol.unh.edu; s=unh-iol; t=1755630356; x=1756235156; darn=dpdk.org; h=references:in-reply-to:cc:to:from:subject:message-id:date:from:to :cc:subject:date:message-id:reply-to; bh=OqJ9Ltcl1JjSPrf/0BeiIGid+QzISdgfmY+14gfVpgU=; b=MaYydvQMgQlfBMi5llgWebjN2bcu0K3IfaET4Kif2PSBwH7B7KNfhNEIXOzgZY4F/O Ir1gL5itYjCZUzZRy79ZQ50wJtmJxh8UpAXjTE+GNjMjLxV8LhQnTLWbJFiEH6/sc/tt QvvvPsGsBrz6zoimphs28lTmoeuWg/6DVobwM= X-Google-DKIM-Signature: v=1; a=rsa-sha256; c=relaxed/relaxed; d=1e100.net; s=20230601; t=1755630356; x=1756235156; h=references:in-reply-to:cc:to:from:subject:message-id:date :x-gm-message-state:from:to:cc:subject:date:message-id:reply-to; bh=OqJ9Ltcl1JjSPrf/0BeiIGid+QzISdgfmY+14gfVpgU=; b=d1hZtQbA02LbcdNSrn+7W1umRgbU65yHgi3b5r1mYPFkNb1s/bJfJ/KKihIJeXkPD0 0tdiN4y+1qduod4vp7qP0w6KQghYS1PZvJ4ybaahbonXlRNq9XcEzB6sDcIzB3lz6iVK rBZQFqzuH6qg8mhxUHNbuEEo+J3sx6jkN+bmiV+l0iPlaiXiyh5Nboz0V1+CdpN33LRQ JO8l0OLqpQXosIFlqnm0T4OyYH9D6wDJVWMIa+VkUDa1w9o4zxebkKJB2MpL6ZJSurJZ 7acP404NNNPTFzn7Qn2ccZ6S3UEI+fxvfMPSiP98wkIkhUsDhB5/A8tVhf6d4ZhdbasF 962w== X-Gm-Message-State: AOJu0Yx+PCBU4bIuc2lQPnYxvIswROYOHvNG+KgaLTIttikaal4LbP79 GuJIcfzeLkL/BmKVzW+yCvji2gxdTmknMu8wbmLLiXk+ZCGXIyg+KQWacnSRQCD0r6xO5XVC+d5 lPFNOdXb73e6KtS+0NkOx3SvuIkXwsyRcrqT2GwFP1xoZ X-Gm-Gg: ASbGncsTLp4Uh9BZHi+/9G5KwlCJOKFuGeGrOQopawzH5KUnWx2RVtj1psLUMqn8u3w eyKhZ+MjqbyAV/XRnRZW+EZSTn9aiczQxbnzwZuu+4VWV/C3M3YQkONoaJcPWOU/prpcBdTOU3A 96QE/7Thx2WynCXRzTq1Fd6rIH/nVqbTkrq9eYsHU8CLbOA+fnpuwJbWbYG9tvUyzKGfJ0riNMg 3MjBmtKUYl6w+fioDiuW/30kmfRln7is9HqYicrFZIbQxEZIqCzEuii3v1CeBzs2m/iFA9iicBV A7oN4G7DGMbWIVnnwzU9raJoqX5sKJWSLyW3VthJBu0qQ15feUNQrKbJOJQubMbuHiObHBjn X-Google-Smtp-Source: AGHT+IEXORW0/kTMyVbdHRS2rqEEap6Msel5t11INUXZT+by2AKBfSYgDdIFHpUyjPAIJOxiO8wTh0NlDbDL X-Received: by 2002:a05:690c:890:b0:71c:149b:86b2 with SMTP id 00721157ae682-71fb32105ebmr3201687b3.34.1755630356528; Tue, 19 Aug 2025 12:05:56 -0700 (PDT) Received: from postal.iol.unh.edu (postal.iol.unh.edu. [132.177.123.84]) by smtp-relay.gmail.com with ESMTPS id 00721157ae682-71e6e1caf3asm9724467b3.32.2025.08.19.12.05.56 (version=TLS1_2 cipher=ECDHE-ECDSA-AES128-GCM-SHA256 bits=128/128); Tue, 19 Aug 2025 12:05:56 -0700 (PDT) X-Relaying-Domain: iol.unh.edu Date: Tue, 19 Aug 2025 12:05:56 -0700 (PDT) Message-ID: <68a4cb14.050a0220.21ff81.16c0SMTPIN_ADDED_MISSING@mx.google.com> Received: from [172.21.0.2] (unknown [172.18.0.240]) by postal.iol.unh.edu (Postfix) with ESMTP id D5061604D420; Tue, 19 Aug 2025 15:05:55 -0400 (EDT) Subject: |SUCCESS| pw155983-155998 [PATCH] [v5,17/17] net/nbl: nbl device sup From: dpdklab@iol.unh.edu To: Test Report Cc: dpdk-test-reports@iol.unh.edu In-Reply-To: <20250819102237.3067518-18-dimon.zhao@nebula-matrix.com> References: <20250819102237.3067518-18-dimon.zhao@nebula-matrix.com> Content-Type: text/plain X-BeenThere: test-report@dpdk.org X-Mailman-Version: 2.1.29 Precedence: list List-Id: automatic DPDK test reports List-Unsubscribe: , List-Archive: List-Post: List-Help: List-Subscribe: , Errors-To: test-report-bounces@dpdk.org Test-Label: iol-compile-amd64-testing Test-Status: SUCCESS http://dpdk.org/patch/155998 _Testing PASS_ Submitter: Dimon Zhao Date: Tuesday, August 19 2025 10:22:37 DPDK git baseline: Repo:dpdk Branch: master CommitID:6df5b211fae053219163a3eb301b26198974fb73 155983-155998 --> testing pass Upstream job id: Windows-Compile-DPDK-Native#30440 Test environment and result as below: +-------------------------------+--------------------+-------------------+------------------+-------------------+-------------------------+ | Environment | dpdk_meson_compile | dpdk_compile_spdk | dpdk_compile_ovs | dpdk_msvc_compile | dpdk_llvm_clang_compile | +===============================+====================+===================+==================+===================+=========================+ | FreeBSD 14.2 | PASS | SKIPPED | SKIPPED | SKIPPED | SKIPPED | +-------------------------------+--------------------+-------------------+------------------+-------------------+-------------------------+ | Ubuntu 20.04 | PASS | SKIPPED | SKIPPED | SKIPPED | SKIPPED | +-------------------------------+--------------------+-------------------+------------------+-------------------+-------------------------+ | CentOS Stream 9 | PASS | PASS | SKIPPED | SKIPPED | SKIPPED | +-------------------------------+--------------------+-------------------+------------------+-------------------+-------------------------+ | Debian GNU/Linux 12 | PASS | PASS | SKIPPED | SKIPPED | SKIPPED | +-------------------------------+--------------------+-------------------+------------------+-------------------+-------------------------+ | Fedora Linux 42 | PASS | PASS | PASS | SKIPPED | SKIPPED | +-------------------------------+--------------------+-------------------+------------------+-------------------+-------------------------+ | openSUSE Leap 15.6 | PASS | SKIPPED | SKIPPED | SKIPPED | SKIPPED | +-------------------------------+--------------------+-------------------+------------------+-------------------+-------------------------+ | Ubuntu 22.04 | PASS | PASS | SKIPPED | SKIPPED | SKIPPED | +-------------------------------+--------------------+-------------------+------------------+-------------------+-------------------------+ | CentOS Stream 10 | PASS | SKIPPED | SKIPPED | SKIPPED | SKIPPED | +-------------------------------+--------------------+-------------------+------------------+-------------------+-------------------------+ | Red Hat Enterprise Linux 8.10 | PASS | SKIPPED | SKIPPED | SKIPPED | SKIPPED | +-------------------------------+--------------------+-------------------+------------------+-------------------+-------------------------+ | Red Hat Enterprise Linux 9.5 | PASS | SKIPPED | SKIPPED | SKIPPED | SKIPPED | +-------------------------------+--------------------+-------------------+------------------+-------------------+-------------------------+ | Alpine Linux 3.22.0 | PASS | SKIPPED | SKIPPED | SKIPPED | SKIPPED | +-------------------------------+--------------------+-------------------+------------------+-------------------+-------------------------+ | Ubuntu 24.04 | PASS | PASS | PASS | SKIPPED | SKIPPED | +-------------------------------+--------------------+-------------------+------------------+-------------------+-------------------------+ | Windows Server 2022 | SKIPPED | SKIPPED | SKIPPED | PASS | PASS | +-------------------------------+--------------------+-------------------+------------------+-------------------+-------------------------+ FreeBSD 14.2 Kernel: 14.2-RELEASE Compiler: clang 18.1.6 Ubuntu 20.04 Kernel: 4.19 Compiler: gcc gcc (Ubuntu 9.4.0-1ubuntu1~20.04.2) 9.4.0 CentOS Stream 9 Kernel: 5.15 Compiler: gcc gcc (GCC) 11.5.0 20240719 (Red Hat 11.5.0-7) Debian GNU/Linux 12 Kernel: 5.15 Compiler: gcc gcc (Debian 12.2.0-14+deb12u1) 12.2.0 Fedora Linux 42 Kernel: 5.15 Compiler: clang gcc (GCC) 15.1.1 20250521 (Red Hat 15.1.1-2) openSUSE Leap 15.6 Kernel: 5.15 Compiler: gcc gcc (SUSE Linux) 7.5.0 Ubuntu 22.04 Kernel: 5.15 Compiler: gcc gcc (Ubuntu 11.4.0-1ubuntu1~22.04) 11.4.0 CentOS Stream 10 Kernel: 5.15 Compiler: gcc gcc (GCC) 14.2.1 20250110 (Red Hat 14.2.1-8) Red Hat Enterprise Linux 8.10 Kernel: 5.15 Compiler: gcc gcc (GCC) 8.5.0 20210514 (Red Hat 8.5.0-22) Red Hat Enterprise Linux 9.5 Kernel: 5.15 Compiler: gcc gcc (GCC) 11.5.0 20240719 (Red Hat 11.5.0-2) Alpine Linux 3.22.0 Kernel: 5.15 Compiler: gcc gcc (Alpine 14.2.0) 14.2.0 Ubuntu 24.04 Kernel: 5.15 Compiler: gcc gcc (Ubuntu 13.3.0-6ubuntu2~24.04) 13.3.0 Windows Server 2022 Kernel: 10.0.20348.2031 Compiler: clang 15.0.7, gcc 14.1.0 (MinGW), and MSVC VS 19.39.33521 To view detailed results, visit: https://lab.dpdk.org/results/dashboard/patchsets/33903/ UNH-IOL DPDK Community Lab To manage your email subscriptions, visit: https://lab.dpdk.org/results/dashboard/preferences/subscriptions/