From mboxrd@z Thu Jan 1 00:00:00 1970 Return-Path: Received: from mails.dpdk.org (mails.dpdk.org [217.70.189.124]) by inbox.dpdk.org (Postfix) with ESMTP id 8366146D69 for ; Tue, 19 Aug 2025 21:07:29 +0200 (CEST) Received: from mails.dpdk.org (localhost [127.0.0.1]) by mails.dpdk.org (Postfix) with ESMTP id 7E1BA40151; Tue, 19 Aug 2025 21:07:29 +0200 (CEST) Received: from mail-il1-f228.google.com (mail-il1-f228.google.com [209.85.166.228]) by mails.dpdk.org (Postfix) with ESMTP id C8A9C40151 for ; Tue, 19 Aug 2025 21:07:28 +0200 (CEST) Received: by mail-il1-f228.google.com with SMTP id e9e14a558f8ab-3e669190697so15995365ab.2 for ; Tue, 19 Aug 2025 12:07:28 -0700 (PDT) DKIM-Signature: v=1; a=rsa-sha256; c=relaxed/relaxed; d=iol.unh.edu; s=unh-iol; t=1755630448; x=1756235248; darn=dpdk.org; h=references:in-reply-to:cc:to:from:subject:message-id:date:from:to :cc:subject:date:message-id:reply-to; bh=aNk1wfNJp0Ni5pvAdxdBXUzgiZEqWIBPzDGE6tkM9C0=; b=Hy6MCKklxC5mCBxJp3E5lxENRKEAsBCjyxRGqcBOkqm4ueHN63jv/tCaT7U6E63lDO uJfYZE3/D0H0zs1Q9Rw1nSZbls1YbzlGrC1bzoQi+7flek9EDQgkf88R7lN4KVH0Fiyb RrWIBvsYg0aLkN4M+hRvGluzdEUBd8DSOb2fQ= X-Google-DKIM-Signature: v=1; a=rsa-sha256; c=relaxed/relaxed; d=1e100.net; s=20230601; t=1755630448; x=1756235248; h=references:in-reply-to:cc:to:from:subject:message-id:date :x-gm-message-state:from:to:cc:subject:date:message-id:reply-to; bh=aNk1wfNJp0Ni5pvAdxdBXUzgiZEqWIBPzDGE6tkM9C0=; b=J9ajsNOylutdffRXXGX+qqMaiv06hmy+r/8L8nY5yf2Mq5uRux2X3pWiRVulK1Jh9H IfX8cFMl69ZQHLRWNZjeUf/E611y+xpR9hnbLyxmCbvz+YndcgryazRdzenSDq2f12yF Nxio3Aj09N8d/zpQv6zcxjzx4CeILTOwwLwvv8P4QTDnAZyEEh8qKkhrMmx46Ufh1iJX 8kUNyQAlC2a4Nuo8GZ4Nmmq1RSU/40R0ABx9k/UE5YnBFEQQaXbKnAzesCMar8EXUY6U TQHw6M456Yc4GoTazq07pR9SIllyXDK1p1aMW6W2lu6809OTiRlXKdTOwusjDJbnaJg8 pVHA== X-Gm-Message-State: AOJu0Yw0zGdclZ86XUdIVfLC9Pqf+CEQMWQDgbjgMcyyHayDo0763RAR EmwC7h41jNa0vu3YSCS4zpvO6VNecyCdLQUSY1bvrI5gU5edDH8HGdgf51YpDvBZ9Frl4tJJWac 2sp9U8FOuUxxYQMig3Yl9wVVIz7KHLz6V63k+d2nYlCxMDMkaAZTJ4sdggAB0 X-Gm-Gg: ASbGncvx5HX9ubzquXnXpGbDRumOXHcpFyc9BIt58ix19n5hGyeFJdV4kbjHohweYmw wLlJEAZrLeyedXBA+dbn2Q8ObgNYG865t63igGFY7iimGQ9miej4HZiqLTU0WTRxOu5qDaBEVQE J9H2QoULmXicoQGG2uRXB6OS2nSp3lWsxN/czBqUTDNBO5D1PcSAsz+Iz3IdC6RvEEzSqhN7Sto 2qtzCg6JfxEfsbkkdi2RHi2tEQ+7eXe3MMUCokdwliJ3XqUPjhW6poGfSCrYCI1SMFicaLFhNNG bh6ZVkAPKnSblsSg1Qc7inXReixkYKb00Y20Ih7t3zq4svkZGQ== X-Google-Smtp-Source: AGHT+IHu+rEWsUVqlOWaCTjUW+Kj9Cke0uy1u9EMqLEvUXHki1JHUC0ZaIhAlbWdNZfnIHC6DprtGQUoVC5m X-Received: by 2002:a05:6e02:1d82:b0:3e5:7437:696f with SMTP id e9e14a558f8ab-3e67cace691mr3153535ab.24.1755630448021; Tue, 19 Aug 2025 12:07:28 -0700 (PDT) Received: from postal.iol.unh.edu (postal.iol.unh.edu. [2606:4100:3880:1234::84]) by smtp-relay.gmail.com with ESMTPS id e9e14a558f8ab-3e665d52414sm6814655ab.32.2025.08.19.12.07.27 (version=TLS1_2 cipher=ECDHE-ECDSA-AES128-GCM-SHA256 bits=128/128); Tue, 19 Aug 2025 12:07:28 -0700 (PDT) X-Relaying-Domain: iol.unh.edu Date: Tue, 19 Aug 2025 12:07:28 -0700 (PDT) Message-ID: <68a4cb70.050a0220.192f0c.403cSMTPIN_ADDED_MISSING@mx.google.com> Received: from [172.21.0.2] (unknown [172.18.0.240]) by postal.iol.unh.edu (Postfix) with ESMTP id 38499604D420; Tue, 19 Aug 2025 15:07:27 -0400 (EDT) Subject: |SUCCESS| pw155983-155998 [PATCH] [v5,17/17] net/nbl: nbl device sup From: dpdklab@iol.unh.edu To: Test Report Cc: dpdk-test-reports@iol.unh.edu In-Reply-To: <20250819102237.3067518-18-dimon.zhao@nebula-matrix.com> References: <20250819102237.3067518-18-dimon.zhao@nebula-matrix.com> Content-Type: text/plain X-BeenThere: test-report@dpdk.org X-Mailman-Version: 2.1.29 Precedence: list List-Id: automatic DPDK test reports List-Unsubscribe: , List-Archive: List-Post: List-Help: List-Subscribe: , Errors-To: test-report-bounces@dpdk.org Test-Label: iol-compile-amd64-testing Test-Status: SUCCESS http://dpdk.org/patch/155998 _Testing PASS_ Submitter: Dimon Zhao Date: Tuesday, August 19 2025 10:22:37 DPDK git baseline: Repo:dpdk Branch: master CommitID:6df5b211fae053219163a3eb301b26198974fb73 155983-155998 --> testing pass Upstream job id: Windows-Compile-DPDK-Native#30441 Test environment and result as below: +-------------------------------+--------------------+-------------------+------------------+-------------------+-------------------------+----------------------+ | Environment | dpdk_meson_compile | dpdk_compile_spdk | dpdk_compile_ovs | dpdk_msvc_compile | dpdk_llvm_clang_compile | dpdk_mingw64_compile | +===============================+====================+===================+==================+===================+=========================+======================+ | FreeBSD 14.2 | PASS | SKIPPED | SKIPPED | SKIPPED | SKIPPED | SKIPPED | +-------------------------------+--------------------+-------------------+------------------+-------------------+-------------------------+----------------------+ | Ubuntu 20.04 | PASS | SKIPPED | SKIPPED | SKIPPED | SKIPPED | SKIPPED | +-------------------------------+--------------------+-------------------+------------------+-------------------+-------------------------+----------------------+ | CentOS Stream 9 | PASS | PASS | SKIPPED | SKIPPED | SKIPPED | SKIPPED | +-------------------------------+--------------------+-------------------+------------------+-------------------+-------------------------+----------------------+ | Debian GNU/Linux 12 | PASS | PASS | SKIPPED | SKIPPED | SKIPPED | SKIPPED | +-------------------------------+--------------------+-------------------+------------------+-------------------+-------------------------+----------------------+ | Fedora Linux 42 | PASS | PASS | PASS | SKIPPED | SKIPPED | SKIPPED | +-------------------------------+--------------------+-------------------+------------------+-------------------+-------------------------+----------------------+ | openSUSE Leap 15.6 | PASS | SKIPPED | SKIPPED | SKIPPED | SKIPPED | SKIPPED | +-------------------------------+--------------------+-------------------+------------------+-------------------+-------------------------+----------------------+ | Ubuntu 22.04 | PASS | PASS | SKIPPED | SKIPPED | SKIPPED | SKIPPED | +-------------------------------+--------------------+-------------------+------------------+-------------------+-------------------------+----------------------+ | CentOS Stream 10 | PASS | SKIPPED | SKIPPED | SKIPPED | SKIPPED | SKIPPED | +-------------------------------+--------------------+-------------------+------------------+-------------------+-------------------------+----------------------+ | Red Hat Enterprise Linux 8.10 | PASS | SKIPPED | SKIPPED | SKIPPED | SKIPPED | SKIPPED | +-------------------------------+--------------------+-------------------+------------------+-------------------+-------------------------+----------------------+ | Red Hat Enterprise Linux 9.5 | PASS | SKIPPED | SKIPPED | SKIPPED | SKIPPED | SKIPPED | +-------------------------------+--------------------+-------------------+------------------+-------------------+-------------------------+----------------------+ | Alpine Linux 3.22.0 | PASS | SKIPPED | SKIPPED | SKIPPED | SKIPPED | SKIPPED | +-------------------------------+--------------------+-------------------+------------------+-------------------+-------------------------+----------------------+ | Ubuntu 24.04 | PASS | PASS | PASS | SKIPPED | SKIPPED | SKIPPED | +-------------------------------+--------------------+-------------------+------------------+-------------------+-------------------------+----------------------+ | Windows Server 2022 | SKIPPED | SKIPPED | SKIPPED | PASS | PASS | PASS | +-------------------------------+--------------------+-------------------+------------------+-------------------+-------------------------+----------------------+ FreeBSD 14.2 Kernel: 14.2-RELEASE Compiler: clang 18.1.6 Ubuntu 20.04 Kernel: 4.19 Compiler: gcc gcc (Ubuntu 9.4.0-1ubuntu1~20.04.2) 9.4.0 CentOS Stream 9 Kernel: 5.15 Compiler: gcc gcc (GCC) 11.5.0 20240719 (Red Hat 11.5.0-7) Debian GNU/Linux 12 Kernel: 5.15 Compiler: gcc gcc (Debian 12.2.0-14+deb12u1) 12.2.0 Fedora Linux 42 Kernel: 5.15 Compiler: clang gcc (GCC) 15.1.1 20250521 (Red Hat 15.1.1-2) openSUSE Leap 15.6 Kernel: 5.15 Compiler: gcc gcc (SUSE Linux) 7.5.0 Ubuntu 22.04 Kernel: 5.15 Compiler: gcc gcc (Ubuntu 11.4.0-1ubuntu1~22.04) 11.4.0 CentOS Stream 10 Kernel: 5.15 Compiler: gcc gcc (GCC) 14.2.1 20250110 (Red Hat 14.2.1-8) Red Hat Enterprise Linux 8.10 Kernel: 5.15 Compiler: gcc gcc (GCC) 8.5.0 20210514 (Red Hat 8.5.0-22) Red Hat Enterprise Linux 9.5 Kernel: 5.15 Compiler: gcc gcc (GCC) 11.5.0 20240719 (Red Hat 11.5.0-2) Alpine Linux 3.22.0 Kernel: 5.15 Compiler: gcc gcc (Alpine 14.2.0) 14.2.0 Ubuntu 24.04 Kernel: 5.15 Compiler: gcc gcc (Ubuntu 13.3.0-6ubuntu2~24.04) 13.3.0 Windows Server 2022 Kernel: 10.0.20348.2031 Compiler: clang 15.0.7, gcc 14.1.0 (MinGW), and MSVC VS 19.39.33521 To view detailed results, visit: https://lab.dpdk.org/results/dashboard/patchsets/33903/ UNH-IOL DPDK Community Lab To manage your email subscriptions, visit: https://lab.dpdk.org/results/dashboard/preferences/subscriptions/