From mboxrd@z Thu Jan 1 00:00:00 1970 Return-Path: Received: from mails.dpdk.org (mails.dpdk.org [217.70.189.124]) by inbox.dpdk.org (Postfix) with ESMTP id C72CC46D69 for ; Tue, 19 Aug 2025 21:09:24 +0200 (CEST) Received: from mails.dpdk.org (localhost [127.0.0.1]) by mails.dpdk.org (Postfix) with ESMTP id AC59340151; Tue, 19 Aug 2025 21:09:24 +0200 (CEST) Received: from mail-qt1-f228.google.com (mail-qt1-f228.google.com [209.85.160.228]) by mails.dpdk.org (Postfix) with ESMTP id 4784140151 for ; Tue, 19 Aug 2025 21:09:23 +0200 (CEST) Received: by mail-qt1-f228.google.com with SMTP id d75a77b69052e-4b133b24e69so12384751cf.2 for ; Tue, 19 Aug 2025 12:09:23 -0700 (PDT) DKIM-Signature: v=1; a=rsa-sha256; c=relaxed/relaxed; d=iol.unh.edu; s=unh-iol; t=1755630562; x=1756235362; darn=dpdk.org; h=references:in-reply-to:cc:to:from:subject:message-id:date:from:to :cc:subject:date:message-id:reply-to; bh=n9KrZei/RCkUZtsQPpDxQ+V05QC6u7pkXWKU0Z0pLEo=; b=jLwoSDId5/RwT5fNmjxksLUZh1OSTD2Rms9ZyyCRYYykyrQ+PCJGWMwSCtCi466cFS tEFyn3+EwU1NHeZUQB2gBaxFdKJZ/ubFq8fkh4Nr61ASIFa5OlCe3qs0gEqt7E0eUi6w izt5dyxsxiXs3Myt+RPmdlv36guM7WdL5/5KA= X-Google-DKIM-Signature: v=1; a=rsa-sha256; c=relaxed/relaxed; d=1e100.net; s=20230601; t=1755630562; x=1756235362; h=references:in-reply-to:cc:to:from:subject:message-id:date :x-gm-message-state:from:to:cc:subject:date:message-id:reply-to; bh=n9KrZei/RCkUZtsQPpDxQ+V05QC6u7pkXWKU0Z0pLEo=; b=bu65gS1zeGRtu/vbk6eOwgIuKIVvsRw4PQY8XuHBBCtlegAqj63Z7ASFI7SdBrBkqE 7XRK2Nd50FGya5UifznOIl8/Las4V6KD44tZn7r2XmP+vXfF2G0FrazLFX6PzkHhZSyc KK2mFTajR1Nd6qB47jcEVQiYAKL3RqR0qimaibdHFgvv/eJHqZCJGh//9DH+VkEoIMji 8SDXoqzskA8EDcXWNvJzRSAwg8Ls7GnsbbNK1n17hKC9fUM5OBWlT/kX2U3ym8qsdBqd 94mBDj9ZyT2wYAL66spDVoy0IRnO8BXKeRtbyzAHA35xlde5EHmZnfu7UcUdaDhAYRcG kmmQ== X-Gm-Message-State: AOJu0YyyJ/RX6yIwGhScvPgxnixLpxYnxauZbi+uBPyONLkPGoyH18dR h5wTq5ZJMOcCgIpPYa136qSt4Nvo1cmdkOz4HW1BvROEDioehMOMYzF1x4iuPRvBcciBM+qMFJ+ pyDyq6mmZVqq8Po/9sQ6RBFvBxqzU4vMtGO+MkPB1NBio49XTwb30L9PeWi2I X-Gm-Gg: ASbGncu5LaZsK4o0QTY9THIGeFsVa1I8xYLvK7YRjsRJBJw+7DexPHHkvJq9haBvdaB lzZYQbkEAQ86+xqr3kazbc2tCYg5WcOw+zXAc1K/0RifIBR3/R81IrK3cR+W5cC6hwR9BLxd2j1 nNIOtPZUQqBa5ooegpiueWnRsABW0JrVSqKvrBsKgW8O7nPWHL9ILr0qOwkDxs7GWpWButHRNR1 y9X4o/a1YxEyFEawO3EE0OMBcKm8s2l2ivTT5WvCkI/zO8VBep3ppxbRFHDcgSQhZGA6C48+b59 OWXsFRmh3GMD5ppcieoq2vgwRmFoeYICDdx1mHnYhnyFF09gGg== X-Google-Smtp-Source: AGHT+IG62NPH9p5fUC0/D6ieUFsA3+Q8Ta18u1eu391MC9cqsDHeYE3iJtsWZW9AiAD7M6UGht7Ja+Fr9/T7 X-Received: by 2002:ad4:5d41:0:b0:70b:be19:67b6 with SMTP id 6a1803df08f44-70d770eac7fmr1268426d6.34.1755630561897; Tue, 19 Aug 2025 12:09:21 -0700 (PDT) Received: from postal.iol.unh.edu (postal.iol.unh.edu. [2606:4100:3880:1234::84]) by smtp-relay.gmail.com with ESMTPS id 6a1803df08f44-70ba9029a91sm7269576d6.4.2025.08.19.12.09.21 (version=TLS1_2 cipher=ECDHE-ECDSA-AES128-GCM-SHA256 bits=128/128); Tue, 19 Aug 2025 12:09:21 -0700 (PDT) X-Relaying-Domain: iol.unh.edu Date: Tue, 19 Aug 2025 12:09:21 -0700 (PDT) Message-ID: <68a4cbe1.050a0220.266101.37f6SMTPIN_ADDED_MISSING@mx.google.com> Received: from [172.21.0.3] (unknown [172.18.0.240]) by postal.iol.unh.edu (Postfix) with ESMTP id 93C5D6051830; Tue, 19 Aug 2025 15:09:21 -0400 (EDT) Subject: |SUCCESS| pw155983-155998 [PATCH] [v5,17/17] net/nbl: nbl device sup From: dpdklab@iol.unh.edu To: Test Report Cc: dpdk-test-reports@iol.unh.edu In-Reply-To: <20250819102237.3067518-18-dimon.zhao@nebula-matrix.com> References: <20250819102237.3067518-18-dimon.zhao@nebula-matrix.com> Content-Type: text/plain X-BeenThere: test-report@dpdk.org X-Mailman-Version: 2.1.29 Precedence: list List-Id: automatic DPDK test reports List-Unsubscribe: , List-Archive: List-Post: List-Help: List-Subscribe: , Errors-To: test-report-bounces@dpdk.org Test-Label: iol-unit-amd64-testing Test-Status: SUCCESS http://dpdk.org/patch/155998 _Testing PASS_ Submitter: Dimon Zhao Date: Tuesday, August 19 2025 10:22:37 DPDK git baseline: Repo:dpdk Branch: master CommitID:6df5b211fae053219163a3eb301b26198974fb73 155983-155998 --> testing pass Upstream job id: Generic-VM-Unit-Test-DPDK#30606 Test environment and result as below: +-------------------------------+----------------+ | Environment | dpdk_unit_test | +===============================+================+ | CentOS Stream 10 | PASS | +-------------------------------+----------------+ | Fedora Linux 40 | PASS | +-------------------------------+----------------+ | CentOS Stream 9 | PASS | +-------------------------------+----------------+ | Debian GNU/Linux 12 | PASS | +-------------------------------+----------------+ | Fedora Linux 41 | PASS | +-------------------------------+----------------+ | Red Hat Enterprise Linux 9.5 | PASS | +-------------------------------+----------------+ | Fedora Linux 42 | PASS | +-------------------------------+----------------+ | Red Hat Enterprise Linux 8.10 | PASS | +-------------------------------+----------------+ | Ubuntu 20.04 | PASS | +-------------------------------+----------------+ | Ubuntu 22.04 | PASS | +-------------------------------+----------------+ | Ubuntu 24.04 | PASS | +-------------------------------+----------------+ | Windows Server 2022 | PASS | +-------------------------------+----------------+ CentOS Stream 10 Kernel: 5.15 Compiler: gcc gcc (GCC) 14.2.1 20250110 (Red Hat 14.2.1-8) Fedora Linux 40 Kernel: 5.15 Compiler: gcc gcc (GCC) 14.2.1 20240912 (Red Hat 14.2.1-3) CentOS Stream 9 Kernel: 5.15 Compiler: gcc gcc (GCC) 11.5.0 20240719 (Red Hat 11.5.0-7) Debian GNU/Linux 12 Kernel: 5.15 Compiler: gcc gcc (Debian 12.2.0-14+deb12u1) 12.2.0 Fedora Linux 41 Kernel: 5.15 Compiler: gcc gcc (GCC) 14.3.1 20250523 (Red Hat 14.3.1-1) Red Hat Enterprise Linux 9.5 Kernel: 5.15 Compiler: gcc gcc (GCC) 11.5.0 20240719 (Red Hat 11.5.0-2) Fedora Linux 42 Kernel: 5.15 Compiler: gcc gcc (GCC) 15.1.1 20250521 (Red Hat 15.1.1-2) Red Hat Enterprise Linux 8.10 Kernel: 5.15 Compiler: gcc gcc (GCC) 8.5.0 20210514 (Red Hat 8.5.0-22) Ubuntu 20.04 Kernel: 5.15 Compiler: gcc gcc (Ubuntu 9.4.0-1ubuntu1~20.04.2) 9.4.0 Ubuntu 22.04 Kernel: 5.15 Compiler: gcc gcc (Ubuntu 11.4.0-1ubuntu1~22.04) 11.4.0 Ubuntu 24.04 Kernel: 5.15 Compiler: gcc gcc (Ubuntu 13.3.0-6ubuntu2~24.04) 13.3.0 Windows Server 2022 Kernel: 10.0.20348.2031 Compiler: clang 15.0.7, gcc 14.1.0 (MinGW), and MSVC VS 19.39.33521 To view detailed results, visit: https://lab.dpdk.org/results/dashboard/patchsets/33903/ UNH-IOL DPDK Community Lab To manage your email subscriptions, visit: https://lab.dpdk.org/results/dashboard/preferences/subscriptions/