From mboxrd@z Thu Jan 1 00:00:00 1970 Return-Path: Received: from mails.dpdk.org (mails.dpdk.org [217.70.189.124]) by inbox.dpdk.org (Postfix) with ESMTP id 3119046D69 for ; Tue, 19 Aug 2025 21:23:38 +0200 (CEST) Received: from mails.dpdk.org (localhost [127.0.0.1]) by mails.dpdk.org (Postfix) with ESMTP id 0831540151; Tue, 19 Aug 2025 21:23:38 +0200 (CEST) Received: from mail-pg1-f226.google.com (mail-pg1-f226.google.com [209.85.215.226]) by mails.dpdk.org (Postfix) with ESMTP id 8C00840151 for ; Tue, 19 Aug 2025 21:23:36 +0200 (CEST) Received: by mail-pg1-f226.google.com with SMTP id 41be03b00d2f7-b472fd93ad1so2827565a12.0 for ; Tue, 19 Aug 2025 12:23:36 -0700 (PDT) DKIM-Signature: v=1; a=rsa-sha256; c=relaxed/relaxed; d=iol.unh.edu; s=unh-iol; t=1755631415; x=1756236215; darn=dpdk.org; h=references:in-reply-to:cc:to:from:subject:message-id:date:from:to :cc:subject:date:message-id:reply-to; bh=4rFSGfKput76aFH2Wi2/j+/SEW2ll7e78gUX6uFr3vs=; b=X3BPBPiX0Y+mSM0QndJN6SwU+8AMRv9x450MvtUm229Jp68Bklk2KDLBp6ZVByGf7y Pqg6z43+8agUEc7OODy5h6a+4lnT1VUGspAgL9tUf+73nYiv3fbNmW/1Nj67wTIwp0W4 riqENDWOIjs8IcrHlUmdqWNL8UXqp1s+5uCFU= X-Google-DKIM-Signature: v=1; a=rsa-sha256; c=relaxed/relaxed; d=1e100.net; s=20230601; t=1755631415; x=1756236215; h=references:in-reply-to:cc:to:from:subject:message-id:date :x-gm-message-state:from:to:cc:subject:date:message-id:reply-to; bh=4rFSGfKput76aFH2Wi2/j+/SEW2ll7e78gUX6uFr3vs=; b=GzCRneCJeX1ZOWa6m6M4qsCgb5Uf46jtNj5qqv7qErNmaXgLFWY7LaDjt/o6dG4oLh 8cLxrG4IieLG5zQ+Vju3L/TVvplKNuCTEHMb/j9gdhmb7uFfJhN1wAlVUfOWrkctULF9 suQ53IvK/VpQoQ/KALEqMg9Lo5/i5JWW2I6MO5OZuZhbAKGFOVcHDBySjtyWYU06dsaJ +JNACa0WMmY07HBR6k8rG9v/35o1dXUSvfbF+DzeEOv81yWY3hBdd8LhvTpy552pMp6C 1IYaSRJYfY+i2IbdgFxi58qbBN9MseafsQm7ggyBpxorb1ah1s3ik4o3sCpyph137m5S PASQ== X-Gm-Message-State: AOJu0YxlAp8DLy3wQWtH108BfScQ+CdJxqXmtmrlIoGmWoifK7SSqbkm naUH6WqUkE372qn6UWld4a9OT72UfvaB7PT5rDmxL+gioP7TBpkAPv/Q2eCoL+evQrwAB0QNQtl 9HdRbN+CMDSNJQUBTciiUYyanf8WerZYreELWZx2Y1Cr5 X-Gm-Gg: ASbGncuMElkR7w0dunOY8i8HP6Zwv6bJM5Nw1nLOvLuvJSsX3vRTGeWPp4C+IwHPnvm 2DqS/bTCBX0lwoqITZqeErO5+cR9Otf2Kz06ia+eBfKKhjGycDJSOuyNiMvnFBq3yZRX8LbHb8C 6LfVdJn7t6H8Vo6i11KvHFl3x3cyuHGgd797cabkqyiBRpXqt342F+UZVs3KrkfRphkePzPTXF4 2wl/lVHmXQBQ0vfQv5x6iefSTeiRvGIhTGolRfhEniC7bnNK5L3B6WZCQL2ySRz7ndmmEEc9ASw NZNAZymAc1zG9Ia34qvAPCQ+HIX7mud/2FuvZaQFK25ZN2LZ8xBPMEjPxZfMhu3DBaxwM7Fg X-Google-Smtp-Source: AGHT+IFCs4OfpjBgf3XAYcShrMMEaEstvaIc809gEvDX78/MITWF5EubvWNohXyKJHm+VrD1xcJZj2/YG4Xa X-Received: by 2002:a17:902:db0f:b0:240:8fa2:15d2 with SMTP id d9443c01a7336-245ef236ca3mr1602635ad.33.1755631415565; Tue, 19 Aug 2025 12:23:35 -0700 (PDT) Received: from postal.iol.unh.edu (postal.iol.unh.edu. [132.177.123.84]) by smtp-relay.gmail.com with ESMTPS id d9443c01a7336-245ed3312d4sm499255ad.17.2025.08.19.12.23.35 (version=TLS1_2 cipher=ECDHE-ECDSA-AES128-GCM-SHA256 bits=128/128); Tue, 19 Aug 2025 12:23:35 -0700 (PDT) X-Relaying-Domain: iol.unh.edu Date: Tue, 19 Aug 2025 12:23:35 -0700 (PDT) Message-ID: <68a4cf37.170a0220.3caf90.2ab5SMTPIN_ADDED_MISSING@mx.google.com> Received: from [172.21.0.2] (unknown [172.18.0.240]) by postal.iol.unh.edu (Postfix) with ESMTP id 951426050A61; Tue, 19 Aug 2025 15:23:34 -0400 (EDT) Subject: |SUCCESS| pw156000-156001 [PATCH] [v3,2/2] virtio: simplify use of p From: dpdklab@iol.unh.edu To: Test Report Cc: dpdk-test-reports@iol.unh.edu In-Reply-To: <20250819112521.1608207-2-bruce.richardson@intel.com> References: <20250819112521.1608207-2-bruce.richardson@intel.com> Content-Type: text/plain X-BeenThere: test-report@dpdk.org X-Mailman-Version: 2.1.29 Precedence: list List-Id: automatic DPDK test reports List-Unsubscribe: , List-Archive: List-Post: List-Help: List-Subscribe: , Errors-To: test-report-bounces@dpdk.org Test-Label: iol-compile-amd64-testing Test-Status: SUCCESS http://dpdk.org/patch/156001 _Testing PASS_ Submitter: Bruce Richardson Date: Tuesday, August 19 2025 11:25:21 DPDK git baseline: Repo:dpdk Branch: master CommitID:38543d33bd47fc0ee21f59db80a8763620741879 156000-156001 --> testing pass Upstream job id: Windows-Compile-DPDK-Native#30444 Test environment and result as below: +-------------------------------+--------------------+-------------------+------------------+-------------------+-------------------------+ | Environment | dpdk_meson_compile | dpdk_compile_spdk | dpdk_compile_ovs | dpdk_msvc_compile | dpdk_llvm_clang_compile | +===============================+====================+===================+==================+===================+=========================+ | Ubuntu 20.04 | PASS | SKIPPED | SKIPPED | SKIPPED | SKIPPED | +-------------------------------+--------------------+-------------------+------------------+-------------------+-------------------------+ | FreeBSD 14.2 | PASS | SKIPPED | SKIPPED | SKIPPED | SKIPPED | +-------------------------------+--------------------+-------------------+------------------+-------------------+-------------------------+ | CentOS Stream 9 | PASS | PASS | SKIPPED | SKIPPED | SKIPPED | +-------------------------------+--------------------+-------------------+------------------+-------------------+-------------------------+ | CentOS Stream 10 | PASS | SKIPPED | SKIPPED | SKIPPED | SKIPPED | +-------------------------------+--------------------+-------------------+------------------+-------------------+-------------------------+ | Fedora Linux 42 | PASS | PASS | PASS | SKIPPED | SKIPPED | +-------------------------------+--------------------+-------------------+------------------+-------------------+-------------------------+ | openSUSE Leap 15.6 | PASS | SKIPPED | SKIPPED | SKIPPED | SKIPPED | +-------------------------------+--------------------+-------------------+------------------+-------------------+-------------------------+ | Red Hat Enterprise Linux 8.10 | PASS | SKIPPED | SKIPPED | SKIPPED | SKIPPED | +-------------------------------+--------------------+-------------------+------------------+-------------------+-------------------------+ | Ubuntu 22.04 | PASS | PASS | SKIPPED | SKIPPED | SKIPPED | +-------------------------------+--------------------+-------------------+------------------+-------------------+-------------------------+ | Alpine Linux 3.22.0 | PASS | SKIPPED | SKIPPED | SKIPPED | SKIPPED | +-------------------------------+--------------------+-------------------+------------------+-------------------+-------------------------+ | Ubuntu 24.04 | PASS | PASS | PASS | SKIPPED | SKIPPED | +-------------------------------+--------------------+-------------------+------------------+-------------------+-------------------------+ | Debian GNU/Linux 12 | PASS | PASS | SKIPPED | SKIPPED | SKIPPED | +-------------------------------+--------------------+-------------------+------------------+-------------------+-------------------------+ | Red Hat Enterprise Linux 9.5 | PASS | SKIPPED | SKIPPED | SKIPPED | SKIPPED | +-------------------------------+--------------------+-------------------+------------------+-------------------+-------------------------+ | Windows Server 2022 | SKIPPED | SKIPPED | SKIPPED | PASS | PASS | +-------------------------------+--------------------+-------------------+------------------+-------------------+-------------------------+ Ubuntu 20.04 Kernel: 4.19 Compiler: gcc gcc (Ubuntu 9.4.0-1ubuntu1~20.04.2) 9.4.0 FreeBSD 14.2 Kernel: 14.2-RELEASE Compiler: clang 18.1.6 CentOS Stream 9 Kernel: 5.15 Compiler: gcc gcc (GCC) 11.5.0 20240719 (Red Hat 11.5.0-7) CentOS Stream 10 Kernel: 5.15 Compiler: gcc gcc (GCC) 14.2.1 20250110 (Red Hat 14.2.1-8) Fedora Linux 42 Kernel: 5.15 Compiler: gcc gcc (GCC) 15.1.1 20250521 (Red Hat 15.1.1-2) openSUSE Leap 15.6 Kernel: 5.15 Compiler: gcc gcc (SUSE Linux) 7.5.0 Red Hat Enterprise Linux 8.10 Kernel: 5.15 Compiler: gcc gcc (GCC) 8.5.0 20210514 (Red Hat 8.5.0-22) Ubuntu 22.04 Kernel: 5.15 Compiler: gcc gcc (Ubuntu 11.4.0-1ubuntu1~22.04) 11.4.0 Alpine Linux 3.22.0 Kernel: 5.15 Compiler: gcc gcc (Alpine 14.2.0) 14.2.0 Ubuntu 24.04 Kernel: 5.15 Compiler: gcc gcc (Ubuntu 13.3.0-6ubuntu2~24.04) 13.3.0 Debian GNU/Linux 12 Kernel: 5.15 Compiler: gcc gcc (Debian 12.2.0-14+deb12u1) 12.2.0 Red Hat Enterprise Linux 9.5 Kernel: 5.15 Compiler: gcc gcc (GCC) 11.5.0 20240719 (Red Hat 11.5.0-2) Windows Server 2022 Kernel: 10.0.20348.2031 Compiler: clang 15.0.7, gcc 14.1.0 (MinGW), and MSVC VS 19.39.33521 To view detailed results, visit: https://lab.dpdk.org/results/dashboard/patchsets/33905/ UNH-IOL DPDK Community Lab To manage your email subscriptions, visit: https://lab.dpdk.org/results/dashboard/preferences/subscriptions/