From mboxrd@z Thu Jan 1 00:00:00 1970 Return-Path: Received: from mails.dpdk.org (mails.dpdk.org [217.70.189.124]) by inbox.dpdk.org (Postfix) with ESMTP id 3115C46D69 for ; Tue, 19 Aug 2025 21:24:58 +0200 (CEST) Received: from mails.dpdk.org (localhost [127.0.0.1]) by mails.dpdk.org (Postfix) with ESMTP id 2B23240151; Tue, 19 Aug 2025 21:24:58 +0200 (CEST) Received: from mail-qv1-f100.google.com (mail-qv1-f100.google.com [209.85.219.100]) by mails.dpdk.org (Postfix) with ESMTP id DA5BD40151 for ; Tue, 19 Aug 2025 21:24:56 +0200 (CEST) Received: by mail-qv1-f100.google.com with SMTP id 6a1803df08f44-70a88ddc000so64706586d6.0 for ; Tue, 19 Aug 2025 12:24:56 -0700 (PDT) DKIM-Signature: v=1; a=rsa-sha256; c=relaxed/relaxed; d=iol.unh.edu; s=unh-iol; t=1755631496; x=1756236296; darn=dpdk.org; h=references:in-reply-to:cc:to:from:subject:message-id:date:from:to :cc:subject:date:message-id:reply-to; bh=dDDwHJ8p+Ig254OfAA4kAhr7SSePJxunPdAG0Bam0N0=; b=iSowaUCpsIpk3GiL6+AxNWQr4dvOABKO/IUKRqgSnyZ6sw5zZWx1eSQ710i7UHxwML T8hb+L4slnBl6dXkTvFVjOYfrHgDkbw4ZQEuskIo3IKiTSLaFDgTE6PD6tSXhCULOOAS N7UjWY7dbFbXztb3JnEnnmpccV4wG0Xr0JUrM= X-Google-DKIM-Signature: v=1; a=rsa-sha256; c=relaxed/relaxed; d=1e100.net; s=20230601; t=1755631496; x=1756236296; h=references:in-reply-to:cc:to:from:subject:message-id:date :x-gm-message-state:from:to:cc:subject:date:message-id:reply-to; bh=dDDwHJ8p+Ig254OfAA4kAhr7SSePJxunPdAG0Bam0N0=; b=PArsCz2QVZegUOa32TlkqR+w9db3joEnbQT1FSaA1aHFMSarEgtGaSb/vhYk6f/Pbg YwYvH1eH0nHG+a90sjuVpxFJL1iZlDq6VniP5HQJeO1SlrHOAldQSYcQDThu8h2od0lT 27LNasqHPI+UqakFNIQDFUdEUdxswRWozjR1UER2qAyhlYm3Jmr+8DlYAjQ69NXha3tQ oJJd0G9m/VDnvXCUBxn+k0zKK6C2+Y+sI7wSj5DOU5c5GD7EtoDL9Q6GxtVJs+Hn2tZz 8lwAgIVru0MFf93lp3Dz6zm2d1+QGGpzXMOO6vTt0YuQ3T6N2Ll9pjOi7mqc/OrAxZmg EBYg== X-Gm-Message-State: AOJu0YzYPOP3c0ETFvRVp+Nk4woRfVJ9qaPOZZkUsjimdlVE7RVfJY7d 4go7zl8cYT4LvDiXOxXAYhRlkwpXzm/pKabQMr0XSZJXvLN7b9zpx//osp1G0muh4PlVWHInjyx bWJ7fXKpTBtYTnbcYyjBnhPzulVAH4Ldaj71Thscm/oSg X-Gm-Gg: ASbGnctBMfTLCqAHd9RhkO1jkFZTfxN7/OHAlKHwToa6j12s5u6rl4VWNr7M5jnz+4+ 9+N5hWdoBI+GZcr8aE7+OvOgoDU3h+oUgDc08cLlNQyIWxxPo6H7iho2N9b/pTOX8VmfKKwDegU Ps4f2+BIo7eWu1AJWfcC3bEZcnTGGFlSE5GzDkE89kga2Vc9aCZQE+XvowgrVpDVeXD4ku2mKZn nU5qSyO4+O3uBOtQjUO6nG4SBTvL2OFMCxHl0VdKvyrxX/44yNC23+FuH2BXqLADzEwP/slOiSw eUVPQTDjm7CQM0wSMlFC0yhFDt283DhJaHdpVi62JEaYyMmX4yeHgLA/+7W+7vd9iYgnTThp X-Google-Smtp-Source: AGHT+IGzLrgznlESVEWAzJTDBzkf2Rbp1Hc0SfWRCKPEEniz9Ec44SaBFVsMEAU+Fz/Osgxarp9M42XAYsSr X-Received: by 2002:a05:6214:1943:b0:70d:6df4:1afc with SMTP id 6a1803df08f44-70d7711fd04mr1939966d6.58.1755631496184; Tue, 19 Aug 2025 12:24:56 -0700 (PDT) Received: from postal.iol.unh.edu (postal.iol.unh.edu. [132.177.123.84]) by smtp-relay.gmail.com with ESMTPS id 6a1803df08f44-70ba929b8c7sm7458796d6.47.2025.08.19.12.24.56 (version=TLS1_2 cipher=ECDHE-ECDSA-AES128-GCM-SHA256 bits=128/128); Tue, 19 Aug 2025 12:24:56 -0700 (PDT) X-Relaying-Domain: iol.unh.edu Date: Tue, 19 Aug 2025 12:24:56 -0700 (PDT) Message-ID: <68a4cf88.0c0a0220.3a03bb.5ae1SMTPIN_ADDED_MISSING@mx.google.com> Received: from [172.21.0.2] (unknown [172.18.0.240]) by postal.iol.unh.edu (Postfix) with ESMTP id A38566050A61; Tue, 19 Aug 2025 15:24:55 -0400 (EDT) Subject: |SUCCESS| pw156000-156001 [PATCH] [v3,2/2] virtio: simplify use of p From: dpdklab@iol.unh.edu To: Test Report Cc: dpdk-test-reports@iol.unh.edu In-Reply-To: <20250819112521.1608207-2-bruce.richardson@intel.com> References: <20250819112521.1608207-2-bruce.richardson@intel.com> Content-Type: text/plain X-BeenThere: test-report@dpdk.org X-Mailman-Version: 2.1.29 Precedence: list List-Id: automatic DPDK test reports List-Unsubscribe: , List-Archive: List-Post: List-Help: List-Subscribe: , Errors-To: test-report-bounces@dpdk.org Test-Label: iol-compile-amd64-testing Test-Status: SUCCESS http://dpdk.org/patch/156001 _Testing PASS_ Submitter: Bruce Richardson Date: Tuesday, August 19 2025 11:25:21 DPDK git baseline: Repo:dpdk Branch: master CommitID:38543d33bd47fc0ee21f59db80a8763620741879 156000-156001 --> testing pass Upstream job id: Windows-Compile-DPDK-Native#30445 Test environment and result as below: +-------------------------------+--------------------+-------------------+------------------+-------------------+-------------------------+----------------------+ | Environment | dpdk_meson_compile | dpdk_compile_spdk | dpdk_compile_ovs | dpdk_msvc_compile | dpdk_llvm_clang_compile | dpdk_mingw64_compile | +===============================+====================+===================+==================+===================+=========================+======================+ | Ubuntu 20.04 | PASS | SKIPPED | SKIPPED | SKIPPED | SKIPPED | SKIPPED | +-------------------------------+--------------------+-------------------+------------------+-------------------+-------------------------+----------------------+ | FreeBSD 14.2 | PASS | SKIPPED | SKIPPED | SKIPPED | SKIPPED | SKIPPED | +-------------------------------+--------------------+-------------------+------------------+-------------------+-------------------------+----------------------+ | CentOS Stream 9 | PASS | PASS | SKIPPED | SKIPPED | SKIPPED | SKIPPED | +-------------------------------+--------------------+-------------------+------------------+-------------------+-------------------------+----------------------+ | CentOS Stream 10 | PASS | SKIPPED | SKIPPED | SKIPPED | SKIPPED | SKIPPED | +-------------------------------+--------------------+-------------------+------------------+-------------------+-------------------------+----------------------+ | Fedora Linux 42 | PASS | PASS | PASS | SKIPPED | SKIPPED | SKIPPED | +-------------------------------+--------------------+-------------------+------------------+-------------------+-------------------------+----------------------+ | openSUSE Leap 15.6 | PASS | SKIPPED | SKIPPED | SKIPPED | SKIPPED | SKIPPED | +-------------------------------+--------------------+-------------------+------------------+-------------------+-------------------------+----------------------+ | Red Hat Enterprise Linux 8.10 | PASS | SKIPPED | SKIPPED | SKIPPED | SKIPPED | SKIPPED | +-------------------------------+--------------------+-------------------+------------------+-------------------+-------------------------+----------------------+ | Ubuntu 22.04 | PASS | PASS | SKIPPED | SKIPPED | SKIPPED | SKIPPED | +-------------------------------+--------------------+-------------------+------------------+-------------------+-------------------------+----------------------+ | Alpine Linux 3.22.0 | PASS | SKIPPED | SKIPPED | SKIPPED | SKIPPED | SKIPPED | +-------------------------------+--------------------+-------------------+------------------+-------------------+-------------------------+----------------------+ | Ubuntu 24.04 | PASS | PASS | PASS | SKIPPED | SKIPPED | SKIPPED | +-------------------------------+--------------------+-------------------+------------------+-------------------+-------------------------+----------------------+ | Debian GNU/Linux 12 | PASS | PASS | SKIPPED | SKIPPED | SKIPPED | SKIPPED | +-------------------------------+--------------------+-------------------+------------------+-------------------+-------------------------+----------------------+ | Red Hat Enterprise Linux 9.5 | PASS | SKIPPED | SKIPPED | SKIPPED | SKIPPED | SKIPPED | +-------------------------------+--------------------+-------------------+------------------+-------------------+-------------------------+----------------------+ | Windows Server 2022 | SKIPPED | SKIPPED | SKIPPED | PASS | PASS | PASS | +-------------------------------+--------------------+-------------------+------------------+-------------------+-------------------------+----------------------+ Ubuntu 20.04 Kernel: 4.19 Compiler: gcc gcc (Ubuntu 9.4.0-1ubuntu1~20.04.2) 9.4.0 FreeBSD 14.2 Kernel: 14.2-RELEASE Compiler: clang 18.1.6 CentOS Stream 9 Kernel: 5.15 Compiler: gcc gcc (GCC) 11.5.0 20240719 (Red Hat 11.5.0-7) CentOS Stream 10 Kernel: 5.15 Compiler: gcc gcc (GCC) 14.2.1 20250110 (Red Hat 14.2.1-8) Fedora Linux 42 Kernel: 5.15 Compiler: gcc gcc (GCC) 15.1.1 20250521 (Red Hat 15.1.1-2) openSUSE Leap 15.6 Kernel: 5.15 Compiler: gcc gcc (SUSE Linux) 7.5.0 Red Hat Enterprise Linux 8.10 Kernel: 5.15 Compiler: gcc gcc (GCC) 8.5.0 20210514 (Red Hat 8.5.0-22) Ubuntu 22.04 Kernel: 5.15 Compiler: gcc gcc (Ubuntu 11.4.0-1ubuntu1~22.04) 11.4.0 Alpine Linux 3.22.0 Kernel: 5.15 Compiler: gcc gcc (Alpine 14.2.0) 14.2.0 Ubuntu 24.04 Kernel: 5.15 Compiler: gcc gcc (Ubuntu 13.3.0-6ubuntu2~24.04) 13.3.0 Debian GNU/Linux 12 Kernel: 5.15 Compiler: gcc gcc (Debian 12.2.0-14+deb12u1) 12.2.0 Red Hat Enterprise Linux 9.5 Kernel: 5.15 Compiler: gcc gcc (GCC) 11.5.0 20240719 (Red Hat 11.5.0-2) Windows Server 2022 Kernel: 10.0.20348.2031 Compiler: clang 15.0.7, gcc 14.1.0 (MinGW), and MSVC VS 19.39.33521 To view detailed results, visit: https://lab.dpdk.org/results/dashboard/patchsets/33905/ UNH-IOL DPDK Community Lab To manage your email subscriptions, visit: https://lab.dpdk.org/results/dashboard/preferences/subscriptions/